BEGIN:VCALENDAR
VERSION:2.0
PRODID:-//AFSSI Sciences de la Vie - ECPv5.14.1//NONSGML v1.0//EN
CALSCALE:GREGORIAN
METHOD:PUBLISH
X-WR-CALNAME:AFSSI Sciences de la Vie
X-ORIGINAL-URL:https://www.afssi.fr
X-WR-CALDESC:Events for AFSSI Sciences de la Vie
REFRESH-INTERVAL;VALUE=DURATION:PT1H
X-Robots-Tag:noindex
X-PUBLISHED-TTL:PT1H
BEGIN:VTIMEZONE
TZID:Europe/Paris
BEGIN:DAYLIGHT
TZOFFSETFROM:+0100
TZOFFSETTO:+0200
TZNAME:CEST
DTSTART:20260329T010000
END:DAYLIGHT
BEGIN:STANDARD
TZOFFSETFROM:+0200
TZOFFSETTO:+0100
TZNAME:CET
DTSTART:20261025T010000
END:STANDARD
END:VTIMEZONE
BEGIN:VEVENT
DTSTART;TZID=Europe/Paris:20260305T090000
DTEND;TZID=Europe/Paris:20260305T170000
DTSTAMP:20260421T141310
CREATED:20260219T150656Z
LAST-MODIFIED:20260219T150656Z
UID:396878-1772701200-1772730000@www.afssi.fr
SUMMARY:Biotech Community Day in the Alps 2026
DESCRIPTION:Biotech Community Day in the Alps 2026\nLe 5 mars 2026 à Archamps\nLe Biotech Community Day in the Alps revient pour sa 4ᵉ édition\, organisé par notre partenaire MEDICALPS et son partenaire expert ArchParc. \nCet événement rassemble les acteurs de la biotechnologie\, de la santé et de la data autour des enjeux liés à l’exploitation des données\, de la phase de discovery jusqu’au patient. Une journée dédiée au partage d’expertises\, aux retours d’expérience et au networking entre professionnels du secteur. \n\nTHÈME 2026\n« Les Data et la BioTech : de la discovery au patient » \nGRAND TÉMOIN\nIntervention de Jean‑Guillaume Lafay\, CEO de Norfoalk et ancien CEO de Mablink Bioscience. \nINFORMATIONS PRATIQUES\nDate : Jeudi 5 mars 2026Horaires : 9h00 – 17h00Lieu : Centre de Convention by ArchParc \nFORMAT DE L’ÉVÈNEMENT\n\nConférences et tables rondes d’experts\nRetours d’expérience industriels et cliniques\nSessions dédiées aux données pré-cliniques et cliniques\nNetworking & buffet\nÉchanges avec les acteurs clés de l’écosystème biotech / pharma\n\nAU PROGRAMME\n🔎 Données pré-cliniques (Matin) \n\nVision Biotechs / Pharma : AIS Biotech\, Sanofi\, Gencovery\nVision CRO : Charles River Laboratories\, TransCure bioServices\nProtection de la propriété intellectuelle : Regimbeau\nPartage de données Biotech / Pharma\n\n🤝 Networking & buffet \n🧬 Données cliniques (Après-midi) \n\nAccès aux données hospitalières : CHU Grenoble Alpes\nCadre juridique européen : Clémence Bolla\nRetour d’expérience d’une biotech en phase clinique\n\nINSCRIPTIONS\nInscrivez-vous dès maintenant et ne ratez pas le Forum LABO 2026 ! \nParticipez !\n \n \n  \n 
URL:https://www.afssi.fr/event/biotech-community-day-in-the-alps-2026/
LOCATION:Archamps\, France
CATEGORIES:Evénement filière,Evénement partenaire
ATTACH;FMTTYPE=image/webp:https://www.afssi.fr/wp-content/uploads/2026/02/Biotech-Community-Day.webp
END:VEVENT
BEGIN:VEVENT
DTSTART;VALUE=DATE:20260310
DTEND;VALUE=DATE:20260312
DTSTAMP:20260421T141310
CREATED:20260216T155851Z
LAST-MODIFIED:20260216T155851Z
UID:396508-1773100800-1773273599@www.afssi.fr
SUMMARY:Forum LABO Lyon 2026
DESCRIPTION:Forum LABO Lyon 2026\nLes 10 et 11 mars 2026 à Lyon\nForum LABO est le rendez-vous majeur des professionnels de la filière des laboratoires\, dédié à la Recherche\, à la Production et au Contrôle. L’événement rassemble les acteurs de la R&D\, des biotechnologies\, de la pharmacie et de l’industrie de santé autour des innovations technologiques et scientifiques du secteur. \nPour son édition lyonnaise 2026\, Forum LABO réunira l’ensemble de l’écosystème laboratoire et mettra notamment en lumière les enjeux liés à l’Intelligence Artificielle. \n\nFORMAT DE L’ÉVÈNEMENT\n\nUn espace exposition avec 260 exposants\n3 300 visiteurs attendus\nPlus de 30 conférences techniques et scientifiques\nDes tables rondes thématiques\, dont une conférence d’ouverture consacrée à l’IA\nDes ateliers exposants et démonstrations\n🆕 Un Village « Service-Innovation » rassemblant organisations professionnelles\, sociétés savantes\, incubateurs et pôles de compétitivité\n\nTEMPS FORTS 2026\n\nIntervention d’Adama Ouattara\, Speaker pour Gencovery et membre de l’AFSSI\, lors de la table ronde dédiée à l’Intelligence Artificielle en conférence d’ouverture\nGencovery exposant et animateur d’un atelier\nPrésentation du projet CROImpulse\n\n  \nDécouvrez le programme\nCHIFFRES-CLÉS du Forum LABO\n\n260 exposants\n3 300 visiteurs attendus\n30+ conférences\n\n  \nINSCRIPTIONS\nInscrivez-vous dès maintenant et ne ratez pas le Forum LABO 2026 ! \nParticipez !\n \n \n  \n 
URL:https://www.afssi.fr/event/forum-labo-lyon-2026/
LOCATION:Lyon\, France
CATEGORIES:Evénement filière,Evénement partenaire
ATTACH;FMTTYPE=image/png:https://www.afssi.fr/wp-content/uploads/2026/02/forum-labo.png
END:VEVENT
BEGIN:VEVENT
DTSTART;TZID=Europe/Paris:20260310T150000
DTEND;TZID=Europe/Paris:20260310T153000
DTSTAMP:20260421T141310
CREATED:20251124T150311Z
LAST-MODIFIED:20260226T083747Z
UID:389643-1773154800-1773156600@www.afssi.fr
SUMMARY:Webinaire - Les membres AFSSI ont la parole : G.CLIPS Biotech
DESCRIPTION:InscriptionWebinaire – Présentation de membres AFSSI nous ayant récemment rejoint : G.CLIPS Biotech \nDans le cadre de la série de Webinaires « Les membres AFSSI ont la parole »\, nous mettons à l’honneur nos membres et leurs expertises. Découvrez sur cette session G.CLIPS Biotech.\nInscription\n \n\n \n\n\n\n\nRosie DAWALIBY\nCo-founder & CEO\, G.CLIPS biotech\n\n\n\n\n\n  \nAu programme de ce webinaire\nPrésentation de G.CLIPS BIOTECH\nG.CLIPS Biotech a créé la première technologie permettant de révéler le potentiel des médicaments et des anticorps candidats en utilisant des cibles dans un format semblable à celui de la pathologie. La plateforme G.Screen® de la société est une technologie unique qui permet d’exprimer\, de stabiliser\, de sélectionner et de valider des protéines en tant que cibles\, ainsi que d’établir le profil pharmacologique in vitro des candidats-médicaments et de l’engagement des cibles. G.CLIPS fournit des services sur mesure aux entreprises pharmaceutiques\, biotechnologiques et de santé animale. \n  \n\nInscription\n  \n 
URL:https://www.afssi.fr/event/webinaire-les-membres-afssi-ont-la-parole-g-clips-biotech/
LOCATION:Format digital
CATEGORIES:Evénement AFSSI,Webinaire membres
ATTACH;FMTTYPE=image/png:https://www.afssi.fr/wp-content/uploads/2025/11/Copie-de-20260203-Kortexia-gclips-biotech.png
ORGANIZER;CN="AFSSI":MAILTO:event@afssi.fr
END:VEVENT
BEGIN:VEVENT
DTSTART;TZID=Europe/Paris:20260317T150000
DTEND;TZID=Europe/Paris:20260317T160000
DTSTAMP:20260421T141310
CREATED:20260212T114930Z
LAST-MODIFIED:20260212T114930Z
UID:395356-1773759600-1773763200@www.afssi.fr
SUMMARY:Webinaire - Partenaires-Experts : Cézame Connexions
DESCRIPTION:InscriptionWebinaire Cézame Connexions – Transformer votre expertise en RDV qualifiés : la méthode simple (et tenable) des sociétés de services et d'innovation \nDans le cadre d’un webinaire partenaire expert\, nous mettons à l’honneur Cézame Connexions\, expert de la prospection commerciale B2B dédiée aux secteurs des sciences de la vie et des technologies.\nInscription\n \n\n\n\n\n\nClaire CUDREY\nFondatrice & CEO – Cézame Connexions\n\n\n\n\n\n\n\n\nCéline PAILLIER\nDirectrice Générale – Cézame Connexions\n\n\n\n\n\n  \nAu programme de ce webinaire\nPrésentation de Cézame Connexions :\n\nDepuis 2005\, Cézame Connexions conjugue expérience commerciale et expertise scientifique pour accompagner la croissance des entreprises proposant des solutions technologiques en B2B. \nLors de ce webinaire\, les intervenantes partageront leur expérience terrain et aborderont notamment : \n\nLes problématiques récurrentes rencontrées en prospection B2B\nLes leviers pour mieux cibler et prioriser vos comptes\nLes clés pour structurer une démarche de prospection efficace\n\n  \nL’objectif de ce webinaire\nDans un contexte de vente complexe — cycles longs\, multiplicité des décideurs\, manque de lisibilité du pipeline — ce webinaire a pour objectif de vous donner une méthode claire\, simple et durable pour : \n\nTransformer votre expertise en rendez-vous qualifiés\nStructurer une démarche de prospection plus lisible\nConstruire un pipeline solide et pérenne\n\n\nInscription\n  \n 
URL:https://www.afssi.fr/event/webinaire-les-membres-afssi-ont-la-parole-cezame-connexions/
LOCATION:Format digital
CATEGORIES:Evénement AFSSI,Webinar
ATTACH;FMTTYPE=image/png:https://www.afssi.fr/wp-content/uploads/2026/02/20260317-webinaire-expert-Cezme-Connexions.png
ORGANIZER;CN="AFSSI":MAILTO:event@afssi.fr
END:VEVENT
BEGIN:VEVENT
DTSTART;TZID=Europe/Paris:20260326T150000
DTEND;TZID=Europe/Paris:20260326T160000
DTSTAMP:20260421T141310
CREATED:20260217T111436Z
LAST-MODIFIED:20260217T111436Z
UID:396584-1774537200-1774540800@www.afssi.fr
SUMMARY:Webinaire - Les membres AFSSI ont la parole : Présentation de l’initiative CROPulse
DESCRIPTION:InscriptionWebinaire – Présentation de membres AFSSI : Focus sur l’initiative CROPulse \nDans le cadre de la série de webinaires « Les membres AFSSI ont la parole »\, nous mettons à l’honneur une initiative structurante pour l’avenir des CROs non cliniques : CROPulse. Cette session sera l’occasion de découvrir une plateforme innovante pensée pour accompagner la transformation digitale du secteur.\nInscription\n \n\n\n\n\nAdama OUATTARA\nCo-founder & CEO\, GENCOVERY\n\n\n\n\n\n\n\n\n\n\nMaxime FONTANIÉ\nCEO\, VIBIOSPHEN\n\n\n\n\n\n\n\n\nSébastien TABRUYN\nCEO\, TransCure bioServices\n\n\n\n\n\n \n\n\n  \nAu programme de ce webinaire\nContexteDans un environnement marqué par la fragmentation des écosystèmes\, l’explosion des volumes de données et la pression croissante de l’IA et des NAMs\, les CROs doivent accélérer et structurer leur transformation numérique. \nPrésentation de CROPulseCROPulse est une plateforme numérique souveraine de confiance conçue pour accompagner la digitalisation progressive et maîtrisée des CROs. Elle s’articule autour de cinq paliers de transformation permettant d’adapter le rythme d’évolution aux besoins des organisations. \nCas d’usage & retours terrainUn focus sera proposé sur les expériences concrètes de TransCure bioServices et Vibiosphen\, illustrant les bénéfices opérationnels et scientifiques de la plateforme. \nModèle économique & gouvernanceLa plateforme repose sur un modèle mutualisé favorisant le partage de la valeur\, avec une structuration en entreprise à mission. \n  \n\nInscription\n  \n 
URL:https://www.afssi.fr/event/webinaire-les-membres-afssi-ont-la-parole-presentation-de-linitiative-cropulse/
LOCATION:Format digital
CATEGORIES:Evénement AFSSI,Webinaire membres
ATTACH;FMTTYPE=image/png:https://www.afssi.fr/wp-content/uploads/2026/02/20260326_WebinaireMembresAFSSI-CROPulse.png
ORGANIZER;CN="AFSSI":MAILTO:event@afssi.fr
END:VEVENT
END:VCALENDAR