BEGIN:VCALENDAR
VERSION:2.0
PRODID:-//AFSSI Sciences de la Vie - ECPv5.14.1//NONSGML v1.0//EN
CALSCALE:GREGORIAN
METHOD:PUBLISH
X-WR-CALNAME:AFSSI Sciences de la Vie
X-ORIGINAL-URL:https://www.afssi.fr
X-WR-CALDESC:Events for AFSSI Sciences de la Vie
REFRESH-INTERVAL;VALUE=DURATION:PT1H
X-Robots-Tag:noindex
X-PUBLISHED-TTL:PT1H
BEGIN:VTIMEZONE
TZID:Europe/Paris
BEGIN:DAYLIGHT
TZOFFSETFROM:+0100
TZOFFSETTO:+0200
TZNAME:CEST
DTSTART:20240331T010000
END:DAYLIGHT
BEGIN:STANDARD
TZOFFSETFROM:+0200
TZOFFSETTO:+0100
TZNAME:CET
DTSTART:20241027T010000
END:STANDARD
END:VTIMEZONE
BEGIN:VEVENT
DTSTART;VALUE=DATE:20241106
DTEND;VALUE=DATE:20241108
DTSTAMP:20260426T052118
CREATED:20240124T104519Z
LAST-MODIFIED:20240221T113225Z
UID:261104-1730851200-1731023999@www.afssi.fr
SUMMARY:International Summit on Biotechnology and Biomedical Engineering 2024
DESCRIPTION:ScitechSeries proudly presents that allows you to participate at Boston\, USA\, from your home or workplace.\nInternational Summit on Biotechnology and Biomedical Engineering from November 06-07\, 2024 the focus is on Crafting Health: The Role of Biotechnology and Biomedical Engineering in Wellness\nInternational Summit on Biotechnology and Biomedical Engineering serves as a pivotal gathering aimed at providing attendees with invaluable global tools and guidance. It functions as a catalyst for building robust communities that extend across the globe\, fostering collaboration in the realms of worldwide education\, research\, and heightened awareness concerning in the field of biotechnology .This summit stands as a distinguished global platform\, facilitating the seamless sharing of ideas\, knowledge\, and innovative solutions spanning various countries and specialties. \nFor more information  \n  \n 
URL:https://www.afssi.fr/event/international-summit-on-biotechnology-and-biomedical-engineering-2024/
LOCATION:Boston\, United States
CATEGORIES:Evénement filière
ATTACH;FMTTYPE=image/png:https://www.afssi.fr/wp-content/uploads/2024/01/ISBB-.png
END:VEVENT
BEGIN:VEVENT
DTSTART;TZID=Europe/Paris:20241107T090000
DTEND;TZID=Europe/Paris:20241107T110000
DTSTAMP:20260426T052118
CREATED:20240923T153834Z
LAST-MODIFIED:20240923T153834Z
UID:316219-1730970000-1730977200@www.afssi.fr
SUMMARY:Les nouveaux acteurs des Biothérapies
DESCRIPTION:LES NOUVEAUX ACTEURS DES BIOTHERAPIES\nVenez rencontrer les scientifiques les plus innovants dans le domaine des biothérapies le 7 novembre 2024 de 9h à 11h à Paris ! \nStart-up\, industriels et scientifiques vous présenteront leurs innovations à l’occasion d’une série de pitchs et d’entretiens. Les nouvelles voies thérapeutiques en développement et les principales maladies ciblées par ces nouvelles biothérapies seront abordées. \nUne table-ronde sera ensuite consacrée aux enjeux de la bioproduction en France. Vous y explorerez les freins à l’essor de l’industrialisation de ces solutions\, et les moyens mis en œuvre par le secteur public comme privé pour les surmonter. \nAu programme :\n\n9h – Mot de bienvenue par POC Média et l’Agence de l’innovation en santé\n9h15 – Pitch de start-up\n9h45 – Grand entretien Industrie avec Servier\n10h – Table ronde « Comment lever les freins de la bioproduction en France ? »\n\n\nCommuniquez sur vos solutions\nCette Matinale est une occasion unique pour présenter vos solutions devant une audience qualifiée de professionnels de la santé et des biotechnologies.\nVous développez une solution de biothérapies ou des équipements de bioproduction ?\nVous souhaitez faire connaître vos produits et vos expertises auprès de professionnels du secteur ? \nIdentifiez la meilleure façon de présenter vos solutions. \nJe souhaite communiquer\n  \n\n  \nVous préférez assister à l’événement en distance ? Un lien de connexion vous sera envoyé avant l’événement. \nS’INSCRIRE\n 
URL:https://www.afssi.fr/event/les-nouveaux-acteurs-des-biotherapies/
LOCATION:Parisanté Campus\, 2-10 rue d'Oradour-sur-Glane\, Paris\, 75015
CATEGORIES:Evénement filière
ATTACH;FMTTYPE=image/png:https://www.afssi.fr/wp-content/uploads/2024/09/les-nouveaux-acteurs-de-la-biotherapie.png
END:VEVENT
BEGIN:VEVENT
DTSTART;TZID=Europe/Paris:20241107T150000
DTEND;TZID=Europe/Paris:20241107T160000
DTSTAMP:20260426T052118
CREATED:20240828T141742Z
LAST-MODIFIED:20241008T073218Z
UID:308180-1730991600-1730995200@www.afssi.fr
SUMMARY:Webinaire - Les membres AFSSI ont la parole : Antineo et Research PIECES
DESCRIPTION:InscriptionWebinaire – Présentation en une heure de Antinéo et Research PIECES \nDans le cadre de la série de Webinaires « Les membres AFSSI ont la parole »\, nous mettons à l’honneur nos membres et leurs expertises. Découvrez sur cette session Antineo et Research PIECES.\nInscription\n \n\n\n\n\n\n\nRenaud MARIN-SIDGWICK\nCEO\, Antineo\n\n\n\n\n\n\n\n\n\nAmandine ROUX\nPrésidente\, Research PIECES\n\n\n\n\n\n\n  \nAu programme de ce webinaire\n\n\n\nPrésentation d’Antineo– 20 minutes\n\n\n\nAntineo est une organisation de recherche contractuelle privée fondée en 2015. Ils fournissent une expertise et des services précliniques aux entreprises privées et aux institutions universitaires dans le domaine de l’oncologie. \n\nQuestions et réponses\n\n  \n\nPrésentation de Research PIECES– 20 minutes\n\nResearch PIECES propose des modèles biologiques innovants permettant de disséquer\, d’approfondir les mécanismes tissulaires\, cellulaires et moléculaires pour comprendre la physiologie du Système Nerveux Central et guérir les maladies neurologiques. \n\nQuestions et réponses\n\n  \n\nInscription
URL:https://www.afssi.fr/event/webinaire-les-membres-afssi-ont-la-parole-antineo-et-research-pieces/
LOCATION:Format digital
CATEGORIES:Evénement AFSSI,Webinaire membres
ATTACH;FMTTYPE=image/png:https://www.afssi.fr/wp-content/uploads/2024/08/20241107_Webinaire-1.png
ORGANIZER;CN="AFSSI":MAILTO:event@afssi.fr
END:VEVENT
END:VCALENDAR