BEGIN:VCALENDAR
VERSION:2.0
PRODID:-//AFSSI Sciences de la Vie - ECPv5.14.1//NONSGML v1.0//EN
CALSCALE:GREGORIAN
METHOD:PUBLISH
X-WR-CALNAME:AFSSI Sciences de la Vie
X-ORIGINAL-URL:https://www.afssi.fr
X-WR-CALDESC:Events for AFSSI Sciences de la Vie
REFRESH-INTERVAL;VALUE=DURATION:PT1H
X-Robots-Tag:noindex
X-PUBLISHED-TTL:PT1H
BEGIN:VTIMEZONE
TZID:Europe/Paris
BEGIN:DAYLIGHT
TZOFFSETFROM:+0100
TZOFFSETTO:+0200
TZNAME:CEST
DTSTART:20230326T010000
END:DAYLIGHT
BEGIN:STANDARD
TZOFFSETFROM:+0200
TZOFFSETTO:+0100
TZNAME:CET
DTSTART:20231029T010000
END:STANDARD
END:VTIMEZONE
BEGIN:VEVENT
DTSTART;TZID=Europe/Paris:20230112T093000
DTEND;TZID=Europe/Paris:20230112T180000
DTSTAMP:20260426T032740
CREATED:20221206T085021Z
LAST-MODIFIED:20230105T084832Z
UID:178990-1673515800-1673546400@www.afssi.fr
SUMMARY:Adebiotech Campus + Assemblée Générale - 12 janvier 2023
DESCRIPTION:Au programme de cette journée :\n\nAdebiotech Campus\, 9h30 – 17h\nAssemblée Générale\, 17h – 18h\n\nL’événement est réservé aux membres Adebiotech. Cependant\, si vous vous intéressez aux actions d’Adebiotech\, vous pouvez vous inscrire et contacter en parallèle Sylvio Bengio (sylvio.bengio@adebiotech.org) pour annoncer votre venue ! \nInscription\nLimite d’inscription le vendredi 6 janvier
URL:https://www.afssi.fr/event/adebiotech-campus-assemblee-generale/
CATEGORIES:Evénement partenaire
ATTACH;FMTTYPE=image/png:https://www.afssi.fr/wp-content/uploads/2022/12/banner-event-adebiotech.png
END:VEVENT
END:VCALENDAR