BEGIN:VCALENDAR
VERSION:2.0
PRODID:-//AFSSI Sciences de la Vie - ECPv5.14.1//NONSGML v1.0//EN
CALSCALE:GREGORIAN
METHOD:PUBLISH
X-WR-CALNAME:AFSSI Sciences de la Vie
X-ORIGINAL-URL:https://www.afssi.fr
X-WR-CALDESC:Events for AFSSI Sciences de la Vie
REFRESH-INTERVAL;VALUE=DURATION:PT1H
X-Robots-Tag:noindex
X-PUBLISHED-TTL:PT1H
BEGIN:VTIMEZONE
TZID:Europe/Paris
BEGIN:DAYLIGHT
TZOFFSETFROM:+0100
TZOFFSETTO:+0200
TZNAME:CEST
DTSTART:20220327T010000
END:DAYLIGHT
BEGIN:STANDARD
TZOFFSETFROM:+0200
TZOFFSETTO:+0100
TZNAME:CET
DTSTART:20221030T010000
END:STANDARD
END:VTIMEZONE
BEGIN:VEVENT
DTSTART;TZID=Europe/Paris:20220519T160000
DTEND;TZID=Europe/Paris:20220619T235900
DTSTAMP:20260425T173521
CREATED:20220511T093130Z
LAST-MODIFIED:20220511T101850Z
UID:160266-1652976000-1655683140@www.afssi.fr
SUMMARY:Imactiv-3D
DESCRIPTION:L’intelligence artificielle est un sujet d’actualité !\n\nRejoignez-nous le 19 mai à 16h pour en savoir plus sur l’intelligence artificielle et ce qu’elle peut apporter à l’analyse des images de microscopie. \nCe webinaire fournit des exemples sortis de laboratoires où l’IA est en action\, démontrant aux biologistes et aux microscopistes comment elle peut relever des défis scientifiques et accélérer les études biologiques. \nCe webinaire répondra à ces questions : \n\nQu’est-ce que l’intelligence artificielle ?\nComment fonctionne un réseau neuronal ?\nComment utiliser l’IA pour l’analyse d’images biologiques ?\nComment combiner l’IA avec d’autres techniques de traitement d’images ?\n\nLes intervenants :\n\nRenaud Morin\, phD : Il travaille chez Imactiv-3D en tant que chef de projet. Expert en traitement d’images\, il introduira ce webinaire en présentant les défis rencontrés pour résoudre des problèmes biologiques.\nClément Cazorla\, Doctorant chez Imactiv-3D : Clément apporte son expertise en intelligence artificielle au traitement d’image. Il expliquera ce qu’est l’IA et comment elle fonctionne avant de présenter différentes études de cas.\n\nLa présentation sera illustrée par des études de cas\, et sera en anglais. Elle sera suivie d’une session de questions-réponses. \nN’hésitez pas à inviter et à partager cet événement avec vos contacts qui pourraient être intéressés ! \n  \nS’inscrire
URL:https://www.afssi.fr/event/imactiv-3d-webinar/
LOCATION:online\, https://us06web.zoom.us/webinar/register/5616514983817/WN_QO48uL85R4yVHm--5nRtjg\, France
CATEGORIES:Evénement AFSSI,Evénement filière,Webinar
ATTACH;FMTTYPE=image/png:https://www.afssi.fr/wp-content/uploads/2022/05/banner-event-webinar-imactiv.png
END:VEVENT
BEGIN:VEVENT
DTSTART;VALUE=DATE:20220601
DTEND;VALUE=DATE:20220603
DTSTAMP:20260425T173521
CREATED:20210226T085900Z
LAST-MODIFIED:20220218T081957Z
UID:112115-1654041600-1654214399@www.afssi.fr
SUMMARY:Journées POLEPHARMA du Biotesting - 3ème édition
DESCRIPTION:Stratégies analytiques avancées pour accélérer le développement des biothérapies\n\n\n\n\nLa 3ème édition des Journées POLEPHARMA du Biotesting se tiendra les 1 et 2 juin  2022.\n\n\n\n\n\nRendez-vous annuel incontournable et véritable « Think Tank » du Biotesting\, la 3ème édition des Journées POLEPHARMA du Biotesting aura lieu les 1 et 2 juin 2022 sous la présidence d’ Olivier MAURION\, Head of Analytical Expertise Center\, Gene Therapy chez YPOSKESI. \nLes Journées POLEPHARMA du Biotesting ont pour objectif de réunir plus de 180 décideurs et acteurs de la recherche académique et clinique\, de startups\, biotechs et d’industries pharma pour évoquer les enjeux du Biotesting et remonter les besoins industriels autour des stratégies analytiques avancées pour accélérer le développement et la mise sur le marché des biothérapies. \n\n\nEn savoir plus
URL:https://www.afssi.fr/event/journees-polepharma-du-biotesting-3e-edition/
LOCATION:Palais des Congrès d’Evreux\, 1 Bis bd Normandie\, Évreux\, 27000\, France
CATEGORIES:Evénement filière
ATTACH;FMTTYPE=image/jpeg:https://www.afssi.fr/wp-content/uploads/2021/02/journee-polepharma-3-e-edition.jpg
ORGANIZER;CN="Polepharma":MAILTO:contact@polepharma.com
END:VEVENT
BEGIN:VEVENT
DTSTART;VALUE=DATE:20220603
DTEND;VALUE=DATE:20220608
DTSTAMP:20260425T173521
CREATED:20220128T142033Z
LAST-MODIFIED:20220128T142033Z
UID:151674-1654214400-1654646399@www.afssi.fr
SUMMARY:Réunion annuelle ASCO 2022
DESCRIPTION:Réunion de l’American Society of Clinical Oncology\, qui se tiendra du 3 au 7 juin 2022. \nL’engagement de l’ASCO – qui cherche à vaincre le cancer – est de favoriser le partage de connaissances au sein de la communauté mondiale de l’oncologie\, afin de promouvoir la prestation de soins anticancéreux équitables et de haute qualité. \nLa plate-forme fournira aux participants un accès en direct et à la demande à des présentations et des diapositives de recherche scientifique. \nL’expérience de réunion en personne ou en ligne offrira des opportunités de s’engager et d’apprendre auprès des leaders d’opinion en oncologie du monde entier. Les participants bénéficieront également de questions/réponses en direct lors de sessions clés. \n  \nDate limite d’inscription : le 27 avril 2022 \n Inscription \n 
URL:https://www.afssi.fr/event/reunion-annuelle-asco-2022/
LOCATION:hybride
CATEGORIES:Evénement filière
ATTACH;FMTTYPE=image/png:https://www.afssi.fr/wp-content/uploads/2022/01/ASCO-2022.png
END:VEVENT
BEGIN:VEVENT
DTSTART;TZID=Europe/Paris:20220609T150000
DTEND;TZID=Europe/Paris:20220609T160000
DTSTAMP:20260425T173521
CREATED:20220608T141939Z
LAST-MODIFIED:20220608T143231Z
UID:162064-1654786800-1654790400@www.afssi.fr
SUMMARY:Webinaire AtlanChim Pharma 9 juin : O- et N-Méthylation : comment faire (et mieux) sans iodure de méthyle ?
DESCRIPTION:Ce nouveau webinaire AtlanChim Pharma portera sur une transformation très importante : les réactions de méthylation des alcools et des amines autres que celles employant de l’iodure de méthyle ? \nNous en discuterons à travers une série d’exemples récents\, principalement en chimie médicinale\, avec l’utilisation d’autres agents de méthylation : diméthyle sulfate\, triflate de méthyle\, tosylate de méthyle\, diméthyle carbonate\, N\,N-Diméthylformamide diméthyl acétal\, etc… \nInscription\n 
URL:https://www.afssi.fr/event/webinaire-atlanchim-pharma-9-juin-o-et-n-methylation-comment-faire-et-mieux-sans-iodure-de-methyle/
LOCATION:Format digital
CATEGORIES:Evénement partenaire
ATTACH;FMTTYPE=image/gif:https://www.afssi.fr/wp-content/uploads/2022/06/20220609-webinaire-AtlanChim.gif
END:VEVENT
BEGIN:VEVENT
DTSTART;VALUE=DATE:20220613
DTEND;VALUE=DATE:20220617
DTSTAMP:20260425T173521
CREATED:20220131T155040Z
LAST-MODIFIED:20220131T155040Z
UID:151858-1655078400-1655423999@www.afssi.fr
SUMMARY:BIO International Convention 2022
DESCRIPTION:BIO Digital est le plus grand événement de partenariat et d’éducation en biotechnologie au monde\, réunissant des milliers de leaders et d’innovateurs mondiaux dans le domaine de la biotechnologie. BIO Digital 2022 réunira des dirigeants de tout l’écosystème biotechnologique pour une expérience réinventée. \n  \n\n\n\n\n\n\n Inscription
URL:https://www.afssi.fr/event/bio-international-convention-2022/
LOCATION:San DIego\, California\, USA
CATEGORIES:Evénement filière
ATTACH;FMTTYPE=image/jpeg:https://www.afssi.fr/wp-content/uploads/2022/01/BIO-International-Convention-2022.jpg
END:VEVENT
BEGIN:VEVENT
DTSTART;TZID=Europe/Paris:20220614T100000
DTEND;TZID=Europe/Paris:20220614T123000
DTSTAMP:20260425T173521
CREATED:20220530T090425Z
LAST-MODIFIED:20220530T090425Z
UID:161344-1655200800-1655209800@www.afssi.fr
SUMMARY:Webinaire Adebiotech 14 juin - Produits de Nutrition et Santé : Science\, Marchés et Réglementations
DESCRIPTION:Au programme de ce webinaire :\n\nElodie FRANCOIS\, Pharmanagment development\nGéraldine KUHN\, Phileo\nRozenn RAVALLEC\, Institut Charles Viollette\nCoralie VERGARA\, Biofortis\nVéronique BRUN\, Ingredia\n\nQuestions/Réponses\nInscription\n 
URL:https://www.afssi.fr/event/webinaire-adebiotech-14-juin-produits-de-nutrition-et-sante-science-marches-et-reglementations/
LOCATION:Format digital
CATEGORIES:Evénement partenaire
ATTACH;FMTTYPE=image/png:https://www.afssi.fr/wp-content/uploads/2022/05/banner-event14juin-Adebiotech.png
END:VEVENT
BEGIN:VEVENT
DTSTART;VALUE=DATE:20220615
DTEND;VALUE=DATE:20220616
DTSTAMP:20260425T173521
CREATED:20220518T071017Z
LAST-MODIFIED:20220518T072513Z
UID:160624-1655251200-1655337599@www.afssi.fr
SUMMARY:Joël VACUS participe à l’Ecole d’été organisée par Health and Therapeutic Innovation de l’Université Paris-Saclay
DESCRIPTION:Pour la deuxième fois\, l’Objet Interdisciplinaire Health and Therapeutic Innovation (HEALTHI) de l’Université Paris-Saclay organise l’Ecole d’été. Au cours de deux journées et demie\, plusieurs intervenants du domaine font un point sur les phases du développement des médicaments innovants. \nParmi eux\, Joël VACUS\, Vice-Président de l’AFSSI met en lumière les PME et métiers du secteur de la recherche préclinique. \n  \nJoël VACUS promeut les métiers de l’AFSSI\nLe Vice-Président de l’AFSSI\, Joël VACUS\, interviendra le 15 juin lors de la table-ronde de l’Ecole d’été Health and Therapeutic Innovation. Il promouvra les emplois de notre secteur et leurs évolutions tout en mettant en lumière les PME de l’AFSSI. \nJoël VACUS conseillera les doctorants pour leur future recherche d’emploi et le processus de recrutement dans le secteur de la recherche préclinique. Il exprimera aussi les besoins des différents acteurs du domaine. \nAu travers de son intervention prochaine\, le Vice-Président de l’AFSSI souhaite répondre aux enjeux du recrutement et initier des actions de visibilité pour faciliter le recrutement de nos sociétés. L’AFSSI est le pilier de l’innovation scientifique et doit devenir la référence des étudiants du secteur. \n  \nL’Ecole d’été par Health and Therapeutic Innovation de l’Université Paris-Saclay\nDu 13 au 15 juin 2022 se déroulera l’Ecole d’été d’Health and Therapeutic Innovation au Domaine de Saint-Paul à Saint-Rémy-Lès-Chevreuse. \nAu cours de ces deux journées et demie de table-ronde\, doctorants\, post-doctorants\, chercheurs et enseignants-chercheurs se retrouveront pour échanger avec des intervenants du domaine et faire le point sur les phases du développement de médicaments innovants. \nAu programme cet été :\n\nà partir de molécules thérapeutiques et des vaccins ARN\nutilisation de la modélisation\, de l’intelligence artificielle et des modèles animaux\nl’impact du microbiote intestinal et l’évaluation économique\nl’entrepreneuriat et les start-ups\nle recrutement et métiers du médicament
URL:https://www.afssi.fr/event/joel-vacus-participe-a-lecole-dete-de-luniversite-paris-saclay/
LOCATION:Domaine de Saint-Paul\, 102 Rte de Limours Bâtiment A3\, Saint-Rémy-lès-Chevreuse\, 78470\, France
CATEGORIES:Evénement filière
ATTACH;FMTTYPE=image/png:https://www.afssi.fr/wp-content/uploads/2022/05/banner_event_EcoleEte_2022.png
END:VEVENT
BEGIN:VEVENT
DTSTART;VALUE=DATE:20220620
DTEND;VALUE=DATE:20220624
DTSTAMP:20260425T173521
CREATED:20220131T092855Z
LAST-MODIFIED:20220131T092855Z
UID:151831-1655683200-1656028799@www.afssi.fr
SUMMARY:Congrès de l'EACR : Innovative Cancer Science 2022
DESCRIPTION:EACR 2022 est un congrès virtuel de quatre jours dédié à la recherche fondamentale\, préclinique et translationnelle sur le cancer et sur un large éventail de sujets. Il mettra en lumière les dernières recherches et rassemblera la communauté de la recherche sur le cancer pour inspirer l’innovation et bâtir des connaissances\, des liens et des collaborations. \nÀ propos du Congrès virtuel\nLe congrès virtuel EACR 2022 offrira toutes les excellentes opportunités scientifiques et de réseautage attendues du congrès EACR dans des sessions en direct et à la demande. \n\nLes participants peuvent profiter d’ expériences en direct interactives et engageantes\, ainsi que de nouveaux contenus à la demande\nLe programme du Congrès restera riche en sessions éducatives approfondies\, en conférences plénières dispensées du monde entier\, en symposiums scientifiques de pointe\, en conférences de remise de prix\, en affiches électroniques\, en sessions sectorielles et en vitrines d’entreprises virtuelles.\nLa soumission des résumés est ouverte (date limite le 20 avril 2022).\n\n\n Inscription  \n  \n 
URL:https://www.afssi.fr/event/congres-de-leacr-innovative-cancer-science-2022/
LOCATION:Seville\, Seville\, Espagne
CATEGORIES:Evénement filière
ATTACH;FMTTYPE=image/jpeg:https://www.afssi.fr/wp-content/uploads/2022/01/28th-Annual-Congress-of-the-ESGCT-Récupéré-2.jpg
END:VEVENT
BEGIN:VEVENT
DTSTART;VALUE=DATE:20220628
DTEND;VALUE=DATE:20220630
DTSTAMP:20260425T173521
CREATED:20220201T131601Z
LAST-MODIFIED:20220531T101057Z
UID:152090-1656374400-1656547199@www.afssi.fr
SUMMARY:10ème edition Antibody Industrial Symposium AIS2022
DESCRIPTION:En partenariat avec la Fondation ARC\, Institue Curie et la Fondation Synergie Lyon Cancer\, MabDesign organise la 10ème édition du congrès Antibody Industrial Symposium AIS2022\, qui se tiendra en juin\, le 28 et 29 à Montpellier . \nCe congrès annuel réunira les acteurs académiques et industriels du domaine des anticorps thérapeutiques en étroite collaboration avec les cliniciens. \nDepuis la 4ème édition des AIS2016\, MabDesign s’est associé à l’organisation de ce congrès\, rassemblant le monde académique et l’industrie. \nLe programme de 2 jours de cette année est organisé en 9 thèmes couvrant les sujets brûlants de la recherche et du développement d’anticorps\, de thérapie cellulaire et génique et d’autres produits biopharmaceutiques : \n\nCible IO Novel mAb – BsAbs – Protéine de fusion Fc / Maladies rares\nThérapie cellulaire adoptive & Gene Editing : dernières avancées\nApproches innovantes et nouvelles technologies tendance\nImmunothérapies à base d’anticorps : stratégies et approches de nouvelle génération\nConduire des médicaments innovants vers le succès clinique\nAnalytique & Caractérisation des biothérapeutiques\nCMC et développabilité des produits biologiques complexes\nFabrication et mise sur le marché\n\nContact : Ana ANTUNES – ana-sofia.antunes@mabdesign.fr – 04.78.02.39.91 \n\n\nMore information
URL:https://www.afssi.fr/event/10eme-edition-antibody-industrial-symposium-ais2022/
LOCATION:Montpellier
CATEGORIES:Evénement partenaire
ATTACH;FMTTYPE=image/jpeg:https://www.afssi.fr/wp-content/uploads/2022/02/10ème-edition-Antibody-Industrial-Symposium-AIS2022.jpg
END:VEVENT
END:VCALENDAR