BEGIN:VCALENDAR
VERSION:2.0
PRODID:-//AFSSI Sciences de la Vie - ECPv5.14.1//NONSGML v1.0//EN
CALSCALE:GREGORIAN
METHOD:PUBLISH
X-WR-CALNAME:AFSSI Sciences de la Vie
X-ORIGINAL-URL:https://www.afssi.fr
X-WR-CALDESC:Events for AFSSI Sciences de la Vie
REFRESH-INTERVAL;VALUE=DURATION:PT1H
X-Robots-Tag:noindex
X-PUBLISHED-TTL:PT1H
BEGIN:VTIMEZONE
TZID:Europe/Paris
BEGIN:DAYLIGHT
TZOFFSETFROM:+0100
TZOFFSETTO:+0200
TZNAME:CEST
DTSTART:20250330T010000
END:DAYLIGHT
BEGIN:STANDARD
TZOFFSETFROM:+0200
TZOFFSETTO:+0100
TZNAME:CET
DTSTART:20251026T010000
END:STANDARD
END:VTIMEZONE
BEGIN:VEVENT
DTSTART;VALUE=DATE:20250701
DTEND;VALUE=DATE:20250703
DTSTAMP:20260421T100906
CREATED:20241218T154008Z
LAST-MODIFIED:20250312T110034Z
UID:346306-1751328000-1751500799@www.afssi.fr
SUMMARY:AFSSI Connexions 2025 - Toulouse
DESCRIPTION:Rendez-vous les 1 et 2 juillet 2025 à Toulouse !\nL’AFSSI (l’Association Française des Sociétés de Services et d’Innovation)\, en partenariat avec AD’OCC\, l’agence de développement économique de la région Occitanie\, organise la 12ᵉ édition des AFSSI Connexions les 1 et 2 juillet 2025 à Toulouse. Cet événement annuel réunit les acteurs clés de la recherche préclinique et de l’innovation en santé pour deux journées dédiées aux échanges et à la création de synergies. \nDeux journées riches en échanges\, conférences et rencontres articulées autour d’une thématique d’avenir : « R&D en santé\, innovation\, performance et croissance : les CRO précliniques françaises au cœur du leadership européen« 🚀 \nLa seconde journée des AFSSI Connexions est intégrée à BtoHealth\, une convention d’affaires organisée avec AD’OCC \nPublics attendus :\n\nSociétés membres de l’AFSSI\nStart-up / TPE / PME / PMI\nGrand groupe (Industrie pharmaceutique\, cosmétique\, agro-alimentaire)\nSociété de biotechnologie\nÉtablissements académiques et de recherche publique\nÉcoles & centres de formation\nInvestisseur\nGroupement professionnels locaux et structures d’accompagnement\nCabinet-conseils (financements\, assurance\, PI\, Business développement)\n\n\nJe m’inscris
URL:https://www.afssi.fr/event/afssi-connexions-2025-toulouse/
LOCATION:Toulouse\, France
CATEGORIES:Evénement AFSSI,Evénement filière
ATTACH;FMTTYPE=image/png:https://www.afssi.fr/wp-content/uploads/2024/12/banniere_event_800x350.png
ORGANIZER;CN="AFSSI":MAILTO:event@afssi.fr
END:VEVENT
BEGIN:VEVENT
DTSTART;VALUE=DATE:20250702
DTEND;VALUE=DATE:20250705
DTSTAMP:20260421T100906
CREATED:20250410T080516Z
LAST-MODIFIED:20250410T080516Z
UID:366484-1751414400-1751673599@www.afssi.fr
SUMMARY:RICT-Conférence internationale sur la chimie médicinale 2025
DESCRIPTION:La Société Française de Chimie Thérapeutique – SCT a le plaisir de vous inviter à Orléans\, France les 2-4 juillet 2025 pour la 59e édition de la Conférence internationale sur la chimie médicinale ( RICT 2025).\nCet événement est aujourd’hui considéré comme un événement européen majeur par l’ensemble de la communauté et accueille chaque année entre 400 et 600 participants\, dont 44 % sont issus de l’industrie et 49 % sont non français. Le RICT se déroule sur 3 jours et est animé de conférences internationales\, avec plus de 25 intervenants issus du monde académique ou industriel et d’Europe\, d’Amérique ou d’Asie. \nLe congrès sera consacré à « Découverte et sélection de médicaments ». et comprendra 18 conférences plénières et 6 courtes conférences. \nDe plus\, une séance de posters offrira à tous les participants l’occasion de présenter leurs résultats actuels. Les prix des posters seront attribués à la fin de la réunion. \nInscrivez-vous  \n  \n 
URL:https://www.afssi.fr/event/rict-conference-internationale-sur-la-chimie-medicinale-2025-2/
LOCATION:Orléans\, France
CATEGORIES:Evénement filière
ATTACH;FMTTYPE=image/png:https://www.afssi.fr/wp-content/uploads/2025/04/2025-RICT.png
END:VEVENT
END:VCALENDAR