BEGIN:VCALENDAR
VERSION:2.0
PRODID:-//AFSSI Sciences de la Vie - ECPv5.14.1//NONSGML v1.0//EN
CALSCALE:GREGORIAN
METHOD:PUBLISH
X-WR-CALNAME:AFSSI Sciences de la Vie
X-ORIGINAL-URL:https://www.afssi.fr
X-WR-CALDESC:Events for AFSSI Sciences de la Vie
REFRESH-INTERVAL;VALUE=DURATION:PT1H
X-Robots-Tag:noindex
X-PUBLISHED-TTL:PT1H
BEGIN:VTIMEZONE
TZID:Europe/Paris
BEGIN:DAYLIGHT
TZOFFSETFROM:+0100
TZOFFSETTO:+0200
TZNAME:CEST
DTSTART:20250330T010000
END:DAYLIGHT
BEGIN:STANDARD
TZOFFSETFROM:+0200
TZOFFSETTO:+0100
TZNAME:CET
DTSTART:20251026T010000
END:STANDARD
END:VTIMEZONE
BEGIN:VEVENT
DTSTART;VALUE=DATE:20250616
DTEND;VALUE=DATE:20250620
DTSTAMP:20260421T102225
CREATED:20250409T143959Z
LAST-MODIFIED:20250523T102447Z
UID:366397-1750032000-1750377599@www.afssi.fr
SUMMARY:BIO International Convention 2025
DESCRIPTION:BIO Digital est l’événement le plus important et le plus complet en matière de biotechnologie\, représentant l’écosystème complet de la biotechnologie avec 20 000 leaders de l’industrie du monde entier. \n\n\n\n\n\n\n\n\n\nÀ une époque de découvertes et de progrès remarquables\, l’industrie des biotechnologies est à l’avant-garde d’une révolution qui transforme nos modes de vie\, nos soins et nos pratiques de soins. Des traitements innovants offrant de l’espoir à des millions de personnes aux innovations agricoles durables pour nourrir une population croissante\, en passant par les avancées environnementales garantissant notre avenir\, les biotechnologies engendrent des changements positifs plus rapidement que jamais. Ces progrès ne sont pas seulement un changement\, mais la promesse d’un avenir meilleur. Le monde est prêt. \nQue vous travailliez dans une entreprise pharmaceutique cotée en bourse\, une start-up biotechnologique\, un milieu universitaire\, une organisation à but non lucratif ou une agence gouvernementale\, ou que vous soyez chercheur\, professionnel du développement commercial ou investisseur\, BIO est l’endroit idéal pour nouer des contacts précieux et tisser des liens. Notre plateforme de mise en relation exclusive BIO Partnering™\, disponible en exclusivité avec l’abonnement Premier Access\, vous permet de trouver des partenaires potentiels\, de planifier et d’accepter des rendez-vous. \nCette année\, l’évènement aura lieu du 16 au 16 juin 2025 à Boston\, Etats-Unis. \n\n\n\n\n\n\n\n\n\n\n\n\n\n\n\n Pour plus d’informations
URL:https://www.afssi.fr/event/bio-international-convention-2025/
CATEGORIES:Evénement filière
ATTACH;FMTTYPE=image/png:https://www.afssi.fr/wp-content/uploads/2025/04/20250326-BIO-Convention-800-x-373-1.png
END:VEVENT
BEGIN:VEVENT
DTSTART;VALUE=DATE:20250616
DTEND;VALUE=DATE:20250620
DTSTAMP:20260421T102225
CREATED:20250409T150025Z
LAST-MODIFIED:20250409T150025Z
UID:366408-1750032000-1750377599@www.afssi.fr
SUMMARY:Congrès de l'EACR : Innovative Cancer Science 2025
DESCRIPTION:Le congrès annuel 2025 de l’Association européenne pour la recherche sur le cancer (EACR 2025) est un congrès de quatre jours consacré à la recherche fondamentale\, préclinique et translationnelle sur le cancer dans un large éventail de sujets. Il mettra en lumière les dernières recherches et rassemblera la communauté de la recherche sur le cancer pour inspirer l’innovation et développer les connaissances\, les connexions et les collaborations. \nL’Association européenne pour la recherche sur le cancer (EACR) est une association à but non lucratif qui se consacre à l’avancement de la recherche sur le cancer. Depuis 1968\, nous réunissons des chercheurs en cancérologie lors de nos congrès et conférences. EACR 2025 est notre 31e congrès. \nVoir le programme \n Inscription  \n  \n 
URL:https://www.afssi.fr/event/congres-de-leacr-innovative-cancer-science-2025-2/
LOCATION:Lisbonne\, Portugal
CATEGORIES:Evénement filière
ATTACH;FMTTYPE=image/png:https://www.afssi.fr/wp-content/uploads/2025/04/EACR-2025.png
END:VEVENT
END:VCALENDAR