BEGIN:VCALENDAR
VERSION:2.0
PRODID:-//AFSSI Sciences de la Vie - ECPv5.14.1//NONSGML v1.0//EN
CALSCALE:GREGORIAN
METHOD:PUBLISH
X-WR-CALNAME:AFSSI Sciences de la Vie
X-ORIGINAL-URL:https://www.afssi.fr
X-WR-CALDESC:Events for AFSSI Sciences de la Vie
REFRESH-INTERVAL;VALUE=DURATION:PT1H
X-Robots-Tag:noindex
X-PUBLISHED-TTL:PT1H
BEGIN:VTIMEZONE
TZID:Europe/Paris
BEGIN:DAYLIGHT
TZOFFSETFROM:+0100
TZOFFSETTO:+0200
TZNAME:CEST
DTSTART:20250330T010000
END:DAYLIGHT
BEGIN:STANDARD
TZOFFSETFROM:+0200
TZOFFSETTO:+0100
TZNAME:CET
DTSTART:20251026T010000
END:STANDARD
END:VTIMEZONE
BEGIN:VEVENT
DTSTART;VALUE=DATE:20250410
DTEND;VALUE=DATE:20250412
DTSTAMP:20260421T141907
CREATED:20250409T141111Z
LAST-MODIFIED:20250409T141111Z
UID:366376-1744243200-1744415999@www.afssi.fr
SUMMARY:Global Summit on Pathology 2025
DESCRIPTION:We are delighted to extend a warm invitation to researchers\, practitioners\, and enthusiasts to participate in the upcoming “Global Summit on Pathology”. Set to be held during April 10th-11th\, 2025 in Virtual event\, this summit is organized by the ScitechSeries and revolves around the theme « Pioneering Innovations and Clinical Integration in Advanced Pathology. » \nPour plus d’informations  \n  \n 
URL:https://www.afssi.fr/event/global-summit-on-pathology-2025/
LOCATION:Virtual event
CATEGORIES:Evénement filière
ATTACH;FMTTYPE=image/png:https://www.afssi.fr/wp-content/uploads/2025/04/Pathology-2025-1.png
END:VEVENT
BEGIN:VEVENT
DTSTART;VALUE=DATE:20250411
DTEND;VALUE=DATE:20250416
DTSTAMP:20260421T141907
CREATED:20250409T145503Z
LAST-MODIFIED:20250409T145503Z
UID:366363-1744329600-1744761599@www.afssi.fr
SUMMARY:35th ESCMID
DESCRIPTION:35th ESCMID du 11 au 15 avril 2025 à Vienne\n  \nL’ESCMID est reconnu par les universitaires\, le milieu clinique et l’industrie comme le plus grand congrès européen pour la présentation et la discussion de la recherche dans les domaines de la microbiologie clinique et des infections. \nProgramme scientifique\nLe programme scientifique de l’ESCMID est une synthèse des priorités actuelles dans les domaines de la microbiologie clinique et des infections. Le diagnostic\, le traitement\, l’épidémiologie et la prévention des maladies infectieuses\, ainsi que la microbiologie de base connexe\, sont traités par des scientifiques de premier plan. Des conférences\, des colloques\, des rencontres avec des experts\, des ateliers pédagogiques\, ainsi que des affiches et des sessions orales\, garantissent une exposition aux développements scientifiques récents. De nombreux sujets sont abordés dans des sessions interactives pour maximiser l’aspect pédagogique. \nL’ESCMID est également devenu une occasion privilégiée pour les groupes de projet de se rencontrer et d’interagir. L’évènement offre une occasion unique de présenter ses travaux à une communauté scientifique large. \nQue vous veniez nous rejoindre à Vienne\, en Autriche ou que vous vous inscriviez en ligne depuis votre salon ou votre bureau\, vous pourrez profiter pleinement de ce que l’ESCMID 2025 a à offrir. \nINSCRIPTION\n  \n 
URL:https://www.afssi.fr/event/35th-ecsmid/
LOCATION:Vienne\, Vienne\, Austria
CATEGORIES:Evénement filière
ATTACH;FMTTYPE=image/png:https://www.afssi.fr/wp-content/uploads/2025/04/Design-sans-titre-2.png
END:VEVENT
END:VCALENDAR