BEGIN:VCALENDAR
VERSION:2.0
PRODID:-//AFSSI Sciences de la Vie - ECPv5.14.1//NONSGML v1.0//EN
CALSCALE:GREGORIAN
METHOD:PUBLISH
X-WR-CALNAME:AFSSI Sciences de la Vie
X-ORIGINAL-URL:https://www.afssi.fr
X-WR-CALDESC:Events for AFSSI Sciences de la Vie
REFRESH-INTERVAL;VALUE=DURATION:PT1H
X-Robots-Tag:noindex
X-PUBLISHED-TTL:PT1H
BEGIN:VTIMEZONE
TZID:Europe/Paris
BEGIN:DAYLIGHT
TZOFFSETFROM:+0100
TZOFFSETTO:+0200
TZNAME:CEST
DTSTART:20250330T010000
END:DAYLIGHT
BEGIN:STANDARD
TZOFFSETFROM:+0200
TZOFFSETTO:+0100
TZNAME:CET
DTSTART:20251026T010000
END:STANDARD
END:VTIMEZONE
BEGIN:VEVENT
DTSTART;VALUE=DATE:20250211
DTEND;VALUE=DATE:20250213
DTSTAMP:20260421T170805
CREATED:20241211T135213Z
LAST-MODIFIED:20241211T135213Z
UID:344328-1739232000-1739404799@www.afssi.fr
SUMMARY:Mind Mood & Microbes 2025
DESCRIPTION:Take part in the international conference on Microbiota-gut-brain axis\, the fifth edition !  \nMIND\, MOOD & MICROBES brings together leading scientists\, healthcare professionals\, and industry partners from diverse and complementary fields of expertise to discuss the way forward in this exciting field and accelerate the translation of research breakthroughs into professional and clinical practice. \nIncreasing evidence\, mostly from preclinical studies\, indicates a role for the gut microbiome in modulating brain development and function across the lifespan. This pinpoints the microbiota-gut-brain axis as a potential target for influencing mood and behaviour\, to impact conditions such as anxiety and depression\, as well as for preventing or treating brain-related conditions\, including Parkinson’s disease\, Alzheimer’s disease\, schizophrenia and autism. One of the current challenges is the translation of these insights into the clinical context. \nClick here to register  \n  \n 
URL:https://www.afssi.fr/event/mind-mood-microbes-2025/
LOCATION:Amsterdam\, Pays-Bas
CATEGORIES:Evénement filière
ATTACH;FMTTYPE=image/png:https://www.afssi.fr/wp-content/uploads/2024/12/banner_mind_mood_microbes.png
END:VEVENT
END:VCALENDAR