BEGIN:VCALENDAR
VERSION:2.0
PRODID:-//AFSSI Sciences de la Vie - ECPv5.14.1//NONSGML v1.0//EN
CALSCALE:GREGORIAN
METHOD:PUBLISH
X-WR-CALNAME:AFSSI Sciences de la Vie
X-ORIGINAL-URL:https://www.afssi.fr
X-WR-CALDESC:Events for AFSSI Sciences de la Vie
REFRESH-INTERVAL;VALUE=DURATION:PT1H
X-Robots-Tag:noindex
X-PUBLISHED-TTL:PT1H
BEGIN:VTIMEZONE
TZID:Europe/Paris
BEGIN:DAYLIGHT
TZOFFSETFROM:+0100
TZOFFSETTO:+0200
TZNAME:CEST
DTSTART:20240331T010000
END:DAYLIGHT
BEGIN:STANDARD
TZOFFSETFROM:+0200
TZOFFSETTO:+0100
TZNAME:CET
DTSTART:20241027T010000
END:STANDARD
END:VTIMEZONE
BEGIN:VEVENT
DTSTART;VALUE=DATE:20241024
DTEND;VALUE=DATE:20241026
DTSTAMP:20260421T230609
CREATED:20231031T083923Z
LAST-MODIFIED:20240221T113047Z
UID:241819-1729728000-1729900799@www.afssi.fr
SUMMARY:World Congress on Organic Chemistry 2024
DESCRIPTION:Welcome to the main event of the “World Congress on Organic Chemistry” The Organic Chemistry conference.\nPresented by ScitechSeries\, This HYBRID EVENT allows you to participate as In person at Montreal\, Canada or Virtually from your home or workplace on October 24-25\, 2024. \nThe theme is “Discussing the Development and Applications of Functional Organic Compounds.” This means we’re going to talk about how new and useful molecules are made in Organic Chemistry. It’s like building blocks for the future. \nThis is a big chance to meet and learn from top experts\, chemists\, and smart people from all around the world who work with these molecules.\nBy being part of the “WCOC 2024\, » you’re showing that you care about new ideas and moving forward. Let’s talk\, connect\, and make plans for a brighter future together through the world of Organic Chemistry. Your involvement is a big step towards making new discoveries and shaping what’s coming next. \nPour plus d’informations  \n  \n 
URL:https://www.afssi.fr/event/world-congres-organic-chemistry-2024/
LOCATION:Montréal\, Canada
CATEGORIES:Evénement filière
ATTACH;FMTTYPE=image/png:https://www.afssi.fr/wp-content/uploads/2023/10/world-congress-on-organic-chemistry-2024-2.png
END:VEVENT
BEGIN:VEVENT
DTSTART;VALUE=DATE:20241024
DTEND;VALUE=DATE:20241026
DTSTAMP:20260421T230609
CREATED:20231031T132901Z
LAST-MODIFIED:20240221T113052Z
UID:241862-1729728000-1729900799@www.afssi.fr
SUMMARY:Global Congress on Vaccines and Antibiotics 2024
DESCRIPTION:We are thrilled to introduce the hybrid format for the “Global Congress on Vaccines and Antibiotics” scheduled to take place from October 24th to 25th\, 2024.\nThis HYBRID EVENT allows you to participate as In person at Montreal\, Canada or Virtually from your home or workplace. \nDedicated to the theme of “Championing Progress in the Evolution and Development of Vaccines\,” this global summit will unite prominent experts from across the globe. This includes researchers\, scientists\, academicians\, immunologists\, healthcare professionals\, public health experts\, pharmacists\, clinicians\, government representatives\, and industry leaders. \nGVC 2024 aims to illustrate how vaccination significantly enhances health worldwide at all stages of life\, creating connections between people\, aspirations\, and cherished moments.\nWe eagerly anticipate your participation in GVC 2024. \nThis event promises not only to expand the horizons of your profession but also to open doors to prospects\, novel cultural experiences\, and a global outlook. \nPour plus d’informations  \n  \n 
URL:https://www.afssi.fr/event/global-congress-on-vaccines-and-antibiotics-2024/
LOCATION:Montréal\, Canada
CATEGORIES:Evénement filière
ATTACH;FMTTYPE=image/png:https://www.afssi.fr/wp-content/uploads/2023/10/GCV-2024-.png
END:VEVENT
END:VCALENDAR