BEGIN:VCALENDAR
VERSION:2.0
PRODID:-//AFSSI Sciences de la Vie - ECPv5.14.1//NONSGML v1.0//EN
CALSCALE:GREGORIAN
METHOD:PUBLISH
X-WR-CALNAME:AFSSI Sciences de la Vie
X-ORIGINAL-URL:https://www.afssi.fr
X-WR-CALDESC:Events for AFSSI Sciences de la Vie
REFRESH-INTERVAL;VALUE=DURATION:PT1H
X-Robots-Tag:noindex
X-PUBLISHED-TTL:PT1H
BEGIN:VTIMEZONE
TZID:Europe/Paris
BEGIN:DAYLIGHT
TZOFFSETFROM:+0100
TZOFFSETTO:+0200
TZNAME:CEST
DTSTART:20240331T010000
END:DAYLIGHT
BEGIN:STANDARD
TZOFFSETFROM:+0200
TZOFFSETTO:+0100
TZNAME:CET
DTSTART:20241027T010000
END:STANDARD
END:VTIMEZONE
BEGIN:VEVENT
DTSTART;VALUE=DATE:20241010
DTEND;VALUE=DATE:20241011
DTSTAMP:20260421T230457
CREATED:20231219T153359Z
LAST-MODIFIED:20231219T153904Z
UID:258237-1728518400-1728604799@www.afssi.fr
SUMMARY:2ÈME JOURNÉE RECHERCHE CLINIQUE & INNOVATION EN ÉTABLISSEMENTS DE SANTÉ
DESCRIPTION:10 Octobre 2024\, la date de la 2ème journée de la recherche clinique et de l’innovation en établissement de santé à noter dans vos agendas\, organisée par le Groupe Hospitalier Littoral Atlantique autour de la thématique « Les collaborations un facteur de succès en recherche »\nCette journée se déroulera en abordant plusieurs points : \n\n Les collaborations\, un facteur de succès en recherche\nInnovations en établissements de santé\n Importance de la donnée de santé en recherche\n Démarche qualité en recherche clinique\n\nLe Groupe Hospitalier de La Rochelle-Ré-Aunis recherche des partenaires pour participer à cette nouvelle édition. \n  \nPour plus d’informations  \n  \n 
URL:https://www.afssi.fr/event/2e-journee-recherche-clinique-innovation-en-etablissements-de-sante/
LOCATION:la rochelle\, France
CATEGORIES:Evénement filière
ATTACH;FMTTYPE=image/png:https://www.afssi.fr/wp-content/uploads/2023/12/Journee-de-la-recherche-clinique-et-de-linnovation-en-etablissement-de-sante.png
END:VEVENT
END:VCALENDAR