BEGIN:VCALENDAR
VERSION:2.0
PRODID:-//AFSSI Sciences de la Vie - ECPv5.14.1//NONSGML v1.0//EN
CALSCALE:GREGORIAN
METHOD:PUBLISH
X-WR-CALNAME:AFSSI Sciences de la Vie
X-ORIGINAL-URL:https://www.afssi.fr
X-WR-CALDESC:Events for AFSSI Sciences de la Vie
REFRESH-INTERVAL;VALUE=DURATION:PT1H
X-Robots-Tag:noindex
X-PUBLISHED-TTL:PT1H
BEGIN:VTIMEZONE
TZID:Europe/Paris
BEGIN:DAYLIGHT
TZOFFSETFROM:+0100
TZOFFSETTO:+0200
TZNAME:CEST
DTSTART:20240331T010000
END:DAYLIGHT
BEGIN:STANDARD
TZOFFSETFROM:+0200
TZOFFSETTO:+0100
TZNAME:CET
DTSTART:20241027T010000
END:STANDARD
END:VTIMEZONE
BEGIN:VEVENT
DTSTART;VALUE=DATE:20241001
DTEND;VALUE=DATE:20241003
DTSTAMP:20260421T230349
CREATED:20240215T143735Z
LAST-MODIFIED:20240215T143903Z
UID:263415-1727740800-1727913599@www.afssi.fr
SUMMARY:NutrEvent 2024
DESCRIPTION:NutrEvent | 10ème édition\nLes 1ᵉʳ et 2 octobre 2024 à Lille\nVenez nous rencontrer lors du NutrEvent à Lille les 1ᵉʳ & 2 octobre 2024 ! \nINNOVATIONS EN ALIMENTATION\, NUTRITION HUMAINE & ANIMALE| COLLABORATIONS ACADÉMIE-INDUSTRIE | INVESTISSEMENT \nNutrEvent est la première convention d’affaires européenne dédiée à l’innovation en Alimentation\, Nutrition Humaine et Animale. \nElle vise à identifier des partenaires industriels\, scientifiques\, commerciaux et financiers pour vos projets d’innovation. NutrEvent regroupe plus de 600 acteurs internationaux : fournisseurs de produits finis à destination de l’alimentation humaine et animale\, de la nutrition clinique\, fournisseurs de compléments alimentaires\, acteurs de l’industrie pharmaceutique\, distributeurs\, fournisseurs d’ingrédients\, et de procédés\, acteurs académiques\, structures de transfert de technologie\, instituts de recherche\, entreprises de services de R&D\, cabinets de conseils et investisseurs. \n\nCHIFFRES-CLÉS 2023 :\n\n500+ participants\n25+ pays représentés\n44 exposants\n65 intervenants internationaux\n20 projets d’innovation sélectionnés pour les Start-up Slams\n+2 500 connexions établies grâce à la plateforme de partenariat\n\nPARTICIPANTS :\nVous trouverez les différentes listes des participants des éditions précédentes ici \nFORMAT DE L’ÉVÈNEMENT :\n\nUne convention d’affaires avec des rendez-vous pré-qualifiés\nDes conférences et table-rondes\nUn espace d’exposition\nStart-up Slams\n\nTÉLÉCHARGER LE PROGRAMME 2024 : \nBrochure NutrEvent 2024 \nPRENEZ PART A L’ÉVÉNEMENT :\n\nInscrivez-vous dès maintenant\nExposez durant l’évènement\n\nVous êtes membre de l’AFSSI ? \nProfitez d’une réduction de 20% sur les full pass tout au long de l’année\, appliqué le tarif regular puis ensuite sur le tarif late registration. \n  \nSite web : www.nutrevent.com \nTwitter : @NutrEvent \nLinkedin : @NutrEvent \nContact :\nNicolas LECHEVALLIER \nResponsable du développement \nnlechevallier@eurasante.com \n+33 (0)3 28 55 90 71 \nInscription
URL:https://www.afssi.fr/event/nutrevent-2024/
LOCATION:Lille\, France
CATEGORIES:Evénement filière,Evénement partenaire
ATTACH;FMTTYPE=image/png:https://www.afssi.fr/wp-content/uploads/2024/02/NutrEvent.png
END:VEVENT
END:VCALENDAR