BEGIN:VCALENDAR
VERSION:2.0
PRODID:-//AFSSI Sciences de la Vie - ECPv5.14.1//NONSGML v1.0//EN
CALSCALE:GREGORIAN
METHOD:PUBLISH
X-WR-CALNAME:AFSSI Sciences de la Vie
X-ORIGINAL-URL:https://www.afssi.fr
X-WR-CALDESC:Events for AFSSI Sciences de la Vie
REFRESH-INTERVAL;VALUE=DURATION:PT1H
X-Robots-Tag:noindex
X-PUBLISHED-TTL:PT1H
BEGIN:VTIMEZONE
TZID:Europe/Paris
BEGIN:DAYLIGHT
TZOFFSETFROM:+0100
TZOFFSETTO:+0200
TZNAME:CEST
DTSTART:20240331T010000
END:DAYLIGHT
BEGIN:STANDARD
TZOFFSETFROM:+0200
TZOFFSETTO:+0100
TZNAME:CET
DTSTART:20241027T010000
END:STANDARD
END:VTIMEZONE
BEGIN:VEVENT
DTSTART;VALUE=DATE:20240919
DTEND;VALUE=DATE:20240921
DTSTAMP:20260422T003425
CREATED:20231031T105111Z
LAST-MODIFIED:20240221T113030Z
UID:241846-1726704000-1726876799@www.afssi.fr
SUMMARY:World Congress on Pharmaceutical Chemistry and Drug Development 2024
DESCRIPTION:We are thrilled to extend a heartfelt invitation for your participation in the upcoming “World Congress on Pharmaceutical Chemistry\,” proudly presented by ScitechSeries.\nThis HYBRID EVENT allows you to participate as In person at Paris\, France or Virtually from your home or workplace on September 19-20\, 2024.\nThe essence of this congress lies in bringing together a vibrant and diverse community of pharmaceutical chemists\, researchers\, and professionals\, creating a dynamic convergence of ideas and expertise. \nOur theme\, “Addressing Worldwide Challenges and Investigating Scientific Inquiry in the Field of Pharmaceutics\,” encapsulates the core essence of the event\, symbolizing our collective pursuit of excellence in the field. \nThe conference has been meticulously crafted to promote effective communication\, foster education\, and nurture community engagement. Our vision is to contribute significantly to the worldwide advancement of Pharmaceutical Chemistry by creating a space where knowledge converges\, innovation thrives\, and collaborations flourish.\nYour presence and participation would be an invaluable contribution to this exceptional gathering. We cordially invite you to join us in this remarkable journey\, where we harmoniously blend the latest advancements with an unwavering commitment to excellence in the realm of pharmaceutical chemistry. Looking forward to the privilege of your attendance. \nPour plus d’informations  \n  \n 
URL:https://www.afssi.fr/event/world-congress-on-pharmaceutical-chemistry-and-drug-development-2024/
LOCATION:Paris\, France
CATEGORIES:Evénement filière
ATTACH;FMTTYPE=image/png:https://www.afssi.fr/wp-content/uploads/2023/10/World-Congress-on-Pharmaceutical-Chemistry-and-Drug-Development-2024-1-1.png
END:VEVENT
BEGIN:VEVENT
DTSTART;VALUE=DATE:20240919
DTEND;VALUE=DATE:20240921
DTSTAMP:20260422T003425
CREATED:20231031T105838Z
LAST-MODIFIED:20231031T105838Z
UID:241851-1726704000-1726876799@www.afssi.fr
SUMMARY:Euro Nursing Congress 2024
DESCRIPTION:With heartfelt gratitude\, we extend a warm welcome to esteemed attendees globally who embrace profound ideals in Nursing and Healthcare at the “Euro Nursing Congress.\nThis HYBRID EVENT allows you to participate In person at Paris\, France\, or Virtually from your home or workplace from September 19-20\, 2024. \nThemed “Pioneering Innovation and Pathways Shaping Nursing’s Future\,” this congress promises transformation. Nurses\, Doctors\, Nurse Practitioners\, Surgeons\, Healthcare Researchers\, Scientists\, and esteemed Nursing Faculty unite to discuss Nursing care and Research. \nActive involvement enhances the conference journey. Seize the chance to connect with esteemed Nursing professionals through Keynotes\, Poster Presentations\, Colloquia\, Workshops\, and the Young Researchers Forum\, which delves into cutting-edge Nursing and Healthcare technologies for global networking.\nEmbrace the potential as you join us. The Euro Nursing Congress aims to ignite challenges\, inspiration\, and new Knowledge\, Partnerships\, and Friendships in the coming year. \nPour plus d’informations  \n  \n 
URL:https://www.afssi.fr/event/euro-nursing-congress-2024/
LOCATION:Paris\, France
CATEGORIES:Evénement filière
ATTACH;FMTTYPE=image/png:https://www.afssi.fr/wp-content/uploads/2023/10/ENC-2024-.png
END:VEVENT
BEGIN:VEVENT
DTSTART;VALUE=DATE:20240919
DTEND;VALUE=DATE:20240921
DTSTAMP:20260422T003425
CREATED:20231031T131829Z
LAST-MODIFIED:20231031T131829Z
UID:241858-1726704000-1726876799@www.afssi.fr
SUMMARY:International Conference on Hematology and Blood Disorders 2024
DESCRIPTION:ScitechSeries proudly presents this Hybrid Event that allows you to participate In person at Paris\, France\, or Virtually from your home or workplace.\nInternational Conference on Hematology and Blood Disorders\,” from September 19-20\, 2024. \nThe focus is on “Transfusing Innovations and Exploring Emerging Concepts in Hematology”. \nThe congress assists attendees with global tools and guidance\, fostering strong communities for worldwide education\, research\, and awareness of hematology and blood-related disorders. It’s a global platform for sharing ideas\, knowledge\, and solutions across countries and specialties\, supporting best practices\, and empowering a new generation of advocates\, activists\, practitioners\, and researchers. \nOral and poster presentations\, keynotes\, plenary talks\, symposiums\, and exhibitions are part of the event.\nWe warmly invite you to participate in this exceptional event\, where we blend the latest advancements with the pursuit of excellence in Hematology and Blood Disorders. \nPour plus d’informations  \n  \n 
URL:https://www.afssi.fr/event/international-conference-on-hematology-and-blood-disorders-2024/
LOCATION:Paris\, France
CATEGORIES:Evénement filière
ATTACH;FMTTYPE=image/png:https://www.afssi.fr/wp-content/uploads/2023/10/IICHB-2024-.png
END:VEVENT
END:VCALENDAR