BEGIN:VCALENDAR
VERSION:2.0
PRODID:-//AFSSI Sciences de la Vie - ECPv5.14.1//NONSGML v1.0//EN
CALSCALE:GREGORIAN
METHOD:PUBLISH
X-WR-CALNAME:AFSSI Sciences de la Vie
X-ORIGINAL-URL:https://www.afssi.fr
X-WR-CALDESC:Events for AFSSI Sciences de la Vie
REFRESH-INTERVAL;VALUE=DURATION:PT1H
X-Robots-Tag:noindex
X-PUBLISHED-TTL:PT1H
BEGIN:VTIMEZONE
TZID:Europe/Paris
BEGIN:DAYLIGHT
TZOFFSETFROM:+0100
TZOFFSETTO:+0200
TZNAME:CEST
DTSTART:20240331T010000
END:DAYLIGHT
BEGIN:STANDARD
TZOFFSETFROM:+0200
TZOFFSETTO:+0100
TZNAME:CET
DTSTART:20241027T010000
END:STANDARD
END:VTIMEZONE
BEGIN:VEVENT
DTSTART;VALUE=DATE:20240415
DTEND;VALUE=DATE:20240417
DTSTAMP:20260422T081341
CREATED:20231107T162136Z
LAST-MODIFIED:20240213T162021Z
UID:246169-1713139200-1713311999@www.afssi.fr
SUMMARY:International Conference on Vaccines & Immunization 2024
DESCRIPTION:We’re excited to introduce the hybrid edition of the « International conference on Vaccines & Immunization »\, scheduled for April 15-16\, 2024.  \nThis HYBRID EVENT allows you to participate as In person at Orlando\, USA or Virtually from your home or workplace.\nUnder the theme « Leading the way in Advancing Vaccine Evolution and Advancement\, » ICVI 2024 will convene renowned global experts including researchers\, scientists\, healthcare professionals\, and industry representatives. The conference will highlight the latest breakthroughs in vaccine research\, with a special focus on prominent COVID vaccines. \nPour plus d’informations  \n  \n 
URL:https://www.afssi.fr/event/international-conference-on-vaccines-and-immunization-2024/
LOCATION:Orlando\, USA
CATEGORIES:Evénement filière
ATTACH;FMTTYPE=image/png:https://www.afssi.fr/wp-content/uploads/2023/11/ICVI-2024.png
END:VEVENT
END:VCALENDAR