BEGIN:VCALENDAR
VERSION:2.0
PRODID:-//AFSSI Sciences de la Vie - ECPv5.14.1//NONSGML v1.0//EN
CALSCALE:GREGORIAN
METHOD:PUBLISH
X-WR-CALNAME:AFSSI Sciences de la Vie
X-ORIGINAL-URL:https://www.afssi.fr
X-WR-CALDESC:Events for AFSSI Sciences de la Vie
REFRESH-INTERVAL;VALUE=DURATION:PT1H
X-Robots-Tag:noindex
X-PUBLISHED-TTL:PT1H
BEGIN:VTIMEZONE
TZID:Europe/Paris
BEGIN:DAYLIGHT
TZOFFSETFROM:+0100
TZOFFSETTO:+0200
TZNAME:CEST
DTSTART:20240331T010000
END:DAYLIGHT
BEGIN:STANDARD
TZOFFSETFROM:+0200
TZOFFSETTO:+0100
TZNAME:CET
DTSTART:20241027T010000
END:STANDARD
END:VTIMEZONE
BEGIN:VEVENT
DTSTART;VALUE=DATE:20240301
DTEND;VALUE=DATE:20240303
DTSTAMP:20260422T094541
CREATED:20231219T162545Z
LAST-MODIFIED:20240213T161958Z
UID:258251-1709251200-1709423999@www.afssi.fr
SUMMARY:21e Village de la Chimie
DESCRIPTION:Vous trouverez au Village de la Chimie des Sciences de la Nature et de la Vie des 1 & 2 mars 2024\, année Olympique\, les réponses à vos questions en rencontrant les entreprises\, les écoles et les universités présentes\, en partageant avec les professionnels et les enseignants. \nCe 21ème Village de la Chimie que nous vous proposons se veut résolument moderne et interactif. \nVous y découvrirez aussi l’apport considérable de la Chimie dans le sport et sa contribution dans l’amélioration continue des équipements individuels et collectifs des athlètes de haut niveau dont les performances ne cessent de progresser. \nDevenez « les Champions de la Chimie ».\nCe Village est le vôtre\, profitez-en pleinement ! \n  \nPour plus d’informations  \n  \n 
URL:https://www.afssi.fr/event/21e-village-de-la-chimie/
LOCATION:Paris Montreuil expo\, France
CATEGORIES:Evénement filière
ATTACH;FMTTYPE=image/png:https://www.afssi.fr/wp-content/uploads/2023/12/village-de-la-chimie-2024.png
END:VEVENT
END:VCALENDAR