BEGIN:VCALENDAR
VERSION:2.0
PRODID:-//AFSSI Sciences de la Vie - ECPv5.14.1//NONSGML v1.0//EN
CALSCALE:GREGORIAN
METHOD:PUBLISH
X-WR-CALNAME:AFSSI Sciences de la Vie
X-ORIGINAL-URL:https://www.afssi.fr
X-WR-CALDESC:Events for AFSSI Sciences de la Vie
REFRESH-INTERVAL;VALUE=DURATION:PT1H
X-Robots-Tag:noindex
X-PUBLISHED-TTL:PT1H
BEGIN:VTIMEZONE
TZID:Europe/Paris
BEGIN:DAYLIGHT
TZOFFSETFROM:+0100
TZOFFSETTO:+0200
TZNAME:CEST
DTSTART:20220327T010000
END:DAYLIGHT
BEGIN:STANDARD
TZOFFSETFROM:+0200
TZOFFSETTO:+0100
TZNAME:CET
DTSTART:20221030T010000
END:STANDARD
END:VTIMEZONE
BEGIN:VEVENT
DTSTART;VALUE=DATE:20220920
DTEND;VALUE=DATE:20220922
DTSTAMP:20260425T121901
CREATED:20220222T085848Z
LAST-MODIFIED:20220906T133440Z
UID:153977-1663632000-1663804799@www.afssi.fr
SUMMARY:MedFIT 2022
DESCRIPTION:Convention d’affaires MedFIT\nLe 20 et 21 septembre 2022 à Grenoble\, France\n\nVenez nous rencontrer lors de la 6ème édition de MedFIT qui aura lieu à Grenoble les 20 & 21 septembre 2022 ! \nMedFIT est la première convention Européenne dédiée à l’innovation partenariale et la place de marché pour les innovations early-stage dans le domaine des technologies médicales\, du diagnostic et de la santé numérique. \nMedFIT est l’événement permettant d’identifier les produits et technologies innovantes\, de favoriser l’émergence de projets de R&D\, d’engager de nouveaux partenariats\, d’intensifier les flux de licences et d’accélérer la mise en place sur le marché des innovations. \n\nChiffres-clés de MedFit\n\n+900 accords générés\n+700 participants \n+30 pays représentés\n\n MedFIT PROPOSE 7 ACTIVITES :\n\nUne Convention d’affaires avec des rendez-vous pré-qualifiés\nDes tables rondes et des conférences\nDes sessions de pitchs\n\nDes présentations orales de start-ups\nDes opportunités de licensing provenant du milieu académique\n\n\n\nSession de rencontre avec des experts\nUne zone d’exposition\n\n \nTÉLÉCHARGER LE PROGRAMME :\nBrochure 2022 \nN’hésitez pas à largement partager ce document avec vos collègues\, votre réseau\, vos partenaires… \nPRENEZ PART À MEDFIT:\n\nInscrivez-vous dès maintenant\nExposez durant l’évènement\n\nEn tant que membre AFSSI\, vous bénéficiez de plusieurs réductions avec le code : MF22AFSSI2503 \n\nJusqu’au 31 mars : 20% de réduction sur le “regular price”\nJusqu’au 30 juin : 10% sur le “regular price”\nJusqu’à la date de l’évènement : 10% sur le “late registration price »\n\nSite web : http://www.medfit-event.com/\nTwitter : @MEDFIT_EVENT\nLinkedin : @Medfit Event \nContact : \nYingjie WENG \nResponsable du développement \nyweng@eurasante.com \n+33 (0)9 78 31 55 17 \nInscription\n 
URL:https://www.afssi.fr/event/medfit-2022/
LOCATION:Grenoble
CATEGORIES:Evénement filière,Evénement partenaire
ATTACH;FMTTYPE=image/jpeg:https://www.afssi.fr/wp-content/uploads/2022/05/2022-MEDFIT-Bannieres-1024x215px-hybride.jpg
END:VEVENT
END:VCALENDAR