BEGIN:VCALENDAR
VERSION:2.0
PRODID:-//AFSSI Sciences de la Vie - ECPv5.14.1//NONSGML v1.0//EN
CALSCALE:GREGORIAN
METHOD:PUBLISH
X-WR-CALNAME:AFSSI Sciences de la Vie
X-ORIGINAL-URL:https://www.afssi.fr
X-WR-CALDESC:Events for AFSSI Sciences de la Vie
REFRESH-INTERVAL;VALUE=DURATION:PT1H
X-Robots-Tag:noindex
X-PUBLISHED-TTL:PT1H
BEGIN:VTIMEZONE
TZID:Europe/Paris
BEGIN:DAYLIGHT
TZOFFSETFROM:+0100
TZOFFSETTO:+0200
TZNAME:CEST
DTSTART:20220327T010000
END:DAYLIGHT
BEGIN:STANDARD
TZOFFSETFROM:+0200
TZOFFSETTO:+0100
TZNAME:CET
DTSTART:20221030T010000
END:STANDARD
END:VTIMEZONE
BEGIN:VEVENT
DTSTART;VALUE=DATE:20220909
DTEND;VALUE=DATE:20220914
DTSTAMP:20260425T121933
CREATED:20220217T134835Z
LAST-MODIFIED:20220217T134835Z
UID:153498-1662681600-1663113599@www.afssi.fr
SUMMARY:ESMO Congress 2022
DESCRIPTION:Le Congrès de l’ESMO est le rendez-vous annuel en Europe de cliniciens\, chercheurs\, infirmières en oncologie\, défenseurs des patients\, journalistes et représentants de l’industrie pharmaceutique du monde entier pour se réunir\, découvrir les dernières avancées en oncologie et traduire la science de meilleurs soins aux patients atteints de cancer. \nParis accueillera pour la première fois le congrès annuel de l’ESMO\, qui aura lieu du 9 au 13 septembre 2022 à Paris Expo Porte de Versailles\, France. \nÀ propos du Congrès\nLe programme ESMO 2022 sera développé par un comité composé de plus de 300 experts internationaux et s’étendra de la recherche fondamentale aux dernières découvertes en immunothérapie du cancer\, des soins infirmiers en oncologie aux soins palliatifs\, des cancers rares à l’approbation des médicaments. \nPratiquez l’évolution des données et une éducation de haute qualité dans plus de 20 pistes\, couvrant tous les types de tumeurs\, les innovations thérapeutiques\, la recherche translationnelle\, le plaidoyer des patients… De plus\, les opportunités de réseautage sont importantes. \n\n Inscription  \n  \n 
URL:https://www.afssi.fr/event/esmo-congress-2022/
LOCATION:Paris\, France
CATEGORIES:Evénement filière
ATTACH;FMTTYPE=image/jpeg:https://www.afssi.fr/wp-content/uploads/2022/02/esmo-2022.jpg
END:VEVENT
END:VCALENDAR