BEGIN:VCALENDAR
VERSION:2.0
PRODID:-//AFSSI Sciences de la Vie - ECPv5.14.1//NONSGML v1.0//EN
CALSCALE:GREGORIAN
METHOD:PUBLISH
X-WR-CALNAME:AFSSI Sciences de la Vie
X-ORIGINAL-URL:https://www.afssi.fr
X-WR-CALDESC:Events for AFSSI Sciences de la Vie
REFRESH-INTERVAL;VALUE=DURATION:PT1H
X-Robots-Tag:noindex
X-PUBLISHED-TTL:PT1H
BEGIN:VTIMEZONE
TZID:Europe/Paris
BEGIN:DAYLIGHT
TZOFFSETFROM:+0100
TZOFFSETTO:+0200
TZNAME:CEST
DTSTART:20220327T010000
END:DAYLIGHT
BEGIN:STANDARD
TZOFFSETFROM:+0200
TZOFFSETTO:+0100
TZNAME:CET
DTSTART:20221030T010000
END:STANDARD
END:VTIMEZONE
BEGIN:VEVENT
DTSTART;VALUE=DATE:20220908
DTEND;VALUE=DATE:20220910
DTSTAMP:20260425T121851
CREATED:20220217T084911Z
LAST-MODIFIED:20220217T084911Z
UID:153416-1662595200-1662767999@www.afssi.fr
SUMMARY:Paris Nash Meeting 2022
DESCRIPTION:Ce congrès organisé est une conférence scientifique de haut niveau\, réunissant les Français et internationaux autour d’une problématique. \nProgramme\nSession 1 : Épidémiologie et santé publique \nSession 2 : Aspects cliniques \nSession 3 :Sujet approfondi- Identification du patient qui fera des progrès \nSession 4 :  Biomarkers- Marqueurs dynamiques de la progression de la maladie \nSession 5 : Coin de l’industrie \nSession 6 :Biologie des maladies \nSession 7 : Innovation dans les essais cliniques \nSession 8 : Elaboration d’une stratégie mondiale pour la nash \n\n Inscription  \n  \n 
URL:https://www.afssi.fr/event/paris-nash-meeting2022/
LOCATION:Institut Pasteur\, 28 rue du docteur Roux\, Paris\, 75015\, France
CATEGORIES:Evénement filière
ATTACH;FMTTYPE=image/jpeg:https://www.afssi.fr/wp-content/uploads/2022/02/Paris-Nash-Meeting2022.jpg
END:VEVENT
END:VCALENDAR