BEGIN:VCALENDAR
VERSION:2.0
PRODID:-//AFSSI Sciences de la Vie - ECPv5.14.1//NONSGML v1.0//EN
CALSCALE:GREGORIAN
METHOD:PUBLISH
X-WR-CALNAME:AFSSI Sciences de la Vie
X-ORIGINAL-URL:https://www.afssi.fr
X-WR-CALDESC:Events for AFSSI Sciences de la Vie
REFRESH-INTERVAL;VALUE=DURATION:PT1H
X-Robots-Tag:noindex
X-PUBLISHED-TTL:PT1H
BEGIN:VTIMEZONE
TZID:Europe/Paris
BEGIN:DAYLIGHT
TZOFFSETFROM:+0100
TZOFFSETTO:+0200
TZNAME:CEST
DTSTART:20250330T010000
END:DAYLIGHT
BEGIN:STANDARD
TZOFFSETFROM:+0200
TZOFFSETTO:+0100
TZNAME:CET
DTSTART:20251026T010000
END:STANDARD
END:VTIMEZONE
BEGIN:VEVENT
DTSTART;VALUE=DATE:20250520
DTEND;VALUE=DATE:20250523
DTSTAMP:20260421T113532
CREATED:20250409T142532Z
LAST-MODIFIED:20250409T142532Z
UID:366387-1747699200-1747958399@www.afssi.fr
SUMMARY:Santexpo 2025
DESCRIPTION:En mai 2025\, la 59e édition de SANTEXPO intègre le hall 1 à Paris Expo Porte de Versailles\, pour s’adapter au développement des quatre secteurs représentés par les 900 exposants (équipementiers\, éditeurs de logiciels\, fournisseurs\, entrepreneurs de l’e-santé\, fabricants de dispositifs médicaux\, architectes\, soignants\, institutionnels…) et accueillir les 30 000 professionnels attendus : soignants\, experts\, décideurs et professionnels de santé impliqués dans le management\, le numérique\, l’équipement et la construction des établissements de santé. \n\nChiffres :\n\n– 30 000 VISITEURS\n345 PRISES DE PAROLES\n900 EXPOSANTS\n750+ INTERVENANTS\n\n\n\nEN SAVOIR PLUS
URL:https://www.afssi.fr/event/santexpo-2025-2/
LOCATION:Paris\, France
CATEGORIES:Evénement filière
ATTACH;FMTTYPE=image/png:https://www.afssi.fr/wp-content/uploads/2025/04/Design-sans-titre-3.png
END:VEVENT
BEGIN:VEVENT
DTSTART;VALUE=DATE:20250525
DTEND;VALUE=DATE:20250528
DTSTAMP:20260421T113532
CREATED:20250409T143258Z
LAST-MODIFIED:20250409T143258Z
UID:366392-1748131200-1748390399@www.afssi.fr
SUMMARY:Conférence annuelle Swiss HLG 2025
DESCRIPTION:Participez à la conférence annuelle de Swiss HLG qui aura lieu au Grand Hôtel Suisse Majestic\, situé dans le magnifique cadre pittoresque de Montreux\, du 25 au 27 mai 2025 !\nCette année\, le thème de leur conférence sera  » Back to deal making ! ». \nAlors que l’accès au capital est devenu plus difficile ces derniers temps\, les sociétés de biotechnologie se sont tournées vers le partenariat comme principale source de financement et le rythme des transactions s’est accéléré. Au cours de la conférence\, nous explorerons de nouvelles tendances intéressantes\, telles que l’accent mis sur les nouveaux domaines thérapeutiques et l’IA. \nCet événement réunira des esprits brillants étant prêts à partager leurs idées et leur expertise dans le domaine des transactions biopharmaceutiques. En outre\, il y aura de nombreuses occasions de nouer des contacts et de construire de nouvelles relations avec des collègues du monde entier. Nous sommes convaincus que cette conférence sera une expérience précieuse pour chacun d’entre vous. \n Inscrivez-vous !  \n  \n 
URL:https://www.afssi.fr/event/conference-annuelle-swiss-hlg-2025/
LOCATION:Grand Hôtel Suisse Majestic\, Montreux
CATEGORIES:Evénement filière
ATTACH;FMTTYPE=image/png:https://www.afssi.fr/wp-content/uploads/2025/04/2025-Swidd-HLG-Conference.png
END:VEVENT
END:VCALENDAR