BEGIN:VCALENDAR
VERSION:2.0
PRODID:-//AFSSI Sciences de la Vie - ECPv5.14.1//NONSGML v1.0//EN
CALSCALE:GREGORIAN
METHOD:PUBLISH
X-WR-CALNAME:AFSSI Sciences de la Vie
X-ORIGINAL-URL:https://www.afssi.fr
X-WR-CALDESC:Events for AFSSI Sciences de la Vie
REFRESH-INTERVAL;VALUE=DURATION:PT1H
X-Robots-Tag:noindex
X-PUBLISHED-TTL:PT1H
BEGIN:VTIMEZONE
TZID:Europe/Paris
BEGIN:DAYLIGHT
TZOFFSETFROM:+0100
TZOFFSETTO:+0200
TZNAME:CEST
DTSTART:20250330T010000
END:DAYLIGHT
BEGIN:STANDARD
TZOFFSETFROM:+0200
TZOFFSETTO:+0100
TZNAME:CET
DTSTART:20251026T010000
END:STANDARD
END:VTIMEZONE
BEGIN:VEVENT
DTSTART;TZID=Europe/Paris:20250403T170000
DTEND;TZID=Europe/Paris:20250403T203000
DTSTAMP:20260421T125932
CREATED:20250211T104617Z
LAST-MODIFIED:20250328T094423Z
UID:356382-1743699600-1743712200@www.afssi.fr
SUMMARY:Networking à domicile - AFSSI x Charles River Laboratories
DESCRIPTION:Networking à domicile – AFSSI x Charles River Laboratories \nParticipez à l’Afterwork AFSSI x Charles River Laboratories le 3 avril 2025\, à partir de 18h15 à Lyon\, ainsi qu’à la visite guidée à 17h.\n\nCharles River Laboratories vous invite à découvrir leurs installations de pointe\nRendez-vous le 3 avril 2025 à Lyon à 17h pour cet événement organisé par l’AFSSI et Charles River Laboratories. \nCet évènement sera l’occasion de mieux connaître nos membres et leurs actions au sein de la filière ! \nAu programme \n• 17h00 : Visites du site des Oncins* 🏢\nAu cœur de l’innovation : explorez nos laboratoires et zones d’élevage rongeurs \n• 18h15 : mots d’accueil de Charles River Laboratories et de l’AFSSI\n• 18h30 : 3 pitches scientifiques\n› Débloquer le potentiel thérapeutique : les avancées en matière de modèles génétiquement modifiés.​\n› Accélérer l’innovation : le partenariat avec le Jackson laboratory au service de la santé.\n› Optimiser vos études avec des protocoles sur mesure.\n• 19h30 : networking & petits fours 🍸\n\n*si vous souhaitez participer à la visite guidée\, merci de vous rendre sur place à 16h45 afin de vous équiper. \nÀ propos de Charles River Laboratories\n \n  \nCharles River Laboratoire est une entreprise spécialisée qui soutient la recherche fondamentale\, la découverte et l’évaluation de la sécurité jusqu’à la fabrication et la commercialisation de nouvelles thérapies \nJe m’inscris à l’événement\n(Evénement gratuit\, nombre de places limitées) \nInscriptions closes \n*si vous souhaitez participer à la visite guidée\, merci de vous rendre sur place à 16h45 afin de vous équiper.
URL:https://www.afssi.fr/event/networking-a-domicile-afssi-x-charles-river-laboratories/
CATEGORIES:Evénement AFSSI,Evénement filière,Workshop
ATTACH;FMTTYPE=image/png:https://www.afssi.fr/wp-content/uploads/2025/02/Networking-a-domicile_Charles-River.png
END:VEVENT
BEGIN:VEVENT
DTSTART;VALUE=DATE:20250410
DTEND;VALUE=DATE:20250412
DTSTAMP:20260421T125932
CREATED:20250409T141111Z
LAST-MODIFIED:20250409T141111Z
UID:366376-1744243200-1744415999@www.afssi.fr
SUMMARY:Global Summit on Pathology 2025
DESCRIPTION:We are delighted to extend a warm invitation to researchers\, practitioners\, and enthusiasts to participate in the upcoming “Global Summit on Pathology”. Set to be held during April 10th-11th\, 2025 in Virtual event\, this summit is organized by the ScitechSeries and revolves around the theme « Pioneering Innovations and Clinical Integration in Advanced Pathology. » \nPour plus d’informations  \n  \n 
URL:https://www.afssi.fr/event/global-summit-on-pathology-2025/
LOCATION:Virtual event
CATEGORIES:Evénement filière
ATTACH;FMTTYPE=image/png:https://www.afssi.fr/wp-content/uploads/2025/04/Pathology-2025-1.png
END:VEVENT
BEGIN:VEVENT
DTSTART;VALUE=DATE:20250411
DTEND;VALUE=DATE:20250416
DTSTAMP:20260421T125932
CREATED:20250409T145503Z
LAST-MODIFIED:20250409T145503Z
UID:366363-1744329600-1744761599@www.afssi.fr
SUMMARY:35th ESCMID
DESCRIPTION:35th ESCMID du 11 au 15 avril 2025 à Vienne\n  \nL’ESCMID est reconnu par les universitaires\, le milieu clinique et l’industrie comme le plus grand congrès européen pour la présentation et la discussion de la recherche dans les domaines de la microbiologie clinique et des infections. \nProgramme scientifique\nLe programme scientifique de l’ESCMID est une synthèse des priorités actuelles dans les domaines de la microbiologie clinique et des infections. Le diagnostic\, le traitement\, l’épidémiologie et la prévention des maladies infectieuses\, ainsi que la microbiologie de base connexe\, sont traités par des scientifiques de premier plan. Des conférences\, des colloques\, des rencontres avec des experts\, des ateliers pédagogiques\, ainsi que des affiches et des sessions orales\, garantissent une exposition aux développements scientifiques récents. De nombreux sujets sont abordés dans des sessions interactives pour maximiser l’aspect pédagogique. \nL’ESCMID est également devenu une occasion privilégiée pour les groupes de projet de se rencontrer et d’interagir. L’évènement offre une occasion unique de présenter ses travaux à une communauté scientifique large. \nQue vous veniez nous rejoindre à Vienne\, en Autriche ou que vous vous inscriviez en ligne depuis votre salon ou votre bureau\, vous pourrez profiter pleinement de ce que l’ESCMID 2025 a à offrir. \nINSCRIPTION\n  \n 
URL:https://www.afssi.fr/event/35th-ecsmid/
LOCATION:Vienne\, Vienne\, Austria
CATEGORIES:Evénement filière
ATTACH;FMTTYPE=image/png:https://www.afssi.fr/wp-content/uploads/2025/04/Design-sans-titre-2.png
END:VEVENT
BEGIN:VEVENT
DTSTART;TZID=Europe/Paris:20250415T100000
DTEND;TZID=Europe/Paris:20250415T170000
DTSTAMP:20260421T125932
CREATED:20250204T090338Z
LAST-MODIFIED:20250401T074825Z
UID:355027-1744711200-1744736400@www.afssi.fr
SUMMARY:Assemblée Générale ouverte de l'AFSSI 2025
DESCRIPTION:Nous avons le plaisir de vous inviter à notre Assemblée Générale ouverte le 15 avril 2025 au LifeHub Lyon  \nCette journée ouverte à tous vous permet de découvrir nos actions\, nos enjeux\, nos projets\, nos membres et d’échanger avec tous les participants présents. \nAssemblée Générale ouverte :\n \nInscription gratuite mais obligatoire\n  \n  \n \n\nCandidatures aux instances AFSSI\n\nCette AG est l’occasion de recueillir les candidatures de nos membres pour grossir les rangs de nos instances : Présidence\, conseil d’administration\, référents régionaux\, groupes de travail. Tous les membres de plein droit sont éligibles\, alors\, candidatez !\nLes membres à jour de cotisation sont invités à se porter candidats en ligne avant le 4 avril 2023. \n\nProgramme préliminaire\n10h00 – Assemblée Générale statutaire\n\n\nMot d’accueil\nBilan des actions\nÉlection du nouveau conseil d’administration et du nouveau bureau\nPrésentation du plan d’actions et des nouveaux membres\n\n13h00 – Cocktail networking\n\nÉchanges avec nos membres et partenaires \n14h00 – Session d’échanges ouverts\n\nNous recevrons les représentants de France Biotech pour étudier comment renforcer la filière des PMEs opératrices de R&D préclinique et comment mieux l’intégrer aux stratégies nationales \n17h00 – Fin de la journée\n \n  \nInscription gratuite mais obligatoire\n×Inscription à l'Assemblée Générale Ouverte AFSSI \n  \nFermer \nVous êtes membre et ne pourrez pas assister à cette Assemblée Générale ?\ntransmettez votre pouvoir en renseignant le document à télécharger
URL:https://www.afssi.fr/event/ag2025/
LOCATION:LifeHub Lyon\, 14 Imp. Pierre Baizet\,\, Lyon\, 69009\, France
CATEGORIES:Evénement AFSSI,Evénement filière
ATTACH;FMTTYPE=image/png:https://www.afssi.fr/wp-content/uploads/2025/02/Assemblee-Generale-AFSSI-2025.png
ORGANIZER;CN="AFSSI":MAILTO:event@afssi.fr
END:VEVENT
BEGIN:VEVENT
DTSTART;VALUE=DATE:20250421
DTEND;VALUE=DATE:20250425
DTSTAMP:20260421T125932
CREATED:20250408T151042Z
LAST-MODIFIED:20250408T151042Z
UID:366183-1745193600-1745539199@www.afssi.fr
SUMMARY:World Vaccine Congress 2025
DESCRIPTION:Le World Vaccine Congress 2025 est la réunion la plus importante et la mieux établie consacrée aux vaccins. De la recherche fondamentale à la fabrication commerciale\, cette réunion unique couvre l’ensemble de la chaîne de valeur des vaccins. \nCette année\, le World Vaccine Congress se déroulera du 21 au 24 avril au Walter E. Washington Convention Center à Washington\, D.C. \nSi vous êtes impliqué dans les vaccins ou si vous êtes nouveau dans ce domaine en raison de la pandémie\, il s’agit de la réunion la plus importante à laquelle vous participerez. \nUnir les experts en vaccins – partager des connaissances révolutionnaires – lutter contre la pandémie. \n  \nAu programme : \n\nConférences\nAteliers\nEspace d’exposition\nNetworking\n\nConsulter le programme. \nINSCRIPTION\n  \n 
URL:https://www.afssi.fr/event/world-vaccine-congress-2025/
LOCATION:Walter E. Washington Convention Center\, 801 Mount Vernon Place NW\, Washington\, WA\, 20001\, United States
CATEGORIES:Evénement filière
ATTACH;FMTTYPE=image/png:https://www.afssi.fr/wp-content/uploads/2025/04/1-1.png
END:VEVENT
BEGIN:VEVENT
DTSTART;VALUE=DATE:20250425
DTEND;VALUE=DATE:20250501
DTSTAMP:20260421T125932
CREATED:20250408T153921Z
LAST-MODIFIED:20250408T153921Z
UID:366213-1745539200-1746057599@www.afssi.fr
SUMMARY:AACR Annual Meeting  - April 2025
DESCRIPTION:The American Association for Cancer Research (AACR) is the first and largest cancer research organization dedicated to accelerating the conquest of cancer. \nThe AACR Annual Meeting is the focal point of the cancer research community\, where scientists\, clinicians\, other health care professionals\, survivors\, patients\, and advocates gather to share the latest advances in cancer science and medicine. From population science and prevention; to cancer biology\, translational\, and clinical studies; to survivorship and advocacy; the AACR Annual Meeting highlights the work of the best minds in cancer research from institutions all over the world. \n\nVoir le programme \nINSCRIPTION
URL:https://www.afssi.fr/event/aacr-annual-meeting-april-2025-2/
LOCATION:Chicago\, Chicago\, USA
CATEGORIES:Evénement filière
ATTACH;FMTTYPE=image/png:https://www.afssi.fr/wp-content/uploads/2025/04/20240425-AACR-2025.png
END:VEVENT
END:VCALENDAR