BEGIN:VCALENDAR
VERSION:2.0
PRODID:-//AFSSI Sciences de la Vie - ECPv5.14.1//NONSGML v1.0//EN
CALSCALE:GREGORIAN
METHOD:PUBLISH
X-WR-CALNAME:AFSSI Sciences de la Vie
X-ORIGINAL-URL:https://www.afssi.fr
X-WR-CALDESC:Events for AFSSI Sciences de la Vie
REFRESH-INTERVAL;VALUE=DURATION:PT1H
X-Robots-Tag:noindex
X-PUBLISHED-TTL:PT1H
BEGIN:VTIMEZONE
TZID:Europe/Paris
BEGIN:DAYLIGHT
TZOFFSETFROM:+0100
TZOFFSETTO:+0200
TZNAME:CEST
DTSTART:20240331T010000
END:DAYLIGHT
BEGIN:STANDARD
TZOFFSETFROM:+0200
TZOFFSETTO:+0100
TZNAME:CET
DTSTART:20241027T010000
END:STANDARD
END:VTIMEZONE
BEGIN:VEVENT
DTSTART;VALUE=DATE:20240702
DTEND;VALUE=DATE:20240704
DTSTAMP:20260422T015347
CREATED:20240409T145239Z
LAST-MODIFIED:20240409T145259Z
UID:279908-1719878400-1720051199@www.afssi.fr
SUMMARY:AFSSI Connexions 2024 - Montpellier
DESCRIPTION:Rendez-vous les 2 et 3 juillet 2024 à Montpellier !\nL’AFSSI Sciences de la Vie organise\, en partenariat avec AD’OCC\, MedVallée\, Eurobiomed\, Aqua Valley\, Agri Sud-Ouest Innovation\, Derbi et le Pôle Universitaire d’Innovation de Montpellier\, la 10e édition des AFSSI Connexions. Celle-ci se déroulera les 2 et 3 juillet 2024 à Montpellier : Une marketplace annuelle française pour la R&D des Sciences de la Vie. \nLes AFSSI Connexions réuniront sur deux journées les acteurs de l’écosystème pour échanger autour des sujets d’actualité en lien avec nos thématiques d’avenir :\n#Internationalisation de nos entreprises\n#Collaboration publique privée\nPrise en compte des sociétés de services dans les #plans de relance\n#Transfert technologique\n#Souveraineté de nos filières\n#Alliances\n#Recrutement \nLa seconde journée des AFSSI Connexions est intégrée à BtoHealth\, une convention d’affaires organisée avec AD’OCC \nPublics attendus :\n\nSociétés membres de l’AFSSI\nStart-up / TPE / PME / PMI\nGrand groupe (Industrie pharmaceutique\, cosmétique\, agro-alimentaire)\nSociété de biotechnologie\nEtablissements académiques et de recherche publique\nEcoles & centres de formation\nInvestisseur\nGroupement professionnels locaux et structures d’accompagnement\nCabinet conseils (financements\, assurance\, PI\, Business development)\n\n\nJe m’inscris
URL:https://www.afssi.fr/event/afssi-connexions-2024-montpellier/
LOCATION:Ancienne faculté de médecine\, 2 rue de l'école de médecine\, Montpellier\, France
CATEGORIES:Evénement AFSSI,Evénement filière
ATTACH;FMTTYPE=image/png:https://www.afssi.fr/wp-content/uploads/2024/04/AC24_banner_800x350.png
ORGANIZER;CN="AFSSI":MAILTO:event@afssi.fr
END:VEVENT
BEGIN:VEVENT
DTSTART;VALUE=DATE:20240703
DTEND;VALUE=DATE:20240706
DTSTAMP:20260422T015347
CREATED:20231219T133802Z
LAST-MODIFIED:20240221T113003Z
UID:258226-1719964800-1720223999@www.afssi.fr
SUMMARY:RICT-Conférence internationale sur la chimie médicinale 2024
DESCRIPTION:La Société Française de Chimie Thérapeutique – SCT a le plaisir de vous inviter à Bordeaux\, France les 3-5 juillet 2024 pour la 58e édition de la Conférence internationale sur la chimie médicinale ( RICT 2024).\nCet événement est aujourd’hui considéré comme un événement européen majeur par l’ensemble de la communauté et accueille chaque année entre 400 et 600 participants\, dont 44 % sont issus de l’industrie et 49 % sont non français. Le RICT se déroule sur 3 jours et est animé de conférences internationales\, avec plus de 25 intervenants issus du monde académique ou industriel et d’Europe\, d’Amérique ou d’Asie. \nLe congrès sera consacré à « l’interface entre la biologie chimique et la découverte de médicaments ». et comprendra 20 conférences plénières et 6 courtes conférences. \nDe plus\, une séance de posters offrira à tous les participants l’occasion de présenter leurs résultats actuels. Les prix des posters seront attribués à la fin de la réunion. \nInscrivez-vous  \n  \n 
URL:https://www.afssi.fr/event/rict-conference-internationale-sur-la-chimie-medicinale-2024/
LOCATION:bordeaux\, France
CATEGORIES:Evénement filière
ATTACH;FMTTYPE=image/png:https://www.afssi.fr/wp-content/uploads/2023/12/rict-2024-copie.png
END:VEVENT
BEGIN:VEVENT
DTSTART;VALUE=DATE:20240705
DTEND;VALUE=DATE:20240706
DTSTAMP:20260422T015347
CREATED:20240207T150527Z
LAST-MODIFIED:20240213T170017Z
UID:262759-1720137600-1720223999@www.afssi.fr
SUMMARY:Journée Nationale annuelle de la Bioproduction et des Biomédicaments
DESCRIPTION:France BioLead\, la filière française de bioproduction de biomédicaments est fière d’annoncer la création d’une Journée Nationale annuelle de la Bioproduction et des Biomédicaments qui aura lieu de 5 juillet 2024 #JNBB2024\nCette journée sera un moment fort pour fédérer les acteurs de la filière\, les rendre visibles\, faire connaître leurs engagements en faveur de la recherche et des patients\, promouvoir leurs nombreuses opportunités de formation et d’emploi et montrer leur ancrage dans les territoires. Ce sera également l’occasion de dépasser la seule notion de filière et d’y associer très concrètement le grand public et les patients français en leur proposant des échanges et des événements dédiés partout en France. \nRetrouvez leur communiqué de presse à ce sujet : \nCP-5-juillet-2023def\n  \n  \n 
URL:https://www.afssi.fr/event/ournee-nationale-annuelle-de-la-bioproduction-et-des-biomedicaments/
CATEGORIES:Evénement filière
ATTACH;FMTTYPE=image/png:https://www.afssi.fr/wp-content/uploads/2024/02/jnbb-2024-.png
END:VEVENT
END:VCALENDAR