BEGIN:VCALENDAR
VERSION:2.0
PRODID:-//AFSSI Sciences de la Vie - ECPv5.14.1//NONSGML v1.0//EN
CALSCALE:GREGORIAN
METHOD:PUBLISH
X-WR-CALNAME:AFSSI Sciences de la Vie
X-ORIGINAL-URL:https://www.afssi.fr
X-WR-CALDESC:Events for AFSSI Sciences de la Vie
REFRESH-INTERVAL;VALUE=DURATION:PT1H
X-Robots-Tag:noindex
X-PUBLISHED-TTL:PT1H
BEGIN:VTIMEZONE
TZID:Europe/Paris
BEGIN:DAYLIGHT
TZOFFSETFROM:+0100
TZOFFSETTO:+0200
TZNAME:CEST
DTSTART:20230326T010000
END:DAYLIGHT
BEGIN:STANDARD
TZOFFSETFROM:+0200
TZOFFSETTO:+0100
TZNAME:CET
DTSTART:20231029T010000
END:STANDARD
END:VTIMEZONE
BEGIN:VEVENT
DTSTART;VALUE=DATE:20231105
DTEND;VALUE=DATE:20231111
DTSTAMP:20260422T135228
CREATED:20231011T122013Z
LAST-MODIFIED:20231011T122013Z
UID:153678-1699142400-1699660799@www.afssi.fr
SUMMARY:EpiCypher 2023: Biological and Clinical Frontiers in Epigenetics
DESCRIPTION:EpiCypher 2023: Biological and Clinical Frontiers in Epigenetics rassemble des scientifiques universitaires et industriels\, pour discuter des dernières découvertes dans le domaine. Les exposés couvriront un large éventail de sujets liés à l’épigénétique et à la biologie de la chromatine\, allant des mécanismes moléculaires de base aux efforts thérapeutiques. En outre\, il y aura des discussions autour de l’élucidation de nouveaux mécanismes\, de nouveaux outils et d’autres sujets de rupture dans la recherche sur l’épigénétique et la chromatine. \nINSCRIPTION
URL:https://www.afssi.fr/event/epicypher-2023-biological-and-clinical-frontiers-in-epigenetics/
LOCATION:Cancun\, Mexique
CATEGORIES:Evénement filière
ATTACH;FMTTYPE=image/png:https://www.afssi.fr/wp-content/uploads/2022/02/banner-EpiCypher-2023.png
END:VEVENT
BEGIN:VEVENT
DTSTART;VALUE=DATE:20231111
DTEND;VALUE=DATE:20231116
DTSTAMP:20260422T135228
CREATED:20231025T081336Z
LAST-MODIFIED:20231025T081652Z
UID:239022-1699660800-1700092799@www.afssi.fr
SUMMARY:Neuroscience  2023
DESCRIPTION:NEUROSCIENCE \nDu 11 au 15 Novembre 2023 \n\nDes scientifiques du monde entier se rassembleront à Neuroscience 2023 pour découvrir de nouvelles idées\, partager leurs recherches et découvrir le meilleur de ce domaine. \nÀ Neuroscience 2023\, vous aurez l’occasion de présenter des recherches\, de réseauter avec des scientifiques\, d’assister à des séances et à des événements et de parcourir la salle d’exposition. Des affiches virtuelles seront disponibles du jeudi 2 novembre au vendredi 15 décembre. \nInscrivez-vous dès maintenant \n En savoir plus
URL:https://www.afssi.fr/event/neuroscience-2023/
LOCATION:Centre de congrès Walter\, Washington
CATEGORIES:Evénement filière
ATTACH;FMTTYPE=image/png:https://www.afssi.fr/wp-content/uploads/2023/10/neuroscience-2023-.png
END:VEVENT
BEGIN:VEVENT
DTSTART;TZID=Europe/Paris:20231115T083000
DTEND;TZID=Europe/Paris:20231116T180000
DTSTAMP:20260422T135228
CREATED:20230927T133734Z
LAST-MODIFIED:20230927T133734Z
UID:229109-1700037000-1700157600@www.afssi.fr
SUMMARY:Colloque POLEPHARMA Industrie du Futur - 6ème édition
DESCRIPTION:Le rendez-vous annuel des acteurs de la Transformation Technologique de l’Industrie Pharmaceutique\n\n\n\n\nLe Colloque POLEPHARMA Industrie du Futur – 6ᵉ édition aura lieu les 15 et 16 novembre\n\n\n\n\n\n\n\n\nLe Colloque POLEPHARMA Industrie du Futur est le rendez-vous annuel des acteurs de la Transformation Technologique de l’Industrie Pharmaceutique. Cette 6e édition est présidée par Monsieur Renaud Sermonade “VP and General Manager EMEA Prescription Division” chez APTAR PHARMA. L’événement réunira plus de 250 décideurs et acteurs de l’Industrie de la production pharmaceutique autour d’une journée rythmée par des conférences\, des ateliers pratiques\, des retours d’expériences\, des échanges ainsi qu’un cocktail dînatoire. \n\n\n\nComment la donnée va-t-elle transformer la filière Pharmaceutique ? Tel est le thème de cette journée\, afin de trouver une réponse aux questions : \n\nComment l’intelligence artificielle transformera nos sites de production ?\nQuelle stratégie de captation\, stockage ou sécurisation de mes données adopter ?\nQuels sont les meilleurs outils ? Quels sont les retours d’expérience des 1ᵉʳˢ utilisateurs ?\nDois-je adapter mon organisation ? De quelles compétences mon entreprise doit-elle se munir ?\n\nRetour en images sur le Colloque POLEPHARMA Industrie du Futur – 5e édition : \n\n\n\n\nEn savoir plus
URL:https://www.afssi.fr/event/colloque-polepharma-industrie-du-futur-6eme-edition/
LOCATION:Place des halles\, Hôtel d’Agglomération – 28000 CHARTRES FRANCE\, Chartres\, 28000
CATEGORIES:Evénement filière
ATTACH;FMTTYPE=image/jpeg:https://www.afssi.fr/wp-content/uploads/2023/09/colloque-POLEPHARMA-industrie-du-futur-6e-edition.jpg
ORGANIZER;CN="Polepharma":MAILTO:contact@polepharma.com
END:VEVENT
BEGIN:VEVENT
DTSTART;VALUE=DATE:20231122
DTEND;VALUE=DATE:20231124
DTSTAMP:20260422T135228
CREATED:20230509T075508Z
LAST-MODIFIED:20230509T075508Z
UID:204773-1700611200-1700783999@www.afssi.fr
SUMMARY:7ème édition I4ID 2023
DESCRIPTION:Immunotherapies & Innovations for Infectious Diseases Congress 2023 (I4ID2023)\nLes 22 et 23 novembre 2023\, Lyon – France\nEspace Tête d’Or de Lyon\nMabDesign et Lyonbiopôle s’associent pour co-organiser la 7e édition du congrès Immunotherapies & Innovations for Infectious Diseases Congress 2023 (I4ID2023) qui se tiendra à l’Espace Tête d’Or de Lyon les 22 et 23 novembre prochains. \nDurant ces deux jours\, industriels pharmaceutiques\, laboratoires de recherche\, cliniciens\, prestataires de services et développeurs de technologie pourront échanger sur le développement des solutions innovantes pour la prévention et le traitement des maladies infectieuses. \nCe congrès international inclut des sessions plénières de haut niveau scientifique\, des pitchs (sélectionnés sur abstract) de sociétés et de laboratoires académiques innovants\, un espace poster\, un hall d’exposition avec des stands permettant de mettre en avant les dernières innovations et une plateforme B2B facilitant les rencontres entre l’ensemble des acteurs. Un diner Cocktail vous sera proposé le premier soir pour networker de manière conviviale. \nLe programme de cette année s’articulera autour de 4 grandes thématiques : \n\nAlternative to antibiotics and current antivirals\nInnovative vaccines\nImmunotherapies\nDiagnostic\, prognostic and clinical biomarkers\n\nLes interventions seront réalisées par des experts de renommée internationale qui feront le point sur les dernières avancées dans ces domaines et par des laboratoires et start-ups proposant des approches innovations dans la lutte contre ces pathologies. \nINSCRIPTIONS \nLes membres de MabDesign et Lyonbiopôle bénéficient d’une réduction sur le tarif d’inscription. \nProfitez des tarifs Early Bird en vous inscrivant avant le 30 Juin 2023.\nInscrivez-vous en ligne : https://i4id.org/register/\nPour en savoir plus sur le programme et s’inscrire consultez : https://i4id.org/ \n\n\nDans le cadre de notre partenariat avec Mabdesign\, les membres de l’AFSSI bénéficient d’une remise de 10%. Contactez-nous pour obtenir le code. \n  \n\n\nAPPEL A PROJETS (Call for abstracts) – Date limite le vendredi 15 Septembre 2023 \nVous travaillez dans le domaine des maladies infectieuses et vous avez une innovation à partager ?\nVous faites partie d’un laboratoire de recherche/ PME / Start-Up ?\nVous souhaitez partager votre expertise ? \n  \nPartagez votre savoir-faire et/ou vos innovations lors de la session PITCH !\nPour en savoir plus sur le programme\, prendre connaissance des conditions de candidature et soumettre un résumé\, consultez : https://i4id.org/abstracts/\nC’est une excellente opportunité pour les Start-ups\, les PME et les laboratoires académiques de partager leur nouveau travail ! \nEnvoi des résumés en anglais jusqu’au 15 Septembre 2023. \n 
URL:https://www.afssi.fr/event/7eme-edition-i4id-2023/
LOCATION:Espace Tête d’Or\, 103 Boulevard de Stalingrad\, Lyon\, 69100\, France
CATEGORIES:Evénement filière,Evénement partenaire
ATTACH;FMTTYPE=image/jpeg:https://www.afssi.fr/wp-content/uploads/2023/05/i4id-2023-banniere-1536x768-1.jpg
END:VEVENT
BEGIN:VEVENT
DTSTART;TZID=Europe/Paris:20231130T173000
DTEND;TZID=Europe/Paris:20231130T223000
DTSTAMP:20260422T135228
CREATED:20231018T140016Z
LAST-MODIFIED:20231018T140759Z
UID:236645-1701365400-1701383400@www.afssi.fr
SUMMARY:6ème conférence Biotechs/Pharmas du PLCF
DESCRIPTION:Innovation dans l’industrie pharmaceutique : vers un nouveau paradigme ?\nCet événement est ouvert aux personnes extérieures à l’association PLCF et sera l’occasion d’échanger entre acteurs de la pharma et de la biotech lors du cocktail qui suivra la conférence. \nInvitation PLCF Nov 30th\nEn savoir plus
URL:https://www.afssi.fr/event/6eme-conference-biotechs-pharmas-du-plcf/
LOCATION:Cercle de l’Union Interalliée\, 33 rue du Faubourg Saint Honoré\, Paris\, 75008\, France
CATEGORIES:Evénement filière
ATTACH;FMTTYPE=image/png:https://www.afssi.fr/wp-content/uploads/2023/10/banner-6eme-conference-biotechs-pharmas-.png
END:VEVENT
END:VCALENDAR