BEGIN:VCALENDAR
VERSION:2.0
PRODID:-//AFSSI Sciences de la Vie - ECPv5.14.1//NONSGML v1.0//EN
CALSCALE:GREGORIAN
METHOD:PUBLISH
X-WR-CALNAME:AFSSI Sciences de la Vie
X-ORIGINAL-URL:https://www.afssi.fr
X-WR-CALDESC:Events for AFSSI Sciences de la Vie
REFRESH-INTERVAL;VALUE=DURATION:PT1H
X-Robots-Tag:noindex
X-PUBLISHED-TTL:PT1H
BEGIN:VTIMEZONE
TZID:Europe/Paris
BEGIN:DAYLIGHT
TZOFFSETFROM:+0100
TZOFFSETTO:+0200
TZNAME:CEST
DTSTART:20220327T010000
END:DAYLIGHT
BEGIN:STANDARD
TZOFFSETFROM:+0200
TZOFFSETTO:+0100
TZNAME:CET
DTSTART:20221030T010000
END:STANDARD
END:VTIMEZONE
BEGIN:VEVENT
DTSTART;VALUE=DATE:20221015
DTEND;VALUE=DATE:20221120
DTSTAMP:20260423T080147
CREATED:20220218T130411Z
LAST-MODIFIED:20220218T130411Z
UID:153660-1665792000-1668902399@www.afssi.fr
SUMMARY:EANM 2022
DESCRIPTION:35th Annual Congress of the European Association\nof Nuclear Medicine\n  \nAvec plus de 150 sessions\, le congrès annuel de l’EANM est la réunion de médecine nucléaire la plus importante au monde. Chaque année\, près de 7 000 participants et 180 entreprises ont la possibilité d’échanger sur les dernières tendances et découvertes dans le domaine de la médecine nucléaire. \nL’EANM s’associe à nouveau avec ses sociétés partenaires externes pour refléter pleinement la multidisciplinarité de la médecine nucléaire dans ses sessions. \n  \nEn savoir plus
URL:https://www.afssi.fr/event/eanm-2022/
LOCATION:barcelone
CATEGORIES:Evénement filière
ATTACH;FMTTYPE=image/jpeg:https://www.afssi.fr/wp-content/uploads/2022/02/eanm-2022.jpg
END:VEVENT
BEGIN:VEVENT
DTSTART;VALUE=DATE:20221102
DTEND;VALUE=DATE:20221105
DTSTAMP:20260423T080147
CREATED:20220221T100359Z
LAST-MODIFIED:20220221T100359Z
UID:153906-1667347200-1667606399@www.afssi.fr
SUMMARY:18ème édition Festival of Biologics
DESCRIPTION:Le Festival of Biologics est le lieu de rencontre de la communauté scientifique en science de la vie pour faire le lien entre le monde universitaire et l’industrie. Avec trois événements en un\, le festival encourage les échanges dans l’ensemble du secteur pour défendre l’innovation et relever les défis complexes auxquels l’industrie des produits biologiques est confrontée. \nContact : Dominique PONS – dominique.pons@mabdesign.fr – 04.78.02.39.94 \n\n\nMore information
URL:https://www.afssi.fr/event/18eme-edition-festival-of-biologics/
LOCATION:basel congress centre\, France
CATEGORIES:Evénement filière
ATTACH;FMTTYPE=image/jpeg:https://www.afssi.fr/wp-content/uploads/2022/02/18ème-édition-Festival-of-Biologics.jpg
END:VEVENT
BEGIN:VEVENT
DTSTART;TZID=Europe/Paris:20221108T090000
DTEND;TZID=Europe/Paris:20221108T140000
DTSTAMP:20260423T080147
CREATED:20221007T135045Z
LAST-MODIFIED:20221014T095802Z
UID:175173-1667898000-1667916000@www.afssi.fr
SUMMARY:Atelier régional AFSSI - Medicalps
DESCRIPTION:Evénement  organisé  par Medicalps et l’AFSSI\n \nQue faut-il retenir de la digitalisation forcée de nos pratiques BizDev tirée de la période COVID ?\nBeaucoup de nos acteurs se questionnent sur l’approche à avoir. Tout digital\, tout présentiel notamment sur les salons internationaux ?\nParticipez à cet atelier régional co-organisé par l’AFSSI et Medicalps ! Une demi-journée d’échanges pour partager vos expériences\, conseils\, idées et bonnes pratiques en matière d’approche commerciale et de tactiques opérationnelles. \n9h00 : Accueil des participants\n\nMots d’accueil par Medicalps et l’AFSSI\n\n9h15 : Témoignages\n\nCorinne ROUCARD\, Présidente – CEO\, Synapcell \nBruno TILLIER\, CEO\, Synthelis\nSociété en cours d’identification\n\n12h00 : Cocktail networking\nInscription gratuite pour les membres mais obligatoire (60€ pour les non membres). \n\nInscription gratuite mais obligatoire ×Inscription à l'Atelier régional AFSSI - Medicalps du 8 novembre \n  \n\n\n\n\n\n\n\n\n\n\n\n\n\n\n\n\n Votre société*\n     \n Votre nom *\n      \n Votre prénom *\n      \n Votre fonction *\n      \n Votre Email *\n      \n Votre téléphone *\n      \n Je participe au cocktail  \n Je suis membre AFSSI \n Je suis membre Medicalps  \nsi vous n'êtes pas membre AFSSI ou Medicalps\, cet événement vous sera facturé 60€. Merci de nous indiquer votre adresse de facturation\n  \n\n \n \n \n\nContacts :\nMEDICALPS\nLinda HAOUCINE\nChargée de communication et d’animation\n+33(0)4 76 54 95 63\nlinda.haoucine@medicalps.eu \nAFSSI\nYohan GROSJEAN\nDirecteur des opérations\n+33 (0)3 84 58 46 85\nygrosjean@afssi.fr \n 
URL:https://www.afssi.fr/event/atelier-regional-afssi-medicalps-2022/
LOCATION:Medytec\, Biopolis - 5 avenue du Grand Sablon\, La Tronche\, 38700\, France
CATEGORIES:Evénement AFSSI,Evénement filière,Workshop
ATTACH;FMTTYPE=image/png:https://www.afssi.fr/wp-content/uploads/2022/10/banner-event-atelier-region-AFSSI-20221108.png
ORGANIZER;CN="AFSSI":MAILTO:event@afssi.fr
END:VEVENT
BEGIN:VEVENT
DTSTART;VALUE=DATE:20221114
DTEND;VALUE=DATE:20221116
DTSTAMP:20260423T080147
CREATED:20220216T150017Z
LAST-MODIFIED:20220216T150017Z
UID:153257-1668384000-1668556799@www.afssi.fr
SUMMARY:11th International Conference on Public Health and Nursing
DESCRIPTION:Participez à la 11e conférence internationale sur les soins infirmiers en santé publique\, qui se tiendra du 14 au 15 novembre 2022 à Melbourne\, en Australie\, pour parler du thème « Améliorer le développement de la santé publique vers des communautés saines ». \nCet évènement vise à réunir des chercheurs de pointe\, des scientifiques universitaires et des chercheurs universitaires pour échanger et partager leurs idées\, leurs expériences et leurs résultats de recherche sur tous les aspects des soins infirmiers en santé publique. \nIl offre également une plateforme aux chercheurs\, aux praticiens et aux éducateurs pour présenter et discuter des innovations\, des tendances et des préoccupations les plus récentes\, ainsi que des défis pratiques rencontrés et des solutions adoptées dans les domaines des soins infirmiers en santé publique. \nDifférents sujets évoqués :\n\n\n\nSoins infirmiers en santé publique/familiaux/communautaires\nSoins infirmiers en oncologie et soins du cancer\nEnseignement/pratique infirmier.e\nSoins infirmiers en santé publique\nSoins de santé primaires\nSanté rurale et soins infirmiers juridiques\nInnovations et développements en soins infirmiers\nClinique\, soins intensifs et soins infirmiers d’urgence\nLes sages-femmes et la santé des femmes\nE-médecine et télé-soins infirmiers…\n\n\n\n  \n Inscription \n  \n 
URL:https://www.afssi.fr/event/11th-international-conference-on-public-health-and-nursing/
LOCATION:Melbourne\, Australia
CATEGORIES:Evénement filière
ATTACH;FMTTYPE=image/jpeg:https://www.afssi.fr/wp-content/uploads/2022/02/11th-International-Conference-on-Public-Health-and-Nursing-1.jpg
END:VEVENT
BEGIN:VEVENT
DTSTART;TZID=Europe/Paris:20221116T080000
DTEND;TZID=Europe/Paris:20221118T170000
DTSTAMP:20260423T080147
CREATED:20220221T162025Z
LAST-MODIFIED:20220228T082946Z
UID:153932-1668585600-1668790800@www.afssi.fr
SUMMARY:Congrès Mondial de la Douleur - SFETD 2022
DESCRIPTION:Le congrès de la SFETD se déroulera du 16 au 18 novembre 2022 au Grand palais à Lille. Forte du succès de son expérience 100 % virtuelle en 2020\, la SFETD vous propose un congrès hybride associant le présentiel et le virtuel.\n\n\n\n\n\n\n\n\n\n\n\nLe contexte sanitaire actuel nous pousse à muter pour plus de flexibilité\, de créativité tout en garantissant qualité scientifique et interactivité. \nEn ne gardant de chaque format que le meilleur\, le congrès hybride va nous permettre d’élargir notre audience aux pays francophones et du Maghreb en partageant une partie des Econférences de haut niveau qui offrira l’interactivité avec nos orateurs. \nLe virtuel a séduit certains d’entre vous par le confort apporté ou encore par la possibilité de cibler vos domaines d’intérêt sans interrompre totalement vos autres activités. Pour vous\, le virtuel sera là. \nD’autres choisiront de se rencontrer physiquement\, et saisiront avec joie l’opportunité de venir en présentiel\, pour discuter\, échanger\, partager\, ou tout simplement prendre un verre au sein de notre communauté. C’est avec plaisir que nous vous accueillerons à Montpellier avec un programme qui s’annonce riche en nouveautés. \nCette année nous mettrons l’accent sur un parcours dédié aux plus jeunes d’entre nous\, ainsi que sur des ateliers pratiques pour favoriser l’enseignement par compagnonnage. \nLe congrès de la SFETD en présentiel\, c’est également l’opportunité d’aller à la rencontre de nos différents partenaires et sponsors\, et de vous tenir au courant et/ou de tester les dernières innovations dans le domaine de la douleur. \n\nhttps://www.congres-sfetd.fr/ 
URL:https://www.afssi.fr/event/congres-mondial-douleur-sfetd-2022/
LOCATION:hybride
CATEGORIES:Evénement filière
ATTACH;FMTTYPE=image/jpeg:https://www.afssi.fr/wp-content/uploads/2022/02/Congrès-Mondial-de-la-Douleur-–-SFETD-2022.jpg
END:VEVENT
BEGIN:VEVENT
DTSTART;TZID=Europe/Paris:20221117T083000
DTEND;TZID=Europe/Paris:20221117T180000
DTSTAMP:20260423T080147
CREATED:20220201T094518Z
LAST-MODIFIED:20220201T094518Z
UID:151204-1668673800-1668708000@www.afssi.fr
SUMMARY:Colloque POLEPHARMA Industrie du Futur - 5ème édition
DESCRIPTION:Le rendez-vous annuel des acteurs de la Transformation Technologique de l’Industrie Pharmaceutique\n\n\n\n\nLe Colloque POLEPHARMA Industrie du Futur – 5e édition aura lieu le 17 novembre\n\n\n\n\n\n\n\n\nLe Colloque POLEPHARMA Industrie du Futur est le rendez-vous annuel des acteurs de la Transformation Technologique de l’Industrie Pharmaceutique. Cette 4e édition est présidée par Marc Debrun\, Président de Beaufour Ipsen Industrie et Directeur du site de Dreux. L’événement réunira plus de 250 décideurs et acteurs de l’Industrie de la production pharmaceutique autour d’une journée rythmée par des conférences\, des ateliers pratiques\, des retours d’expériences\, des échanges ainsi qu’un cocktail dînatoire. \n\n\n\nComment la donnée va-t-elle transformer la filière Pharmaceutique ? Tel est le thème de cette journée\, afin de trouver une réponse aux questions : \n\nComment l’intelligence artificielle transformera nos sites de production ?\nQuelle stratégie de captation\, stockage ou sécurisation de mes données adopter ?\nQuels sont les meilleurs outils ? Quels sont les retours d’expérience des 1ers utilisateurs ?\nDois-je adapter mon organisation ? De quelles compétences mon entreprise doit-elle se munir ?\n\nRetour en images sur le Colloque POLEPHARMA Industrie du Futur – 3e édition : \n\n﻿\nEn savoir plus
URL:https://www.afssi.fr/event/colloque-polepharma-industrie-du-futur-5eme-edition/
LOCATION:chartrexpo\, Rue Jean Mermoz\, Chartres\, 28000\, France
CATEGORIES:Evénement filière
ATTACH;FMTTYPE=image/jpeg:https://www.afssi.fr/wp-content/uploads/2022/01/polepharma-industrie-du-futr.jpg
ORGANIZER;CN="Polepharma":MAILTO:contact@polepharma.com
END:VEVENT
BEGIN:VEVENT
DTSTART;VALUE=DATE:20221129
DTEND;VALUE=DATE:20221201
DTSTAMP:20260423T080147
CREATED:20220203T155439Z
LAST-MODIFIED:20221116T145256Z
UID:152325-1669680000-1669852799@www.afssi.fr
SUMMARY:BioFIT 2022
DESCRIPTION:BioFIT est l’évènement leader en Europe en matière de transfert de technologies\, de collaborations académie-industrie\, de deals d’innovation early-stage et d’investissement en capital-pré-amorçage\, amorçage et capital-risque dans le domaine des Sciences du Vivant. \n\n  \nPOURQUOI PARTICIPER À BIOFIT ? \n\nSur plus de 1 000 participants BioFIT\, 1 015 deals ont été générés. La répartition en termes de nature de transactions est la suivante :\n\n35 % de projets de recherche collaborative\n30 % d’accords de licence\n15 % d’opérations de capital d’investissement\n20 % d’offres de services\n\nEstimation basée sur les résultats des délégués des 2 éditions précédentes.\n\nChiffres-clés de BioFIT\n\n1\,000+ participants\n35+ pays représentés\n60+ speakers\n1015 deals générés\n\nFORMAT DE L’ÉVÈNEMENT\n\nUne convention d’affaires avec des rendez-vous pré-qualifiés\nDes sessions de pitchs :\n\nDes présentations orales de start-ups\nDes opportunités de licensing provenant du milieu académique\nDes présentations orales de projets axés sur la santé animale\n\n\nDes Conférences et des tables rondes\nUne Exposition\n\n \nMEMBRES CO-EXPOSANTS SUR LE PAVILLON AFSSI 2022 :\n\nANS Biotech\nAtlantic Bone Screen\nCilcare\nCynbiose\nDrugabilis\nEnterosys\nEvoly Consulting\nMarshall\nOxeltis\nPharmalex\nVibiosphen\n\nPARTICIPANTS :\n\nPharma:AbbVie | Asahi Kasei Pharma Corporation | Bayer | Boehringer Ingelheim | Daiichi Sankyo Co | EA Pharma | Eli Lilly and Company | Johnson & Johnson Innovation | MSD | Novo Nordisk | Pfizer | Roche | Sanofi | Servier…\nVétérinaire: Altar | Armenta | Avogadro | Boehringer Ingelheim Animal Health | Diagnostics for Animals | Provaxs | ReproPharm | SIMV | Zoetis…\nBiotech et Diag: Accure Therapeutics | Allero Therapeutics | Alzprotect | AM Pharma | Cyclia | Evotec | Genfit | Proteona | Roivant Sciences | Shorla Pharma | Syngulon…\nTTOs et académiques:Ascenion | BioAster | BioInnovation Institute | Cancer Research UK | EMBLEM Technology Transfer | Fraunhofer Institute for Cell Therapy and Immunology | IFOM the FIRC Institute of Molecular Oncology | Imperial College London | INRAE Transfert | IOCB Tech | University of Birmingham | VIB…\nInvestisseurs (pre-seed\, seed\, Series A): BioGeneration Ventures | Cambridge Innovation Capital | Dementia Discovery Fund | European Investment Bank | Fund+ | High-Tech Gründerfonds | INKEF Capital | LSP | M Ventures | Novo Holdings A/S | Sofinnova Partners | Start Codon | Theodorus Investment Funds | TVM Capital Life Sciences | V-Bio Ventures…\n\nTÉLÉCHARGER LE PROGRAMME :\nBrochure 2022 \nN’hésitez pas à largement partager ce document avec vos collègues\, votre réseau\, vos partenaires… \nINSCRIPTIONS\nProfitez du tarif Early Bird jusqu’au 31 mars. (Tarifs tardifs à partir du 28 octobre) \n\n\n\n\n\n\n\n\nInscrivez-vous dès maintenant\nExposez durant l’évènement\n\nLes réductions ne sont pas cumulables avec d’autres offres. \nVOUS ÊTES MEMBRE DE L’AFSSI ? \nEn tant que membre AFSSI\, vous bénéficiez d’une remise de 30%* sur les full pass jusqu’au 14 avril\, puis 20%* sur les full pass jusqu’au 30 juin\, puis 10%* jusqu’à l’événement. \nNe manquez pas la prochaine édition de BioFIT du 29 et 30 novembre prochains et enregistrez-vous en utilisant le coupon code: 20BioFIT_AFSSI22 \nL’AFSSI renouvelle son partenariat avec BioFIT et proposera son pavillon sur l’espace d’exposition de l’événement européen de référence dans le domaine de l’open innovation et du transfert de technologie ! \nEn qualité de membres\, vous bénéficiez d’une belle opportunité de mettre en avant votre savoir-faire à conditions avantageuses. Découvrez nos offres de participation et de co-exposition !Avantages membres \n  \nSite web : www.biofit-event.com \nTwitter : @BIOFIT_EVENT \nLinkedin : @BioFIT Event \n  \nContact : \nLeynha TSIBAH \nResponsable du développement \nletsibah@eurasante.com \n+33 (0)3 28 55 90 73 \nInscription
URL:https://www.afssi.fr/event/biofit-2022/
LOCATION:Palais de la Musique et des Congrès\, Pl. de Bordeaux\, strasbourg\, 67082\, France
CATEGORIES:Evénement filière,Evénement partenaire
ATTACH;FMTTYPE=image/jpeg:https://www.afssi.fr/wp-content/uploads/2022/05/2022-BIOFIT-Bannieres1024x215px-format-hybride.jpg
END:VEVENT
END:VCALENDAR