BEGIN:VCALENDAR
VERSION:2.0
PRODID:-//AFSSI Sciences de la Vie - ECPv5.14.1//NONSGML v1.0//EN
CALSCALE:GREGORIAN
METHOD:PUBLISH
X-WR-CALNAME:AFSSI Sciences de la Vie
X-ORIGINAL-URL:https://www.afssi.fr
X-WR-CALDESC:Events for AFSSI Sciences de la Vie
REFRESH-INTERVAL;VALUE=DURATION:PT1H
X-Robots-Tag:noindex
X-PUBLISHED-TTL:PT1H
BEGIN:VTIMEZONE
TZID:Europe/Paris
BEGIN:DAYLIGHT
TZOFFSETFROM:+0100
TZOFFSETTO:+0200
TZNAME:CEST
DTSTART:20220327T010000
END:DAYLIGHT
BEGIN:STANDARD
TZOFFSETFROM:+0200
TZOFFSETTO:+0100
TZNAME:CET
DTSTART:20221030T010000
END:STANDARD
END:VTIMEZONE
BEGIN:VEVENT
DTSTART;VALUE=DATE:20220930
DTEND;VALUE=DATE:20221004
DTSTAMP:20260423T091723
CREATED:20220221T143615Z
LAST-MODIFIED:20220221T143615Z
UID:153916-1664496000-1664841599@www.afssi.fr
SUMMARY:AAO 2022
DESCRIPTION:Participez à la session de novembre tenue à Chicago\, du 30 septembre au 3 octobre 2022. Cet évènement tiendra compte de la mise en évidence des perles cliniques et des dernières recherches\, à l’établissement de nouvelles connexions et à l’apprentissage de nouvelles techniques. \nLa réunion annuelle de l’Académie vous offre des opportunités d’apprentissage\, pour maîtriser les nouvelles techniques diagnostiques et chirurgicales dans les laboratoires et les cours de transfert de compétences. Les laboratoires de compétences sont des événements payants qui doivent être achetés séparément. \nDes dizaines de sessions ont lieu lors de la réunion annuelle de l’Académie. Souvent\, des conférences nommées ont lieu pendant ces occasions d’apprentissage. \nMore information
URL:https://www.afssi.fr/event/aao-2022/
LOCATION:hybride
CATEGORIES:Evénement filière
ATTACH;FMTTYPE=image/jpeg:https://www.afssi.fr/wp-content/uploads/2022/02/AAO-2022.jpg
END:VEVENT
BEGIN:VEVENT
DTSTART;VALUE=DATE:20221003
DTEND;VALUE=DATE:20221005
DTSTAMP:20260423T091723
CREATED:20220218T103618Z
LAST-MODIFIED:20220218T103618Z
UID:153656-1664755200-1664927999@www.afssi.fr
SUMMARY:Biomarkers US 2022
DESCRIPTION:Biomarkers US est le 7e congrès annuel sur les biomarqueurs et la médecine de précision aux États-Unis. \n\nDécouvrez les dernières utilisations des biomarqueurs en science translationnelle. Les discussions porteront sur le rôle des biomarqueurs dans la traduction dans plusieurs domaines thérapeutiques.\nDiscutez des derniers développements en matière de biomarqueurs génomiques pour le développement clinique\, avec une session dédiée sur le séquençage du génome pour les tests cliniques et le diagnostic\, les biomarqueurs épigénétiques et les progrès des biopsies liquides.\nObtenez de nouvelles perspectives sur les nouvelles frontières de la médecine personnalisée au-delà de l’oncologie. D’autres discussions portent sur la fourniture de diagnostics pour soutenir un portefeuille clinique ciblé et l’analyse des échantillons biologiques.\nDes opportunités de réseautage inégalées. Le congrès de deux jours propose des pauses de réseautage dédiées\, créant une plate-forme interactive pour des discussions scientifiques et des réunions 1-2-1.\n\n\n\n\n\n Inscription  \n  \n 
URL:https://www.afssi.fr/event/biomarkers-us-2022/
LOCATION:hybride
CATEGORIES:Evénement filière
ATTACH;FMTTYPE=image/jpeg:https://www.afssi.fr/wp-content/uploads/2022/02/biomarker-us-2022.jpg
END:VEVENT
BEGIN:VEVENT
DTSTART;VALUE=DATE:20221004
DTEND;VALUE=DATE:20221006
DTSTAMP:20260423T091723
CREATED:20220429T075755Z
LAST-MODIFIED:20220906T133626Z
UID:157442-1664841600-1665014399@www.afssi.fr
SUMMARY:Nutrevent 2022
DESCRIPTION:NutrEvent | 8ème édition\n4 et 5 octobre 2022 | En-personne\, Nantes\n11 octobre 2022 | 100% digital\n\nVenez nous rencontrer lors du Nutrevent qui aura lieu à Nantes les 4 & 5 octobre 2022 ! \nINNOVATIONS | ALIMENTATION\, NUTRITION & SANTÉ HUMAINE/ANIMALE | COLLABORATIONS ACADÉMIE-INDUSTRIE | INVESTISSEMENT \nNutrEvent est la première convention d’affaires européenne dédiée à l’innovation en Alimentation\, Nutrition et Santé humaine et animale. Elle vise à identifier des partenaires industriels\, scientifiques\, commerciaux et financiers pour vos projets d’innovation. NutrEvent regroupe plus de 650 acteurs internationaux : fournisseurs de produits finis à destination de l’alimentation humaine et animale\, de la nutrition clinique\, fournisseurs de compléments alimentaires\, acteurs de l’industrie pharmaceutique\, distributeurs\, fournisseurs d’ingrédients\, et de procédés\, acteurs académiques\, structures de transfert de technologie\, instituts de recherche\, entreprises de services de R&D\, cabinets de conseils et investisseurs. \n\nPOURQUOI PARTICIPER À NUTREVENT ?\nSur 600 participants NutrEvent\, 500 deals ont été générés. La répartition en termes de nature de transactions est la suivante : \n\n40 % de projets de recherche collaborative\n30% de transactions commerciales (vente de produits et services\, accords de distribution…)\n15 % d’accords de licences\n15 % d’opérations de capital d’investissement et de financement\n\nEstimation basée sur l’évaluation des retours des participants de 2017 et 2019 \n  \nCHIFFRES-CLÉS :\n\n650+ participants\n25+ pays représentés\n60 intervenants internationaux\n35+ rendez-vous par participants\n\n  \nPARTICIPANTS :\nAjinomoto | BASF | Cargill | Cosucra | Danone |DSM Venturing | Dupont-Danisco| Evonik Nutrition & Care| INRA| Jungbunzlauer | Lallemand | Laval University | Lesaffre | Naturex | Nestlé | Nexira | Roquette | Sanofi | Seventure Partners | Tate&Lyle | Wagralim | Westminster University… \nVous trouverez les différentes listes des participants des éditions précédentes ici \n  \nFORMAT DE L’ÉVÈNEMENT :\n\nUne convention d’affaires avec des rendez-vous pré-qualifiés\nDes conférences et table-rondes\nUn espace d’exposition\nStart-up Slams\n\n  \nTELECHARGER LE PROGRAMME : \nBrochure NutrEvent 2022 \n  \nPRENEZ PART A L’EVENEMENT :\n\nInscrivez-vous dès maintenant\nExposez durant l’évènement\n\nEn tant que membre AFSSI\, vous bénéficiez de plusieurs réductions avec le code : NE22AFSSI2503 \n\nJusqu’au 30 juin 2022 : 10% sur le “regular price”\nJusqu’à la date de l’évènement : 10% sur le “late registration price”\n\nLes réductions s’appliquent toujours sur le tarif « regular » excepté durant la période « late registration ». Les réductions ne sont pas cumulables avec d’autres offres. \n  \nSite web : www.nutrevent.com \nTwitter : @NutrEvent \nLinkedin : @NutrEvent \n  \nContact : \nNicolas LECHEVALLIER \nResponsable du développement \nnlechevallier@eurasante.com \n+33 (0)3 28 55 90 71 \nInscription
URL:https://www.afssi.fr/event/nutrevent-2022/
LOCATION:Nantes\, France
CATEGORIES:Evénement filière,Evénement partenaire
ATTACH;FMTTYPE=image/jpeg:https://www.afssi.fr/wp-content/uploads/2022/05/Banner_Supporters_Join-us_2135x1068_NE_UK.jpg
END:VEVENT
BEGIN:VEVENT
DTSTART;VALUE=DATE:20221012
DTEND;VALUE=DATE:20221014
DTSTAMP:20260423T091723
CREATED:20220218T102526Z
LAST-MODIFIED:20220218T102526Z
UID:153647-1665532800-1665705599@www.afssi.fr
SUMMARY:23ème édition World vaccine congress europe
DESCRIPTION:Le World Vaccine Congress Europe fête cette année son 23ème anniversaire. Il s’est imposé au fil des ans comme le congrès\, consacré aux vaccins\, le plus important dans le monde. Co-organisé avec le World Veterinary Congress et le Immuno-Oncology Profiling Congress\, il rassemblera cette année encore des experts internationaux intervenant sur toute la chaine de valeur du vaccin. \nLe Congrès mondial des vaccins est une série de conférences et d’expositions primées\, à travers des stands partagés sur le lieu de rencontre. \nContact : Dominique PONS – dominique.pons@mabdesign.fr – 04.78.02.39.94 \n\n\nPlus d’informations
URL:https://www.afssi.fr/event/23eme-edition-world-vaccine-congress-europe/
LOCATION:Palais des congrès de Barcelone\, barcelone\, Espagne
CATEGORIES:Evénement filière
ATTACH;FMTTYPE=image/jpeg:https://www.afssi.fr/wp-content/uploads/2022/02/23ème-édition-World-vaccine-congress-europe.jpg
END:VEVENT
BEGIN:VEVENT
DTSTART;VALUE=DATE:20221013
DTEND;VALUE=DATE:20221016
DTSTAMP:20260423T091723
CREATED:20220218T090015Z
LAST-MODIFIED:20220222T090551Z
UID:153634-1665619200-1665878399@www.afssi.fr
SUMMARY:23e Congrès EVER 2022
DESCRIPTION:EVER – EUROPEAN ASSOCIATION FOR VISION AND EYE RESEARCH (EVER) du 13octobre au 15 octobre 2022\, à Valence. \nÀ propos de EVER\nEVER est la principale association de recherche ophtalmologique en Europe\, couvrant tous les domaines de l’ophtalmologie et des sciences visuelles. \nL’une des principales activités d’EVER est l’organisation d’une réunion de recherche de haute qualité chaque année\, dans un lieu choisi pour son accès et ses installations de congrès. EVER collabore étroitement avec d’autres sociétés pour organiser des réunions conjointes pendant leurs congrès.\nVous trouverez cette année l’équipe Iris Pharma au sein de cet évènement. \n\n Inscription  \n  \n 
URL:https://www.afssi.fr/event/23e-congres-de-ever-2022/
LOCATION:Palacio de Congresos de València\, Avinguda de les Corts Valencianes\,60\, València\, 46015\, Espagne
CATEGORIES:Evénement filière
ATTACH;FMTTYPE=image/jpeg:https://www.afssi.fr/wp-content/uploads/2022/02/23e-Congrès-EVER-2022.jpg
END:VEVENT
BEGIN:VEVENT
DTSTART;VALUE=DATE:20221014
DTEND;VALUE=DATE:20221015
DTSTAMP:20260423T091723
CREATED:20220517T123417Z
LAST-MODIFIED:20220517T123417Z
UID:160586-1665705600-1665791999@www.afssi.fr
SUMMARY:Journée Collaborative 2022 Lyonbiopole
DESCRIPTION:(Inscriptions prochainement ouvertes) \nÉvénement phare de Lyonbiopôle\, la Journée Collaborative a pour objectif de favoriser les partenariats R&D et de catalyser l’émergence de nouveaux outils de prévention\, de diagnostic et de traitement des pathologies. Elle rassemble les acteurs de la filière santé pour anticiper la médecine du futur\, sous un format d’innovation collaborative. \nLa Journée Collaborative est organisée autour de différents temps forts :\n\nDes tables rondes de brainstorming proposées sur des thèmes scientifiques et technologiques\,\nDes interventions d’acteurs de l’éco-système santé qui présentent leurs stratégies de collaboration R&D dans le domaine de la santé\,\nLe Bluesky Meeting\, une session de pitchs visant à favoriser les partenariats technologiques et de recherche en santé entre les acteurs publics et privés présents en Auvergne-Rhône-Alpes\,\nDes moments de réseautage dans un cadre privilégié\,\nDes rendez-vous BtoB de 20 minutes avec les participants.\n\n  \n15 ÉDITIONS RÉUSSIES\n\n+3635 participants\n160 projets présentés lors du Bluesky Meeting\n+193 tables rondes organisées\n30 structures partenaires (pole de compétitvité\, clusters\, associations\, fondations…)\n\nEn savoir plus
URL:https://www.afssi.fr/event/journee-collaborative-2022-lyonbiopole/
LOCATION:WTC Grenoble\, 5-7 Place Robert Schuman\, Grenoble\, 38000\, France
CATEGORIES:Evénement filière
ATTACH;FMTTYPE=image/png:https://www.afssi.fr/wp-content/uploads/2022/05/banner-lyonbiopole.png
END:VEVENT
BEGIN:VEVENT
DTSTART;VALUE=DATE:20221015
DTEND;VALUE=DATE:20221120
DTSTAMP:20260423T091723
CREATED:20220218T130411Z
LAST-MODIFIED:20220218T130411Z
UID:153660-1665792000-1668902399@www.afssi.fr
SUMMARY:EANM 2022
DESCRIPTION:35th Annual Congress of the European Association\nof Nuclear Medicine\n  \nAvec plus de 150 sessions\, le congrès annuel de l’EANM est la réunion de médecine nucléaire la plus importante au monde. Chaque année\, près de 7 000 participants et 180 entreprises ont la possibilité d’échanger sur les dernières tendances et découvertes dans le domaine de la médecine nucléaire. \nL’EANM s’associe à nouveau avec ses sociétés partenaires externes pour refléter pleinement la multidisciplinarité de la médecine nucléaire dans ses sessions. \n  \nEn savoir plus
URL:https://www.afssi.fr/event/eanm-2022/
LOCATION:barcelone
CATEGORIES:Evénement filière
ATTACH;FMTTYPE=image/jpeg:https://www.afssi.fr/wp-content/uploads/2022/02/eanm-2022.jpg
END:VEVENT
BEGIN:VEVENT
DTSTART;VALUE=DATE:20221016
DTEND;VALUE=DATE:20221021
DTSTAMP:20260423T091723
CREATED:20220218T094906Z
LAST-MODIFIED:20220218T094906Z
UID:153641-1665878400-1666310399@www.afssi.fr
SUMMARY:40th Congress of the ESCRS
DESCRIPTION:40e Congrès de l’ESCRS – Amsterdam\nL’ESCRS a été fondée en 1991 pour promouvoir l’éducation et la recherche dans le domaine de la chirurgie implantaire et réfractive et pour faire progresser et promouvoir l’étude et la pratique de l’ophtalmologie. L’ESCRS vise à promouvoir et à soutenir la recherche dans le domaine de l’implantation de lentilles intraoculaires et de la chirurgie réfractive et la diffusion de leurs résultats utiles. L’ESCRS compte plus de 7 500 membres dans 130 pays à travers le monde. \n\nProgramme\n\nLe Congrès ESCRS 2021 offre une variété d’opportunités de sponsoring aux entreprises. \nVous avez la possibilité de vous exposer à l’ESCRS 2022 ou de devenir sponsor. \nINSCRIPTION
URL:https://www.afssi.fr/event/40th-congress-of-the-escrs/
LOCATION:Milan\, Italie
CATEGORIES:Evénement filière
ATTACH;FMTTYPE=image/jpeg:https://www.afssi.fr/wp-content/uploads/2022/02/milano.jpg
END:VEVENT
END:VCALENDAR