BEGIN:VCALENDAR
VERSION:2.0
PRODID:-//AFSSI Sciences de la Vie - ECPv5.14.1//NONSGML v1.0//EN
CALSCALE:GREGORIAN
METHOD:PUBLISH
X-WR-CALNAME:AFSSI Sciences de la Vie
X-ORIGINAL-URL:https://www.afssi.fr
X-WR-CALDESC:Events for AFSSI Sciences de la Vie
REFRESH-INTERVAL;VALUE=DURATION:PT1H
X-Robots-Tag:noindex
X-PUBLISHED-TTL:PT1H
BEGIN:VTIMEZONE
TZID:Europe/Paris
BEGIN:DAYLIGHT
TZOFFSETFROM:+0100
TZOFFSETTO:+0200
TZNAME:CEST
DTSTART:20260329T010000
END:DAYLIGHT
BEGIN:STANDARD
TZOFFSETFROM:+0200
TZOFFSETTO:+0100
TZNAME:CET
DTSTART:20261025T010000
END:STANDARD
END:VTIMEZONE
BEGIN:VEVENT
DTSTART;TZID=Europe/Paris:20260317T150000
DTEND;TZID=Europe/Paris:20260317T160000
DTSTAMP:20260424T183752
CREATED:20260212T114930Z
LAST-MODIFIED:20260212T114930Z
UID:395356-1773759600-1773763200@www.afssi.fr
SUMMARY:Webinaire - Partenaires-Experts : Cézame Connexions
DESCRIPTION:InscriptionWebinaire Cézame Connexions – Transformer votre expertise en RDV qualifiés : la méthode simple (et tenable) des sociétés de services et d'innovation \nDans le cadre d’un webinaire partenaire expert\, nous mettons à l’honneur Cézame Connexions\, expert de la prospection commerciale B2B dédiée aux secteurs des sciences de la vie et des technologies.\nInscription\n \n\n\n\n\n\nClaire CUDREY\nFondatrice & CEO – Cézame Connexions\n\n\n\n\n\n\n\n\nCéline PAILLIER\nDirectrice Générale – Cézame Connexions\n\n\n\n\n\n  \nAu programme de ce webinaire\nPrésentation de Cézame Connexions :\n\nDepuis 2005\, Cézame Connexions conjugue expérience commerciale et expertise scientifique pour accompagner la croissance des entreprises proposant des solutions technologiques en B2B. \nLors de ce webinaire\, les intervenantes partageront leur expérience terrain et aborderont notamment : \n\nLes problématiques récurrentes rencontrées en prospection B2B\nLes leviers pour mieux cibler et prioriser vos comptes\nLes clés pour structurer une démarche de prospection efficace\n\n  \nL’objectif de ce webinaire\nDans un contexte de vente complexe — cycles longs\, multiplicité des décideurs\, manque de lisibilité du pipeline — ce webinaire a pour objectif de vous donner une méthode claire\, simple et durable pour : \n\nTransformer votre expertise en rendez-vous qualifiés\nStructurer une démarche de prospection plus lisible\nConstruire un pipeline solide et pérenne\n\n\nInscription\n  \n 
URL:https://www.afssi.fr/event/webinaire-les-membres-afssi-ont-la-parole-cezame-connexions/
LOCATION:Format digital
CATEGORIES:Evénement AFSSI,Webinar
ATTACH;FMTTYPE=image/png:https://www.afssi.fr/wp-content/uploads/2026/02/20260317-webinaire-expert-Cezme-Connexions.png
ORGANIZER;CN="AFSSI":MAILTO:event@afssi.fr
END:VEVENT
END:VCALENDAR