BEGIN:VCALENDAR
VERSION:2.0
PRODID:-//AFSSI Sciences de la Vie - ECPv5.14.1//NONSGML v1.0//EN
CALSCALE:GREGORIAN
METHOD:PUBLISH
X-WR-CALNAME:AFSSI Sciences de la Vie
X-ORIGINAL-URL:https://www.afssi.fr
X-WR-CALDESC:Events for AFSSI Sciences de la Vie
REFRESH-INTERVAL;VALUE=DURATION:PT1H
X-Robots-Tag:noindex
X-PUBLISHED-TTL:PT1H
BEGIN:VTIMEZONE
TZID:Europe/Paris
BEGIN:DAYLIGHT
TZOFFSETFROM:+0100
TZOFFSETTO:+0200
TZNAME:CEST
DTSTART:20250330T010000
END:DAYLIGHT
BEGIN:STANDARD
TZOFFSETFROM:+0200
TZOFFSETTO:+0100
TZNAME:CET
DTSTART:20251026T010000
END:STANDARD
END:VTIMEZONE
BEGIN:VEVENT
DTSTART;TZID=Europe/Paris:20250424T150000
DTEND;TZID=Europe/Paris:20250424T160000
DTSTAMP:20260425T224237
CREATED:20250324T163253Z
LAST-MODIFIED:20250408T073016Z
UID:361639-1745506800-1745510400@www.afssi.fr
SUMMARY:Webinaire - Les membres AFSSI ont la parole : GENXMAP et ERBC
DESCRIPTION:InscriptionWebinaire – Présentation en une heure de GENXMAP et ERBC \nDans le cadre de la série de Webinaires « Les membres AFSSI ont la parole »\, nous mettons à l’honneur nos membres et leurs expertises. Découvrez sur cette session GENXMAP et ERBC.\nInscription\n \n\n\n\n\n\nLaurie Arnaud-Paroutaud\nR&D Project Manager\, GENXMAP\n\n\n\n\n\n\n\n\nRaafat FARES\nCSO\, ERBC Group\n\n\n\n\n\n  \nAu programme de ce webinaire\nPrésentation de GENXMAP\nFondée en 2020\, GENXMAP combine l’expertise d’une société de R&D en biotechnologie et la flexibilité d’une CRO spécialisée. Elle propose des solutions avancées en génomique et transcriptomique\, accompagnant chercheurs\, institutions et entreprises dans leurs projets scientifiques et médicaux. Grâce à des technologies de pointe et à une approche agile\, GENXMAP accélère l’exploitation des données génétiques\, soutenant ainsi les avancées en recherche scientifique et médicale. \n\nQuestions et réponses\n\n  \nPrésentation de ERBC Group\nERBC est un leader européen indépendant de la recherche et du développement préclinique. Il propose aux acteurs de l’innovation en santé et en chimie une offre de services complète et intégrée de modèles expérimentaux en toxicologie\, en pharmacologie d’efficacité et de sécurité et en sciences analytiques et biomarqueurs translationnels. ERBC accompagne ses clients pour améliorer la productivité de leur R&D en dérisquant chaque projet\, et supporte la constitution des dossiers réglementaires à chaque étape du développement. \n\nQuestions et réponses\n\n\nInscription\n  \n 
URL:https://www.afssi.fr/event/webinaire-les-membres-afssi-ont-la-parole-genxmap/
CATEGORIES:Evénement AFSSI,Webinaire membres
ATTACH;FMTTYPE=image/png:https://www.afssi.fr/wp-content/uploads/2025/03/nouvellebanniere-webinaire.png
END:VEVENT
END:VCALENDAR