BEGIN:VCALENDAR
VERSION:2.0
PRODID:-//AFSSI Sciences de la Vie - ECPv5.14.1//NONSGML v1.0//EN
CALSCALE:GREGORIAN
METHOD:PUBLISH
X-WR-CALNAME:AFSSI Sciences de la Vie
X-ORIGINAL-URL:https://www.afssi.fr
X-WR-CALDESC:Events for AFSSI Sciences de la Vie
REFRESH-INTERVAL;VALUE=DURATION:PT1H
X-Robots-Tag:noindex
X-PUBLISHED-TTL:PT1H
BEGIN:VTIMEZONE
TZID:Europe/Paris
BEGIN:DAYLIGHT
TZOFFSETFROM:+0100
TZOFFSETTO:+0200
TZNAME:CEST
DTSTART:20250330T010000
END:DAYLIGHT
BEGIN:STANDARD
TZOFFSETFROM:+0200
TZOFFSETTO:+0100
TZNAME:CET
DTSTART:20251026T010000
END:STANDARD
END:VTIMEZONE
BEGIN:VEVENT
DTSTART;TZID=Europe/Paris:20250401T150000
DTEND;TZID=Europe/Paris:20250401T160000
DTSTAMP:20260425T224238
CREATED:20250305T162552Z
LAST-MODIFIED:20250305T162841Z
UID:359401-1743519600-1743523200@www.afssi.fr
SUMMARY:Webinaire/Formation AFSSI – Faire du webinaire un outil clé d’amorçage commercial
DESCRIPTION:InscriptionFormation – Faire du webinaire un outil clé d’amorçage commercial  \nDécouvrez lors de cette formation la méthode la plus efficace pour booster votre prospection en ligne\, engager votre audience et attirer de potentiels partenaires !  \nInscription\n \n  \n\n\n\n\n\n\nYohan GROSJEAN \nFondateur et dirigeant\, Essentiel MARKETING \nDirecteur des opérations de l’AFSSI\n \n \n\n\n\n\n\nLe webinaire est bien plus qu’un simple outil de communication\, c’est un levier stratégique pour partager votre expertise\, élargir votre audience et générer des leads qualifiés\, en vous affranchissant des contraintes matérielles ou géographiques. Cet outil simple peut générer de multiples résultats si vous l’exploitez correctement. \nYohan GROSJEAN\, fondateur et dirigeant d’Essentiel MARKETING\, animera cette formation et prodiguera des conseils utiles pour tirer le meilleur parti du webinaire. Fort de plus de 15 ans d’expérience\, Yohan accompagne depuis plus de 12 ans l’AFSSI et plusieurs de ses membres dans leur politique de promotion\, de développement et d’animation de leurs réseaux. \nAu programme de ce webinaire :\n\nRappel des bases du webinaire\nSa place dans une stratégie de communication et commerciale\nGénérer des leads qualifiés grâce au webinaire : conseils et mode d’emploi\n\n  \nEssentiel MARKETING est une agence de communication digitale et événementiel spécialisée dans l’accompagnement des entreprises et des territoires innovants\, plus particulièrement dans le secteur santé. Elle accompagne les entreprises sur des problématiques d’attractivité\, de visibilité\, d’animation de réseaux ainsi que sur l’organisation d’événements physiques et/ou digitaux. \n\nInscription\nVous êtes membre AFSSI et souhaitez présenter votre structure ? Cliquez ici \n×Inscription gratuite \n\n  \n\n\n\n\n\n\n\n\n\n\n\n\n\n\n\n\n Votre société*\n     \n Votre nom *\n      \n Votre prénom *\n      \n Votre fonction *\n      \n Votre Email *\n      \n Votre téléphone *\n      \n\n \n \nFermer
URL:https://www.afssi.fr/event/webinaire-formation-afssi-faire-du-webinaire-un-outil-cle-amorcage-commercial/
LOCATION:Format digital
CATEGORIES:Evénement AFSSI,Webinaire membres
ATTACH;FMTTYPE=image/png:https://www.afssi.fr/wp-content/uploads/2025/03/20250401_Webinaire.png
ORGANIZER;CN="AFSSI":MAILTO:event@afssi.fr
END:VEVENT
END:VCALENDAR