BEGIN:VCALENDAR
VERSION:2.0
PRODID:-//AFSSI Sciences de la Vie - ECPv5.14.1//NONSGML v1.0//EN
CALSCALE:GREGORIAN
METHOD:PUBLISH
X-WR-CALNAME:AFSSI Sciences de la Vie
X-ORIGINAL-URL:https://www.afssi.fr
X-WR-CALDESC:Events for AFSSI Sciences de la Vie
REFRESH-INTERVAL;VALUE=DURATION:PT1H
X-Robots-Tag:noindex
X-PUBLISHED-TTL:PT1H
BEGIN:VTIMEZONE
TZID:Europe/Paris
BEGIN:DAYLIGHT
TZOFFSETFROM:+0100
TZOFFSETTO:+0200
TZNAME:CEST
DTSTART:20240331T010000
END:DAYLIGHT
BEGIN:STANDARD
TZOFFSETFROM:+0200
TZOFFSETTO:+0100
TZNAME:CET
DTSTART:20241027T010000
END:STANDARD
END:VTIMEZONE
BEGIN:VEVENT
DTSTART;TZID=Europe/Paris:20241107T150000
DTEND;TZID=Europe/Paris:20241107T160000
DTSTAMP:20260426T041358
CREATED:20240828T141742Z
LAST-MODIFIED:20241008T073218Z
UID:308180-1730991600-1730995200@www.afssi.fr
SUMMARY:Webinaire - Les membres AFSSI ont la parole : Antineo et Research PIECES
DESCRIPTION:InscriptionWebinaire – Présentation en une heure de Antinéo et Research PIECES \nDans le cadre de la série de Webinaires « Les membres AFSSI ont la parole »\, nous mettons à l’honneur nos membres et leurs expertises. Découvrez sur cette session Antineo et Research PIECES.\nInscription\n \n\n\n\n\n\n\nRenaud MARIN-SIDGWICK\nCEO\, Antineo\n\n\n\n\n\n\n\n\n\nAmandine ROUX\nPrésidente\, Research PIECES\n\n\n\n\n\n\n  \nAu programme de ce webinaire\n\n\n\nPrésentation d’Antineo– 20 minutes\n\n\n\nAntineo est une organisation de recherche contractuelle privée fondée en 2015. Ils fournissent une expertise et des services précliniques aux entreprises privées et aux institutions universitaires dans le domaine de l’oncologie. \n\nQuestions et réponses\n\n  \n\nPrésentation de Research PIECES– 20 minutes\n\nResearch PIECES propose des modèles biologiques innovants permettant de disséquer\, d’approfondir les mécanismes tissulaires\, cellulaires et moléculaires pour comprendre la physiologie du Système Nerveux Central et guérir les maladies neurologiques. \n\nQuestions et réponses\n\n  \n\nInscription
URL:https://www.afssi.fr/event/webinaire-les-membres-afssi-ont-la-parole-antineo-et-research-pieces/
LOCATION:Format digital
CATEGORIES:Evénement AFSSI,Webinaire membres
ATTACH;FMTTYPE=image/png:https://www.afssi.fr/wp-content/uploads/2024/08/20241107_Webinaire-1.png
ORGANIZER;CN="AFSSI":MAILTO:event@afssi.fr
END:VEVENT
END:VCALENDAR