BEGIN:VCALENDAR
VERSION:2.0
PRODID:-//AFSSI Sciences de la Vie - ECPv5.14.1//NONSGML v1.0//EN
CALSCALE:GREGORIAN
METHOD:PUBLISH
X-WR-CALNAME:AFSSI Sciences de la Vie
X-ORIGINAL-URL:https://www.afssi.fr
X-WR-CALDESC:Events for AFSSI Sciences de la Vie
REFRESH-INTERVAL;VALUE=DURATION:PT1H
X-Robots-Tag:noindex
X-PUBLISHED-TTL:PT1H
BEGIN:VTIMEZONE
TZID:Europe/Paris
BEGIN:DAYLIGHT
TZOFFSETFROM:+0100
TZOFFSETTO:+0200
TZNAME:CEST
DTSTART:20240331T010000
END:DAYLIGHT
BEGIN:STANDARD
TZOFFSETFROM:+0200
TZOFFSETTO:+0100
TZNAME:CET
DTSTART:20241027T010000
END:STANDARD
END:VTIMEZONE
BEGIN:VEVENT
DTSTART;TZID=Europe/Paris:20241010T150000
DTEND;TZID=Europe/Paris:20241010T160000
DTSTAMP:20260426T054505
CREATED:20240828T091147Z
LAST-MODIFIED:20240903T123119Z
UID:306221-1728572400-1728576000@www.afssi.fr
SUMMARY:Webinaire - Les membres AFSSI ont la parole : Cynbiose et Motac Neuroscience
DESCRIPTION:InscriptionWebinaire – Présentation en une heure de Cynbiose et Motac Neuroscience \nDans le cadre de la série de Webinaires « Les membres AFSSI ont la parole »\, nous mettons à l’honneur nos membres et leurs expertises. Découvrez sur cette session Cynbiose et Motac Neuroscience.\nInscription\n \n\n\n\n\n\n\nHugues CONTAMIN\nFondateur et dirigeant\, Cynbiose\n\n\n\n\n\n\n\n\n\nErwan BÉZARD\nCEO et CSO\, Motac Neuroscience\n\n\n\n\n\n\n  \nAu programme de ce webinaire\n\nPrésentation de Cynbiose– 20 minutes\n\nCynbiose est une société de services unique en Europe qui a pour but le développement et la commercialisation de modèles innovants dans les espèces primates afin d’accélérer les phases précliniques du développement des candidats médicaments. \n\nPrésentation de Motac Neuroscience– 20 minutes\n\nMotac Neuroscience fournit des services précliniques hautement spécialisés aux industries pharmaceutiques et biotechnologiques dans le but de soutenir la découverte et le développement de thérapies pour les troubles neurologiques et psychiatriques. \n\nPrésentation d’un continuum scientifico-technique\nQuestions et réponses\n\n⚠️EXCLUSIF : Présentation d’un continuum de services scientifico-technique unique en Europe \n\nInscription\nVous êtes membre AFSSI et souhaitez présenter votre structure ? Cliquez ici
URL:https://www.afssi.fr/event/webinaire-les-membres-afssi-ont-la-parole-cynbiose-motac-neurosicence/
LOCATION:Format digital
CATEGORIES:Evénement AFSSI,Webinaire membres
ATTACH;FMTTYPE=image/png:https://www.afssi.fr/wp-content/uploads/2024/08/20241010_Webinaire-1.png
ORGANIZER;CN="AFSSI":MAILTO:event@afssi.fr
END:VEVENT
BEGIN:VEVENT
DTSTART;TZID=Europe/Paris:20241015T150000
DTEND;TZID=Europe/Paris:20241015T160000
DTSTAMP:20260426T054505
CREATED:20240828T090645Z
LAST-MODIFIED:20240902T075215Z
UID:308156-1729004400-1729008000@www.afssi.fr
SUMMARY:Webinaire - Les membres AFSSI ont la parole : PMC Isochem et SMALTIS
DESCRIPTION:InscriptionWebinaire – Présentation en une heure de PMC Isochem et SMALTIS  \nDans le cadre de la série de Webinaires « Les membres AFSSI ont la parole »\, nous mettons à l’honneur nos membres et leurs expertises. Découvrez sur cette session PMC Isochem et SMALTIS.\nInscription\n \n\n\n\n\n\n\nThomas Delacroix\nDirecteur R&D\, PMC Isochem\n\n\n\n\n\n\n\n\n\nClarisse Meneghel\nBusiness Developer\, SMALTIS\n\n\n\n\n\n\n  \nAu programme de ce webinaire\n\n\n\nPrésentation de PMC Isochem– 20 minutes\n\n\n\nPMC Isochem est un fabricant industriel à façon en chimie fine et intervient principalement dans la fabrication de produits pour les industries pharmaceutiques et cosmétiques : intermédiaires\, principes actifs\, excipients\, polymères. Leur département R&D a une activité historique dans les domaines du développement de procédés chimiques et de méthodes analytiques. Depuis quelques années\, son activité s’est élargie à la recherche de nouveaux médicaments\, de nouveaux excipients\, de nouvelles solutions de formulation et à l’ingénierie des protéines. \n\nQuestions et réponses\n\n  \n\nPrésentation de SMALTIS– 20 minutes\n\nSmaltis est un laboratoire français qui contribue et participe de manière efficace au développement de produits de santé (humaine & animale) et de bien-être. Spécialiste en microbiologie et biologie moléculaire\, Smaltis propose des services in vitro sur-mesure dans le domaine des antimicrobiens\, des microbiotes\, de la bioproduction et de la génomique. En véritable expert\, Smaltis accompagne ses prestations scientifiques d’un conseil intègre et éclairé. \n\nQuestions et réponses\n\n\nInscription\nVous êtes membre AFSSI et souhaitez présenter votre structure ? Cliquez ici
URL:https://www.afssi.fr/event/webinaire-les-membres-afssi-ont-la-parole-pmc-isochem-et-smaltis/
LOCATION:Format digital
CATEGORIES:Evénement AFSSI,Webinaire membres
ATTACH;FMTTYPE=image/png:https://www.afssi.fr/wp-content/uploads/2024/07/20241015_Webinaire.png
ORGANIZER;CN="AFSSI":MAILTO:event@afssi.fr
END:VEVENT
END:VCALENDAR