BEGIN:VCALENDAR
VERSION:2.0
PRODID:-//AFSSI Sciences de la Vie - ECPv5.14.1//NONSGML v1.0//EN
CALSCALE:GREGORIAN
METHOD:PUBLISH
X-WR-CALNAME:AFSSI Sciences de la Vie
X-ORIGINAL-URL:https://www.afssi.fr
X-WR-CALDESC:Events for AFSSI Sciences de la Vie
REFRESH-INTERVAL;VALUE=DURATION:PT1H
X-Robots-Tag:noindex
X-PUBLISHED-TTL:PT1H
BEGIN:VTIMEZONE
TZID:Europe/Paris
BEGIN:DAYLIGHT
TZOFFSETFROM:+0100
TZOFFSETTO:+0200
TZNAME:CEST
DTSTART:20250330T010000
END:DAYLIGHT
BEGIN:STANDARD
TZOFFSETFROM:+0200
TZOFFSETTO:+0100
TZNAME:CET
DTSTART:20251026T010000
END:STANDARD
END:VTIMEZONE
BEGIN:VEVENT
DTSTART;VALUE=DATE:20251202
DTEND;VALUE=DATE:20251204
DTSTAMP:20260421T112509
CREATED:20250418T082728Z
LAST-MODIFIED:20250418T082728Z
UID:368534-1764633600-1764806399@www.afssi.fr
SUMMARY:BioFIT 2025
DESCRIPTION:BioFIT | 14ème édition\nLes 2 et 3 décembre 2025 à Strasbourg\nVenez nous rencontrer lors du BioFIT à Strasbourg les 2 et 3 décembre 2025 ! \nBioFIT est l’évènement leader en Europe en matière de transfert de technologies\, de collaborations académie-industrie\, de deals d’innovation early-stage et d’investissement en capital-pré-amorçage\, amorçage et capital-risque dans le domaine des Sciences du Vivant. \nEn 2025\, BioFIT sera organisé conjointement avec MedFIT\, dédié aux partenariats d’innovation et aux cycles d’investissement dans les secteurs MedTech et Diagnostic\, ainsi qu’avec MEDigIT\, la nouvelle convention européenne pour l’innovation en santé numérique. \n\nFORMAT DE L’ÉVÈNEMENT\n\nUne convention d’affaires avec des rendez-vous pré-qualifiés\nProject- CEO matchmaking\nDes sessions de pitchs :\n\nStart-up Slams\nCollaborative and Licensing Opportunity Presentations\nAnimal Health Presentations\n\n\nDes Conférences et des tables rondes\nUn espace exposition\n\nVOUS ÊTES MEMBRE DE L’AFSSI ? \nEn tant que membre AFSSI\, vous bénéficiez d’une remise de 25% sur les full pass tout au long de l’année\, sur le tarif regular puis sur le tarif late registration. Veuillez contacter notre service à l’adresse mail suivante : event@afssi.fr \nL’AFSSI renouvelle son partenariat avec BioFIT et proposera son pavillon sur l’espace d’exposition de l’événement européen de référence dans le domaine de l’open innovation et du transfert de technologie ! \nChiffres-clés de BioFIT\n\n950+ participants\n35+ pays représentés\n100 exposants\n65 intervenants internationaux de haut niveau\n56 projets d’innovation sélectionnés pour les pitchs sessions\n3 000+ rendez-vous pris grâce à la plateforme de partenariat\n\n\nMEMBRES CO-EXPOSANTS SUR LE PAVILLON AFSSI 2024 :\n\nANS Biotech\nAudit&RiskSolutions\nCharles River Laboratories\nCiloa\nDrugabilis\nMarshall Bioresources – Utopia\nPorsolt\nResearch PIECES\n\nPARTICIPANTS :\nDécouvrez la liste des participants de l’édition 2024 \n  \nINSCRIPTIONS\nInscrivez-vous dès maintenant et ne ratez pas le Biofit 2025 ! \nParticipez !\n \nExposez !\n \n  \n 
URL:https://www.afssi.fr/event/biofit-2025/
LOCATION:Strasbourg\, France
CATEGORIES:Evénement filière,Evénement partenaire
ATTACH;FMTTYPE=image/png:https://www.afssi.fr/wp-content/uploads/2025/04/Biofit-Medfit_affiche-1.png
END:VEVENT
END:VCALENDAR