BEGIN:VCALENDAR
VERSION:2.0
PRODID:-//AFSSI Sciences de la Vie - ECPv5.14.1//NONSGML v1.0//EN
CALSCALE:GREGORIAN
METHOD:PUBLISH
X-WR-CALNAME:AFSSI Sciences de la Vie
X-ORIGINAL-URL:https://www.afssi.fr
X-WR-CALDESC:Events for AFSSI Sciences de la Vie
REFRESH-INTERVAL;VALUE=DURATION:PT1H
X-Robots-Tag:noindex
X-PUBLISHED-TTL:PT1H
BEGIN:VTIMEZONE
TZID:Europe/Paris
BEGIN:DAYLIGHT
TZOFFSETFROM:+0100
TZOFFSETTO:+0200
TZNAME:CEST
DTSTART:20250330T010000
END:DAYLIGHT
BEGIN:STANDARD
TZOFFSETFROM:+0200
TZOFFSETTO:+0100
TZNAME:CET
DTSTART:20251026T010000
END:STANDARD
END:VTIMEZONE
BEGIN:VEVENT
DTSTART;VALUE=DATE:20250930
DTEND;VALUE=DATE:20251001
DTSTAMP:20260425T150126
CREATED:20250410T073818Z
LAST-MODIFIED:20250606T161003Z
UID:366476-1759190400-1759276799@www.afssi.fr
SUMMARY:FRANCE INNOVATION SANTÉ & COSMÉTIQUE MEETINGS
DESCRIPTION:France Innovation Santé & Cosmétique Meetings 2025 : une journée de connexions stratégiques pour les acteurs de l’innovation\nLe 30 septembre 2025\, ne manquez pas France Innovation Santé & Cosmétique Meetings : une convention d’affaires 100 % digitale dédiée à la création de partenariats innovants dans les filières santé et cosmétique. Une opportunité unique de développer votre réseau et vos projets ! \nUn format digital efficace pour maximiser vos opportunités\nFrance Innovation Santé & Cosmétique Meetings repose sur un format flexible et performant\, pensé pour optimiser votre participation\, que vous soyez : \n\nune PME ou une startup innovante à la recherche de partenaires industriels ou commerciaux\,\nun centre de R&D ou un laboratoire public/privé proposant des technologies ou compétences spécifiques\,\nun investisseur\, un acheteur ou encore un acteur institutionnel souhaitant détecter de nouvelles solutions.\n\n\n Des rendez-vous d’affaires qualifiés\n\nLe cœur de l’événement réside dans son dispositif de rendez-vous BtoB de 30 minutes\, organisés à l’avance grâce à un système de matchmaking intelligent. Ce dernier croise vos offres et besoins avec ceux des autres participants afin de générer des rencontres pertinentes\, efficaces et orientées résultat. \nEn quelques clics\, vous pouvez planifier votre journée\, sélectionner vos interlocuteurs clés\, et bâtir un programme de rendez-vous sur mesure. \n\n Un Networking 3.0 fluide et spontané\n\nAu-delà des rendez-vous planifiés\, la plateforme Vimeet offre un environnement propice à la discussion informelle : chat instantané\, appels vidéo intégrés\, gestion simplifiée des contacts.\nCette approche hybride permet de recréer une ambiance de salon professionnel… depuis votre bureau. \n► Consultez le site officiel de l’événement \nUne édition reconnue par les acteurs du secteur\nFrance Innovation Santé & Cosmétique Meetings a déjà séduit de nombreux acteurs de renom.\nParmi les participants des éditions précédentes\, on compte des industriels comme Sanofi\, BioMérieux\, B. Braun Médical ou VYGON\, mais aussi des institutions publiques telles que le Service de santé des armées.\nPlusieurs centres hospitaliers majeurs ont également pris part à la démarche\, dont le CHU de Bordeaux\, le Centre Hospitalier Sud-Gironde\, le Groupe Hospitalier Paris Saint-Joseph\, le Groupe Hospitalier La Rochelle Ré Aunis et les Hospices civils de Lyon.\nDes centrales d’achat stratégiques comme l’UGAP ou le RESAH y ont également participé\, confirmant l’intérêt de la convention pour les décideurs à tous les niveaux de la chaîne. \nPourquoi participer ? Une journée\, un concentré de valeur ajoutée\nParticiper à France Innovation Santé & Cosmétique Meetings\, c’est investir une journée pour : \n\nRencontrer des décideurs du secteur santé et cosmétique\, en France et à l’international ;\nIdentifier de nouveaux partenaires de recherche\, industriels ou commerciaux ;\nAccélérer vos projets de développement produits\, technologies ou services ;\nBooster votre visibilité auprès d’un écosystème qualifié.\n\nÀ noter : La participation est gratuite pour les donneurs d’ordres et investisseurs\, sous réserve de validation du profil. Pour les autres profils\, un forfait d’inscription est requis. \nUne offre spéciale réservée aux adhérants de l’AFSSI. Pour bénéficier du code :  contactez-nous  \nInfos pratiques\n\nDate : mardi 30 septembre 2025\nFormat : 100 % en ligne\nLangue : français / anglais\nDurée des rendez-vous : 30 minutes\n\nContact organisation : fi-meetings@vimeet.events\nTél. : +33 (0)1 46 90 19 08 \nUn événement à ne pas manquer pour les innovateurs de la santé et de la cosmétique \n  \n  \nInscription\n 
URL:https://www.afssi.fr/event/france-innovation-onlinemeetings-2025/
LOCATION:Format digital
CATEGORIES:Evénement filière,Evénement partenaire
ATTACH;FMTTYPE=image/png:https://www.afssi.fr/wp-content/uploads/2025/04/banniere-FIM.png
END:VEVENT
END:VCALENDAR