BEGIN:VCALENDAR
VERSION:2.0
PRODID:-//AFSSI Sciences de la Vie - ECPv5.14.1//NONSGML v1.0//EN
CALSCALE:GREGORIAN
METHOD:PUBLISH
X-WR-CALNAME:AFSSI Sciences de la Vie
X-ORIGINAL-URL:https://www.afssi.fr
X-WR-CALDESC:Events for AFSSI Sciences de la Vie
REFRESH-INTERVAL;VALUE=DURATION:PT1H
X-Robots-Tag:noindex
X-PUBLISHED-TTL:PT1H
BEGIN:VTIMEZONE
TZID:Europe/Paris
BEGIN:DAYLIGHT
TZOFFSETFROM:+0100
TZOFFSETTO:+0200
TZNAME:CEST
DTSTART:20250330T010000
END:DAYLIGHT
BEGIN:STANDARD
TZOFFSETFROM:+0200
TZOFFSETTO:+0100
TZNAME:CET
DTSTART:20251026T010000
END:STANDARD
END:VTIMEZONE
BEGIN:VEVENT
DTSTART;VALUE=DATE:20250929
DTEND;VALUE=DATE:20250930
DTSTAMP:20260425T145609
CREATED:20250905T141830Z
LAST-MODIFIED:20250905T142055Z
UID:383389-1759104000-1759190399@www.afssi.fr
SUMMARY:Forum des Dirigeants Eurobiomed : Financer les CRO innovantes : opportunités et défis
DESCRIPTION:Financer les CRO innovantes : opportunités et défis\n📅 Lundi 29 septembre 2025 | 17h30 – 21h30📍 Hôtel & Spa Oceania Le Métropole Montpellier – 3 Rue du Clos René\, 34000 Montpellier \nVous êtes dirigeant dans le secteur de la santé et vous cherchez à faire grandir votre entreprise ?Vous voulez comprendre comment financer l’innovation et découvrir quelles stratégies de croissance fonctionnent vraiment ? \nAlors ne manquez pas ce rendez-vous exclusif !\n✅ Un événement partenaire de l’AFSSI répondant aux enjeux de consolidation portés par les instances\n✅ Des experts de premier plan partageront leurs visions et leurs retours d’expérience✅ Vous découvrirez les modèles de financement les plus porteurs : capital-risque\, private equity\, fusions-acquisitions\, partenariats stratégiques…✅ Vous repartirez avec des conseils concrets pour accélérer le développement de votre société✅ Un dîner convivial et une session de networking pour échanger directement avec investisseurs et dirigeants \nNos intervenants d’exception\n\nEmmanuelle Trombe\, Partner\, McDermott Will & Emery\nJonathan Dupont\, Associate\, Mérieux Equity Partners\nCélia Belline\, CEO\, Cilcare\nPascal Descargues\, CEO\, Genoskin\n\n⚠️ Les places sont limitées.💡 Participation : 50 € HT par personne (à régler lors de l’inscription). \nNe manquez pas cette opportunité unique ! \nPour vous inscrire au forum\, cliquez sur le bouton ci-dessous : \nS’inscrire\n \n  \n 
URL:https://www.afssi.fr/event/forum-des-dirigeants-eurobiomed-financer-les-cro-innovantes-opportunites-et-defis/
LOCATION:Montpellier
CATEGORIES:Evénement filière,Evénement partenaire
ATTACH;FMTTYPE=image/jpeg:https://www.afssi.fr/wp-content/uploads/2025/09/20250905-Partenariat-AFSSI-Eurobiomed.jpg
END:VEVENT
END:VCALENDAR