BEGIN:VCALENDAR
VERSION:2.0
PRODID:-//AFSSI Sciences de la Vie - ECPv5.14.1//NONSGML v1.0//EN
CALSCALE:GREGORIAN
METHOD:PUBLISH
X-WR-CALNAME:AFSSI Sciences de la Vie
X-ORIGINAL-URL:https://www.afssi.fr
X-WR-CALDESC:Events for AFSSI Sciences de la Vie
REFRESH-INTERVAL;VALUE=DURATION:PT1H
X-Robots-Tag:noindex
X-PUBLISHED-TTL:PT1H
BEGIN:VTIMEZONE
TZID:Europe/Paris
BEGIN:DAYLIGHT
TZOFFSETFROM:+0100
TZOFFSETTO:+0200
TZNAME:CEST
DTSTART:20250330T010000
END:DAYLIGHT
BEGIN:STANDARD
TZOFFSETFROM:+0200
TZOFFSETTO:+0100
TZNAME:CET
DTSTART:20251026T010000
END:STANDARD
END:VTIMEZONE
BEGIN:VEVENT
DTSTART;VALUE=DATE:20250826
DTEND;VALUE=DATE:20250828
DTSTAMP:20260425T175036
CREATED:20250409T133928Z
LAST-MODIFIED:20250409T133928Z
UID:366355-1756166400-1756339199@www.afssi.fr
SUMMARY:International Conference on Vaccines & Immunization 2025
DESCRIPTION:We’re excited to introduce the hybrid edition of the « International conference on Vaccines & Immunization »\, scheduled for August 26-27\, 2025.  \nThis HYBRID EVENT allows you to participate as in person in Paris\, France or Virtually from your home or workplace. \nUnder the theme « Paving the Path to the Future of Vaccination and Immunization\, » the Vaccines & Immunization 2025 conference will bring together renowned global experts\, including researchers\, scientists\, healthcare professionals\, and industry representatives. The event will highlight the latest advancements in vaccine research\, with a special focus on innovative vaccines and disease prevention strategies.Pour plus d’informations  \n  \n 
URL:https://www.afssi.fr/event/international-conference-on-vaccines-immunization-2025/
LOCATION:Paris\, Paris\, France
CATEGORIES:Evénement filière
ATTACH;FMTTYPE=image/png:https://www.afssi.fr/wp-content/uploads/2025/04/Design-sans-titre-1.png
END:VEVENT
END:VCALENDAR