BEGIN:VCALENDAR
VERSION:2.0
PRODID:-//AFSSI Sciences de la Vie - ECPv5.14.1//NONSGML v1.0//EN
CALSCALE:GREGORIAN
METHOD:PUBLISH
X-WR-CALNAME:AFSSI Sciences de la Vie
X-ORIGINAL-URL:https://www.afssi.fr
X-WR-CALDESC:Events for AFSSI Sciences de la Vie
REFRESH-INTERVAL;VALUE=DURATION:PT1H
X-Robots-Tag:noindex
X-PUBLISHED-TTL:PT1H
BEGIN:VTIMEZONE
TZID:Europe/Paris
BEGIN:DAYLIGHT
TZOFFSETFROM:+0100
TZOFFSETTO:+0200
TZNAME:CEST
DTSTART:20250330T010000
END:DAYLIGHT
BEGIN:STANDARD
TZOFFSETFROM:+0200
TZOFFSETTO:+0100
TZNAME:CET
DTSTART:20251026T010000
END:STANDARD
END:VTIMEZONE
BEGIN:VEVENT
DTSTART;VALUE=DATE:20250604
DTEND;VALUE=DATE:20250606
DTSTAMP:20260425T204053
CREATED:20250409T145211Z
LAST-MODIFIED:20250409T145211Z
UID:366401-1748995200-1749167999@www.afssi.fr
SUMMARY:Journées POLEPHARMA du Biotesting - 6ème édition
DESCRIPTION:La 6ème édition des Journées POLEPHARMA du Biotesting se tiendra les 4 & 5 juin 2025 à Evreux.\n\n\n\n\nLes Journées Polepharma du Biotesting\, JPB25\, 6ème édition\, se tiendront les 4&5 juin 2025 à Evreux. C’est l’événement annuel dédié aux stratégies analytiques pour accélérer le développement et la production des médicaments de thérapie innovante. \nLes thématiques de l’édition des JPB25 :\n\nSession 1 : Techniques séparatives pour accélérer le développement des biothérapies.​\nSession 2 : Méthodes alternatives biologiques pour un développement et une libération plus rapides.​\nSession 3 : Process Analytical Technology (PAT) pour une mise sur le marché accélérée.​\nSession 4 : Enjeux réglementaires pour l’enregistrement rapide des biomédicaments.​\nSession Premium : Le biotesting au plus proche du patient.\n\n  \n\nVoir le programme\n\n  \nINSCRIPTION
URL:https://www.afssi.fr/event/journees-polepharma-du-biotesting-6eme-edition-2/
LOCATION:Palais des Congrès d’Evreux\, 1 Bis bd Normandie\, Évreux\, 27000\, France
CATEGORIES:Evénement filière,Evénement partenaire
ATTACH;FMTTYPE=image/png:https://www.afssi.fr/wp-content/uploads/2025/04/2025-Polepharma.png
ORGANIZER;CN="Polepharma":MAILTO:contact@polepharma.com
END:VEVENT
BEGIN:VEVENT
DTSTART;VALUE=DATE:20250605
DTEND;VALUE=DATE:20250606
DTSTAMP:20260425T204053
CREATED:20250410T082136Z
LAST-MODIFIED:20250410T082136Z
UID:366494-1749081600-1749167999@www.afssi.fr
SUMMARY:Journée Nationale annuelle de la Bioproduction et des Biomédicaments 2025
DESCRIPTION:France BioLead\, la filière française de bioproduction de biomédicaments est fière d’annoncer la création d’une Journée Nationale annuelle de la Bioproduction et des Biomédicaments qui aura lieu de 5 juin 2025 #JNBB2025\nCette journée sera un moment fort pour fédérer les acteurs de la filière\, les rendre visibles\, faire connaître leurs engagements en faveur de la recherche et des patients\, promouvoir leurs nombreuses opportunités de formation et d’emploi et montrer leur ancrage dans les territoires. Ce sera également l’occasion de dépasser la seule notion de filière et d’y associer très concrètement le grand public et les patients français en leur proposant des échanges et des événements dédiés partout en France. \nPour en savoir plus\, cliquez sur le bouton ci-dessous: \nEn savoir plus\n  \n  \n 
URL:https://www.afssi.fr/event/journee-nationale-annuelle-de-la-bioproduction-et-des-biomedicaments-2025/
CATEGORIES:Evénement filière
ATTACH;FMTTYPE=image/png:https://www.afssi.fr/wp-content/uploads/2025/04/2025-JNBB.png
END:VEVENT
END:VCALENDAR