BEGIN:VCALENDAR
VERSION:2.0
PRODID:-//AFSSI Sciences de la Vie - ECPv5.14.1//NONSGML v1.0//EN
CALSCALE:GREGORIAN
METHOD:PUBLISH
X-WR-CALNAME:AFSSI Sciences de la Vie
X-ORIGINAL-URL:https://www.afssi.fr
X-WR-CALDESC:Events for AFSSI Sciences de la Vie
REFRESH-INTERVAL;VALUE=DURATION:PT1H
X-Robots-Tag:noindex
X-PUBLISHED-TTL:PT1H
BEGIN:VTIMEZONE
TZID:Europe/Paris
BEGIN:DAYLIGHT
TZOFFSETFROM:+0100
TZOFFSETTO:+0200
TZNAME:CEST
DTSTART:20240331T010000
END:DAYLIGHT
BEGIN:STANDARD
TZOFFSETFROM:+0200
TZOFFSETTO:+0100
TZNAME:CET
DTSTART:20241027T010000
END:STANDARD
END:VTIMEZONE
BEGIN:VEVENT
DTSTART;TZID=Europe/Paris:20241212T083000
DTEND;TZID=Europe/Paris:20241212T173000
DTSTAMP:20260426T052244
CREATED:20241104T154236Z
LAST-MODIFIED:20241104T163223Z
UID:332038-1733992200-1734024600@www.afssi.fr
SUMMARY:3rd Learning Exposition - BioKryo
DESCRIPTION:3rd Learning Expedition of BioKryo\nOn December 12th – Bussy-Saint-Georges\, France\n\nBioKryo is pleased to invite you to visit the French site ok BioKryo\, one of the secure storage sites of the BioKryo Europe Business Unit of the Air Liquide Healthcare ! \nThis day will offer the chance to dive into best practices for safeguarding vital Biological Resources. \n\nOn the agenda\, we find :\n⇾ A guided tour of our storage facilities\, covering infrastructure and operational insights \n⇾ A focused discussion on traceability and quality assurance \n⇾ A feedback session with some of our key clients \nThe day will end with a relaxed drink\, providing the perfect setting to connect with their team and explore potential partnerships 🤝 \n📅 12 December 2024\n⏱️First slot: 08:30 – 12:30\n⏱️Second slot: 13:30 – 17:30\n📌 Bussy-Saint-Georges\, France \n  \nRegister now\n 
URL:https://www.afssi.fr/event/3rd-learning-expedition-biokryo/
LOCATION:Bussy-Saint-Georges
CATEGORIES:Evénement filière,Evénement partenaire
ATTACH;FMTTYPE=image/png:https://www.afssi.fr/wp-content/uploads/2024/11/3rd-Learning-expedition-biokryo.png
END:VEVENT
END:VCALENDAR