BEGIN:VCALENDAR
VERSION:2.0
PRODID:-//AFSSI Sciences de la Vie - ECPv5.14.1//NONSGML v1.0//EN
CALSCALE:GREGORIAN
METHOD:PUBLISH
X-WR-CALNAME:AFSSI Sciences de la Vie
X-ORIGINAL-URL:https://www.afssi.fr
X-WR-CALDESC:Events for AFSSI Sciences de la Vie
REFRESH-INTERVAL;VALUE=DURATION:PT1H
X-Robots-Tag:noindex
X-PUBLISHED-TTL:PT1H
BEGIN:VTIMEZONE
TZID:Europe/Paris
BEGIN:DAYLIGHT
TZOFFSETFROM:+0100
TZOFFSETTO:+0200
TZNAME:CEST
DTSTART:20240331T010000
END:DAYLIGHT
BEGIN:STANDARD
TZOFFSETFROM:+0200
TZOFFSETTO:+0100
TZNAME:CET
DTSTART:20241027T010000
END:STANDARD
END:VTIMEZONE
BEGIN:VEVENT
DTSTART;TZID=Europe/Paris:20241210T090000
DTEND;TZID=Europe/Paris:20241210T170000
DTSTAMP:20260426T052222
CREATED:20241112T095855Z
LAST-MODIFIED:20241112T102453Z
UID:333920-1733821200-1733850000@www.afssi.fr
SUMMARY:Immunology Days - 3rd edition
DESCRIPTION:Immunology Day – 3e édition\nLe 10 décembre à Marseille\, France\n\n« Tous engagés pour le développement de thérapies immunitaires contre le cancer\, les maladies inflammatoires et les maladies infectieuses ». \n  \nLe 10 décembre prochain se tiendra à Marseille la 3ème édition des Journées de l’Immunologie\, organisée par le pôle de compétitivité Eurobiomed avec l’organisation du Marseille Immunology Biocluster (MIB). Cette journée offre une opportunité unique de rencontrer les acteurs clés du secteur de l’immunologie\, y compris les principaux chercheurs\, cliniciens\, start-ups et innovateurs de l’industrie qui façonnent l’avenir des immunothérapies. \nRejoignez-nous le 10 décembre à Marseille pour un événement exclusif dédié au secteur de l’immunologie. \n\nLe programme en cours de consolidation :\n09:00 |Accueil\n09:30 | Introduction\, Eric VACARESSE – Président\, Eurobiomed\n09:40 | Mot des autorités locales\n10:00 | MIB\, un Biocluster International en Immunologie – une mise à jour\n10:20 | Key Note Sanofi : Une stratégie globale ciblant les maladies immunitaires \nPartie 1 : L’ambition du MIB d’accélérer la découverte\, la validation et le succès des cibles\n11:00 | B-SCREEN\, une approche « bed-to-bench » pour révéler des cibles originales\, Pr Noémie JOURDE-CHICHE – MD PhD\, Aix-Marseille Université & MI-mAbs (nom à confirmer)\n11:30 | CELL SCALE\, une plateforme pour des formats innovants\, Pr Daniel OLIVE – MD PhD\, Aix-Marseille Université & Inserm (nom à confirmer) & CIPHE (nom à confirmer) \n12:00 | C2IT\, Quand l’IPC et l’APHM s’associent pour renforcer les essais cliniques en immunologie\, Pr Norbert VEY – Directeur Général\, Institut Paoli-Calmettes & Emilie GARRIDO PRADALIE – Directrice Recherche en Santé et Maladies Rares\, Assistance Publique – Hôpitaux de Marseille \n12:30 | Déjeuner et réseautage\nPartie 2 : Un pôle d’innovation industrielle\n14:00 | Remora Biotech Venture Builder\, M. David BECHARD- PhD CEO\, Nanomunity\n14:30 | ImCheck\, (nom à confirmer) \n\nPartie 3 : Un réseau de collaboration pour soutenir le développement industriel de médicaments\n15:00 | GTP bioways\, M. Eric DEVIC – PhD CEO\, GTP Bioways\n15:30 | Nouvelles opportunités pour démocratiser l’utilisation de la cytométrie en flux\, M. Fabrice MALERGUE- PhD Senior Staff Research Scientist\, Beckman Coulter Life Sciences/ Immunotech\n16:00 | Réseautage\n17:00 | FIN \nInscrivez-vous\nInscription gratuite mais obligatoire
URL:https://www.afssi.fr/event/immunology-days-3rd-edition/
LOCATION:EMD Business School -13003 Marseille
CATEGORIES:Evénement filière,Evénement partenaire
ATTACH;FMTTYPE=image/png:https://www.afssi.fr/wp-content/uploads/2024/11/Immunology-Days-Eurobiomed.png
END:VEVENT
BEGIN:VEVENT
DTSTART;TZID=Europe/Paris:20241210T150000
DTEND;TZID=Europe/Paris:20241210T160000
DTSTAMP:20260426T052222
CREATED:20241025T114035Z
LAST-MODIFIED:20241031T155019Z
UID:328967-1733842800-1733846400@www.afssi.fr
SUMMARY:Webinaire - Les membres AFSSI ont la parole : Actipulse et Vibiosphen
DESCRIPTION:InscriptionWebinaire – Présentation en une heure de Actipulse et Vibiosphen \nDans le cadre de la série de Webinaires « Les membres AFSSI ont la parole »\, nous mettons à l’honneur nos membres et leurs expertises. Découvrez sur cette session Actipulse et Vibiosphen.\nInscription\n \n\n\n\n\n\n\nCoralie DORARD\nHead of Research\, Actipulse\n\n\n\n\n\n\n\n\n\nPatricia MARTIN\nCSO\, Vibiosphen\n\n\n\n\n\n\n  \nAu programme de ce webinaire\n\n\n\nPrésentation d’Actipulse– 20 minutes\n\n\n\nActipulse est une startup de neurotechnologie spécialisée dans la stimulation magnétique transcrânienne non-invasive. Nos projets s’étendent du traitement de troubles psychiatriques au développement de nouvelles solutions pour les pathologies du système nerveux central grâce à notre dispositif médical innovant. \n\nQuestions et réponses\n\n  \n\nPrésentation de Vibiosphen – 20 minutes\n\nVibiosphen est une société innovante qui fournit des services d’évaluation préclinique de nouvelles thérapies antimicrobiennes sur un large catalogue de modèles expérimentaux de souris et de modèles prédictifs in vitro\, allant des modèles standard aux modèles sur mesure. \n\nQuestions et réponses\n\n  \n\nInscription
URL:https://www.afssi.fr/event/webinaire-les-membres-afssi-ont-la-parole-actipulse-et-vibiosphen/
LOCATION:Format digital
CATEGORIES:Evénement AFSSI,Webinaire membres
ATTACH;FMTTYPE=image/png:https://www.afssi.fr/wp-content/uploads/2024/10/20241210_webinaire_actipulse_vibiosphen_web.png
ORGANIZER;CN="AFSSI":MAILTO:event@afssi.fr
END:VEVENT
END:VCALENDAR