BEGIN:VCALENDAR
VERSION:2.0
PRODID:-//AFSSI Sciences de la Vie - ECPv5.14.1//NONSGML v1.0//EN
CALSCALE:GREGORIAN
METHOD:PUBLISH
X-WR-CALNAME:AFSSI Sciences de la Vie
X-ORIGINAL-URL:https://www.afssi.fr
X-WR-CALDESC:Events for AFSSI Sciences de la Vie
REFRESH-INTERVAL;VALUE=DURATION:PT1H
X-Robots-Tag:noindex
X-PUBLISHED-TTL:PT1H
BEGIN:VTIMEZONE
TZID:Europe/Paris
BEGIN:DAYLIGHT
TZOFFSETFROM:+0100
TZOFFSETTO:+0200
TZNAME:CEST
DTSTART:20220327T010000
END:DAYLIGHT
BEGIN:STANDARD
TZOFFSETFROM:+0200
TZOFFSETTO:+0100
TZNAME:CET
DTSTART:20221030T010000
END:STANDARD
END:VTIMEZONE
BEGIN:VEVENT
DTSTART;TZID=Europe/Paris:20220929T100000
DTEND;TZID=Europe/Paris:20220929T150000
DTSTAMP:20260425T232112
CREATED:20220906T084030Z
LAST-MODIFIED:20220906T084030Z
UID:172869-1664445600-1664463600@www.afssi.fr
SUMMARY:Atelier régional Lyonbiopôle - AFSSI : Fusion / Acquisition : Les clés d’une opération réussie
DESCRIPTION:Evénement organisé  par  Lyonbiopôle en partenariat avec l’AFSSI \nFusion / Acquisition : Les clés d’une opération réussie\nL’AFSSI\, en collaboration avec Lyonbiopôle et la Caisse d’Epargne Rhône Alpes  vous propose un atelier dédié aux opérations de fusions et acquisitions. Porté par des experts et des entrepreneurs cet évènement vise à une meilleure compréhension de ces opérations. \n  \n9h15 : Contexte et conjoncture des opérations de M&A et rappels sur leur diversité\nBuildup\, cessions à des industriels ou des fonds\, LBO\, MBO\, MBI… (CERA) \n9h45 : Témoignages de deux entrepreneurs et d’un fonds d’investissement ARCHIMED\nEn vue d’une acquisition ou d’une cession\, quelles démarches d’anticipation\, structuration\, veille en vue de réussir une opération de buildup ou mettre sa société sur une trajectoire de cession \n10h45 : Déroulé d’une opération d’acquisition ou de cession\nQuel est le déroulé d’une opération d’acquisition ou de cession ? / Banque d’investissement \n11h45 : Comment valoriser sa cible ou sa société\nComment valoriser sa cible ou sa société\, notamment pour des sociétés biotech ou medtech ayant beaucoup d’actifs intangibles\, peu ou pas de revenus ou de résultat ? (Cabinet Goodwill) \n12h45 : Cocktail networking\n14h00 : Situation personnelle du dirigeant\nDans le cadre d’une cession\, qu’en est-il de la situation personnelle du dirigeant : patrimoine\, fiscalité\, période de transition… ? (CERA) \n  \n  \nInscription
URL:https://www.afssi.fr/event/atelier-regional-lyonbiopole-afssi-2022/
LOCATION:Lyonbiopole\, Bâtiment EKLAA – 63 Avenue Tony Garnier\, Lyon\, 69007\, France
CATEGORIES:Evénement AFSSI,Evénement filière,Workshop
ATTACH;FMTTYPE=image/png:https://www.afssi.fr/wp-content/uploads/2022/09/banner-event-atelier-region-AFSSI-20220929.png
ORGANIZER;CN="AFSSI":MAILTO:event@afssi.fr
END:VEVENT
END:VCALENDAR