BEGIN:VCALENDAR
VERSION:2.0
PRODID:-//AFSSI Sciences de la Vie - ECPv5.14.1//NONSGML v1.0//EN
CALSCALE:GREGORIAN
METHOD:PUBLISH
X-WR-CALNAME:AFSSI Sciences de la Vie
X-ORIGINAL-URL:https://www.afssi.fr
X-WR-CALDESC:Events for AFSSI Sciences de la Vie
REFRESH-INTERVAL;VALUE=DURATION:PT1H
X-Robots-Tag:noindex
X-PUBLISHED-TTL:PT1H
BEGIN:VTIMEZONE
TZID:Europe/Paris
BEGIN:DAYLIGHT
TZOFFSETFROM:+0100
TZOFFSETTO:+0200
TZNAME:CEST
DTSTART:20220327T010000
END:DAYLIGHT
BEGIN:STANDARD
TZOFFSETFROM:+0200
TZOFFSETTO:+0100
TZNAME:CET
DTSTART:20221030T010000
END:STANDARD
END:VTIMEZONE
BEGIN:VEVENT
DTSTART;VALUE=DATE:20220706
DTEND;VALUE=DATE:20220708
DTSTAMP:20260425T202054
CREATED:20220126T142511Z
LAST-MODIFIED:20220126T142511Z
UID:151318-1657065600-1657238399@www.afssi.fr
SUMMARY:World Congress on Pediatric Research 2022
DESCRIPTION:Retrouvez le début du «Congrès mondial sur la recherche en pédiatrie» du 6 au 7 juillet 2022 au Royaume-Unis. Le prochain rassemblement sera traité autour du point «Recherche et innovation dans le domaine de la pédiatrie». \nDifférents sujets évoqués :\n\n\n\nPédiatrie générale et clinique\nDomaine pédiatrique (cardiologie\, chirurgie\, neurologie\, soins de santé\, dermatologie\, pharmacologie\, radiologie\, néphrologie\, endocrinologie …)\nSoins intensifs pédiatriques et médecine d’urgence\nAllergie et asthme pédiatriques\nNutrition pédiatrique et obésité\nNéonatologie et périnatalogie\nComplications de la grossesse\nAsphyxie périnatale\nMalformations liées à la naissance prématurée\n\n\n\n\n\n\n\n Inscription  \n  \n 
URL:https://www.afssi.fr/event/world-congress-on-pediatric-research-2022/
LOCATION:London\, Royaume-Uni
CATEGORIES:Evénement filière
ATTACH;FMTTYPE=image/jpeg:https://www.afssi.fr/wp-content/uploads/2022/01/World-Congress-on-Pediatric-Research.jpg
END:VEVENT
END:VCALENDAR