BEGIN:VCALENDAR
VERSION:2.0
PRODID:-//AFSSI Sciences de la Vie - ECPv5.14.1//NONSGML v1.0//EN
CALSCALE:GREGORIAN
METHOD:PUBLISH
X-WR-CALNAME:AFSSI Sciences de la Vie
X-ORIGINAL-URL:https://www.afssi.fr
X-WR-CALDESC:Events for AFSSI Sciences de la Vie
REFRESH-INTERVAL;VALUE=DURATION:PT1H
X-Robots-Tag:noindex
X-PUBLISHED-TTL:PT1H
BEGIN:VTIMEZONE
TZID:Europe/Paris
BEGIN:DAYLIGHT
TZOFFSETFROM:+0100
TZOFFSETTO:+0200
TZNAME:CEST
DTSTART:20220327T010000
END:DAYLIGHT
BEGIN:STANDARD
TZOFFSETFROM:+0200
TZOFFSETTO:+0100
TZNAME:CET
DTSTART:20221030T010000
END:STANDARD
END:VTIMEZONE
BEGIN:VEVENT
DTSTART;VALUE=DATE:20220517
DTEND;VALUE=DATE:20220520
DTSTAMP:20260425T172626
CREATED:20220218T162146Z
LAST-MODIFIED:20220218T162146Z
UID:153679-1652745600-1653004799@www.afssi.fr
SUMMARY:Santexpo 2022
DESCRIPTION:Pour cette nouvelle édition\, la FHF souhaite proposer à tous les acteurs de la santé de se réunir autour d’une thématique fil rouge : « Résilience et engagement – Hospitaliers\, industriels\, start-up\, patients… après deux ans de crise Covid\, l’écosystème Santé se retrouve et s’engage pour l’avenir. ». \nEn mai 2022\, la 56e édition de SANTEXPO intègre le hall 1\, pour s’adapter au développement des quatre secteurs représentés par les 900 exposants (équipementiers\, éditeurs de logiciels\, fournisseurs\, entrepreneurs de l’e-santé\, fabricants de dispositifs médicaux\, architectes\, soignants\, institutionnels…) et accueillir les 30 000 professionnels attendus : soignants\, experts\, décideurs et professionnels de santé impliqués dans le management\, le numérique\, l’équipement et la construction des établissements de santé. \n\nChiffres :\n\n– 30 000 VISITEURS\n345 PRISES DE PAROLES\n900 EXPOSANTS\n750 +INTERVENANTS\n\n\n\nEN SAVOIR PLUS
URL:https://www.afssi.fr/event/santexpo-2022/
LOCATION:Paris\, France
CATEGORIES:Evénement filière
ATTACH;FMTTYPE=image/jpeg:https://www.afssi.fr/wp-content/uploads/2022/02/santexpo-2022.jpg
END:VEVENT
BEGIN:VEVENT
DTSTART;VALUE=DATE:20220518
DTEND;VALUE=DATE:20220520
DTSTAMP:20260425T172626
CREATED:20220202T112104Z
LAST-MODIFIED:20220406T074252Z
UID:152211-1652832000-1653004799@www.afssi.fr
SUMMARY:Immuno-oncologie préclinique
DESCRIPTION:Covering key areas of interest within preclinical immuno-oncology\, this interactive online conference is designed for immunotherapy experts to stay up to date with the latest models and approaches impacting their workflow. Discuss innovative approaches to preclinical development\, with a focus on preventing translational failures through the development of predictive and robust preclinical models. \n\n\n\n\n\nBenefits to Attending…\n\n\n\n\n\n\nCovering key areas of interest within preclinical immuno-oncology\, this interactive online conference is designed for immunotherapy experts to stay up to date with the latest models and approaches impacting their workflow\nDiscuss innovative approaches to preclinical development\, with a focus on preventing translational failures through the development of predictive & robust preclinical models\nBenefit from additional sessions on preclinical challenges\, including safety & efficacy considerations\nInteract with fellow attendees and speakers during the live group Q&As\, allowing you to join the conversation and pose your questions to our panel of experts\n\n\n\n\nInscription\n\n\n\nEn savoir plus
URL:https://www.afssi.fr/event/immuno-oncologie-preclinique/
LOCATION:Format digital
CATEGORIES:Evénement filière
ATTACH;FMTTYPE=image/jpeg:https://www.afssi.fr/wp-content/uploads/2022/02/preclinical-immuno-oncology.jpg
END:VEVENT
END:VCALENDAR