BEGIN:VCALENDAR
VERSION:2.0
PRODID:-//AFSSI Sciences de la Vie - ECPv5.14.1//NONSGML v1.0//EN
CALSCALE:GREGORIAN
METHOD:PUBLISH
X-WR-CALNAME:AFSSI Sciences de la Vie
X-ORIGINAL-URL:https://www.afssi.fr
X-WR-CALDESC:Events for AFSSI Sciences de la Vie
REFRESH-INTERVAL;VALUE=DURATION:PT1H
X-Robots-Tag:noindex
X-PUBLISHED-TTL:PT1H
BEGIN:VTIMEZONE
TZID:Europe/Paris
BEGIN:DAYLIGHT
TZOFFSETFROM:+0100
TZOFFSETTO:+0200
TZNAME:CEST
DTSTART:20220327T010000
END:DAYLIGHT
BEGIN:STANDARD
TZOFFSETFROM:+0200
TZOFFSETTO:+0100
TZNAME:CET
DTSTART:20221030T010000
END:STANDARD
END:VTIMEZONE
BEGIN:VEVENT
DTSTART;VALUE=DATE:20220510
DTEND;VALUE=DATE:20220513
DTSTAMP:20260425T173859
CREATED:20220228T155344Z
LAST-MODIFIED:20220228T155431Z
UID:154522-1652140800-1652399999@www.afssi.fr
SUMMARY:VitaFoods 2022
DESCRIPTION:Vitafoods Europe\, l’événement annuel où se réunit l’ensemble des acteurs de la chaîne d’approvisionnement nutraceutique\, couvrant quatre secteurs clés\, ingrédients et matières premières\, produits finis\, label privé et services\, équipement et machinerie\, aura lieu du 10 au 12 mai 2022 dans les halles 2\, 4\, 5 et 6 de Palexpo. \nOffrant une plateforme idéale pour générer de nouvelles opportunités et développer de nouvelles relations\, Vitafoods Europe est le seul évènement dédié aux quatre domaines de l’industrie nutraceutique\, de la matière première au produit fini. \nAvec plus de 1\,200 exposants\, Vitafoods Europe attire chaque année 25\,000 experts de l’industrie\, à la recherche d’ingrédients\, matières premières\, services et compléments alimentaires proposés par des entreprises telle que la vôtre. \nInscription\n 
URL:https://www.afssi.fr/event/vitafoods-2022/
LOCATION:Palexpo\, Le Grand Saconnex\, Suisse
CATEGORIES:Evénement filière
ATTACH;FMTTYPE=image/jpeg:https://www.afssi.fr/wp-content/uploads/2022/02/vitafoods2022.jpg
END:VEVENT
BEGIN:VEVENT
DTSTART;VALUE=DATE:20220511
DTEND;VALUE=DATE:20220513
DTSTAMP:20260425T173859
CREATED:20220201T112415Z
LAST-MODIFIED:20220201T112415Z
UID:152055-1652227200-1652399999@www.afssi.fr
SUMMARY:3rd World Wide Conference on Infectious Diseases
DESCRIPTION:With the grand success from the previous relevant worldwide conferences\, Aver Conferences is organizing the « 3rd World Wide Conference on Infectious Diseases » (Infectious Congress 2021)\, scheduled during May 11-12\, 2022 Online. \nInfectious Congress 2022 brings together the global leaders in infection control and relevant fields\, to present their research at this exclusive scientific program. The conference delivers an opportunity to researchers and experts to discover the basic\, innovative and latest research developments in the field of Infectious Diseases and Treatment. \nBENEFITS\n\nCareer Development\nMake Virtual Connections\nCost Effective as Travel\, Accommodation is Not Required\nConvenient to All\n\n  \nMore Informations ?\nMore information
URL:https://www.afssi.fr/event/3rd-world-wide-conference-on-infectious-diseases/
LOCATION:Format digital
CATEGORIES:Evénement filière
ATTACH;FMTTYPE=image/jpeg:https://www.afssi.fr/wp-content/uploads/2022/02/3rd-online-conference-2.jpg
END:VEVENT
BEGIN:VEVENT
DTSTART;VALUE=DATE:20220512
DTEND;VALUE=DATE:20220514
DTSTAMP:20260425T173859
CREATED:20220126T135332Z
LAST-MODIFIED:20220218T081824Z
UID:151300-1652313600-1652486399@www.afssi.fr
SUMMARY:MEET2WIN 2022
DESCRIPTION:MATWIN organise chaque année au mois de mai\, depuis 2015\, une Convention Partnering Européenne dénommée MEET2WIN entièrement dédiée à l’innovation ouverte et à la recherche collaborative en oncologie. La 7ème édition aura lieu les 12 et 13 mai 2022 au centre des congrès Cité Mondiale à Bordeaux ! \nRassemblant toutes les parties impliquées dans l’innovation en oncologie\, MEET2WIN favorise les rencontres pour optimiser les opportunités de collaboration entre le milieu universitaire et l’industrie. Chefs de projet\, sociétés pharmaceutiques et de diagnostic\, biotechs\, startups\, bureaux de transfert de technologies\, investisseurs se retrouvent autour de rendez-vous B2B pré-programmés pour: \n\nIdentifier les partenaires\nValoriser une expertise particulière\nOptimiser leurs opportunités de collaboration\n\n\n\n  \nUn rendez-vous incontournable\, 300 participants /+ 4 000 rdv B2B pour développer vos collaborations avec des groupes internationaux.\nPour mettre en lumière votre projet\, déposez votre candidature aux sessions Quick Pitch et OUI (Oncology Upward Investment) ! \nInscrivez-vous à tarif préférentiel avant le 28 Février à la 7e édition de MEET2WIN ! \n  \nEn savoir plus \nPlus d’informations
URL:https://www.afssi.fr/event/meet2win-2022/
LOCATION:Centre des congrès Cité Mondiale\, 18 Parv. des Chartrons\, Bordeaux\, 33080
CATEGORIES:Evénement filière
ATTACH;FMTTYPE=image/jpeg:https://www.afssi.fr/wp-content/uploads/2022/01/meet2win-2022-2.jpg
END:VEVENT
BEGIN:VEVENT
DTSTART;VALUE=DATE:20220512
DTEND;VALUE=DATE:20220514
DTSTAMP:20260425T173859
CREATED:20220127T105648Z
LAST-MODIFIED:20220127T105705Z
UID:151555-1652313600-1652486399@www.afssi.fr
SUMMARY:Pharma Partnering Summit 2022
DESCRIPTION:I would like to draw your kind attention to Pharma Partnering Summit 2022 taking place during 12th & 13th May\, 2022 in Brussels\, Belgium. It is one of the most prestigious physical events of 2022 for life science professionals. \nThe Summit is focused on Licensing opportunities\, R&D collaborations\, commercialisation & distribution deals\, fundraising\, digital health alliances\, M&A\, Going Public as well as partnering opportunities in the broader aspects. \n  \n\n\n  \nEn savoir plus \nPlus d’informations
URL:https://www.afssi.fr/event/pharma-partnering-summit-2022/
CATEGORIES:Evénement filière
ATTACH;FMTTYPE=image/jpeg:https://www.afssi.fr/wp-content/uploads/2022/01/Pharma-Partnering-Summit-2022.jpg
END:VEVENT
END:VCALENDAR