BEGIN:VCALENDAR
VERSION:2.0
PRODID:-//AFSSI Sciences de la Vie - ECPv5.14.1//NONSGML v1.0//EN
CALSCALE:GREGORIAN
METHOD:PUBLISH
X-WR-CALNAME:AFSSI Sciences de la Vie
X-ORIGINAL-URL:https://www.afssi.fr
X-WR-CALDESC:Events for AFSSI Sciences de la Vie
REFRESH-INTERVAL;VALUE=DURATION:PT1H
X-Robots-Tag:noindex
X-PUBLISHED-TTL:PT1H
BEGIN:VTIMEZONE
TZID:Europe/Paris
BEGIN:DAYLIGHT
TZOFFSETFROM:+0100
TZOFFSETTO:+0200
TZNAME:CEST
DTSTART:20220327T010000
END:DAYLIGHT
BEGIN:STANDARD
TZOFFSETFROM:+0200
TZOFFSETTO:+0100
TZNAME:CET
DTSTART:20221030T010000
END:STANDARD
END:VTIMEZONE
BEGIN:VEVENT
DTSTART;VALUE=DATE:20220502
DTEND;VALUE=DATE:20220504
DTSTAMP:20260425T172449
CREATED:20220201T095625Z
LAST-MODIFIED:20220201T102040Z
UID:152051-1651449600-1651622399@www.afssi.fr
SUMMARY:56th World Congress on Nursing and Health Care
DESCRIPTION:Cet évènement sera centré autour du thème «Intégrer les jalons dans les soins infirmiers et les soins de santé ». \nLe  Congrès mondial des soins infirmiers 2022 offrira des expériences d’approche de conduite et des progrès d’experts\, pour soutenir des résultats exceptionnels pour les patients et améliorer la transmission des soins au personnel infirmier. \nDifférents sujets évoqués :\n\n\n\nSoins infirmiers en pratique avancée\nSoins infirmiers cardiaques / cliniques / dentaires\nSoins infirmiers en dermatologie / diabète / gastro\nExercice et médecine du sport\, etc.\n\n\n\n  \n Inscription\n  \n 
URL:https://www.afssi.fr/event/56th-world-congress-on-nursing-and-health-care/
LOCATION:Tokyo\, Japon
CATEGORIES:Evénement filière
ATTACH;FMTTYPE=image/jpeg:https://www.afssi.fr/wp-content/uploads/2022/02/56th-world-congress.jpg
END:VEVENT
END:VCALENDAR