BEGIN:VCALENDAR
VERSION:2.0
PRODID:-//AFSSI Sciences de la Vie - ECPv5.14.1//NONSGML v1.0//EN
CALSCALE:GREGORIAN
METHOD:PUBLISH
X-WR-CALNAME:AFSSI Sciences de la Vie
X-ORIGINAL-URL:https://www.afssi.fr
X-WR-CALDESC:Events for AFSSI Sciences de la Vie
REFRESH-INTERVAL;VALUE=DURATION:PT1H
X-Robots-Tag:noindex
X-PUBLISHED-TTL:PT1H
BEGIN:VTIMEZONE
TZID:Europe/Paris
BEGIN:DAYLIGHT
TZOFFSETFROM:+0100
TZOFFSETTO:+0200
TZNAME:CEST
DTSTART:20220327T010000
END:DAYLIGHT
BEGIN:STANDARD
TZOFFSETFROM:+0200
TZOFFSETTO:+0100
TZNAME:CET
DTSTART:20221030T010000
END:STANDARD
END:VTIMEZONE
BEGIN:VEVENT
DTSTART;VALUE=DATE:20220426
DTEND;VALUE=DATE:20220429
DTSTAMP:20260425T155338
CREATED:20220201T094113Z
LAST-MODIFIED:20220201T094113Z
UID:152038-1650931200-1651190399@www.afssi.fr
SUMMARY:Bio Trinity 2022
DESCRIPTION:BioTrinity 2022 a été réinventée en tant que plateforme virtuelle et englobera tous les aspects de la conférence sous forme numérique.\n \n\nBioTrinity est une conférence sur les sciences de la vie qui existe depuis longtemps et qui est très appréciée. La conférence BioTrinity est axée sur les partenariats\, les investissements et la collaboration\, le noyau dur des délégués comprenant des entreprises de biotechnologie\, de technologie médicale et de santé numérique en phase de démarrage et émergentes\, des dirigeants de grandes entreprises pharmaceutiques et des investisseurs dans les sciences de la vie. \n  \n\n\n\nBioTrinity Digital Highlights\n\nUne « piste scientifique » dédiée\, mettant l’accent sur six domaines thérapeutiques principaux ; Oncologie\, SNC\, Microbiome\, Inflammation\, Maladies Rares ainsi qu’IA & Data. Chaque session dédiée comprendra une mise à jour d’expert d’un leader d’opinion clé\, suivie d’un maximum de 10 présentations vitrines de certaines des sociétés de R&D les plus innovantes et les plus intéressantes.\nUne deuxième piste de présentation axée sur les « sciences de la vie »\, qui comprendra des discussions et des discours abordant des sujets tels que la finance et l’investissement\, la réglementation\, la stratégie gouvernementale et la fiscalité.\nRéunions de partenariat privées en direct et en personne préprogrammées pendant la conférence physique de deux jours ainsi qu’un troisième jour bonus de partenariat virtuel uniquement le jeudi 28 avril 2022\nUne zone d’exposition des sponsors et de nombreuses opportunités de réseautage pour tous les délégués tout au long de la journée en personne\, qui sont si précieuses pour partager des connaissances et débloquer de futures collaborations et de nouvelles opportunités commerciales.\nPossibilité pour les délégués inscrits de revoir les présentations enregistrées dans les jours suivant la conférence.\n\nEn savoir plus
URL:https://www.afssi.fr/event/biotrinity-2022/
LOCATION:hybride
CATEGORIES:Evénement filière
ATTACH;FMTTYPE=image/jpeg:https://www.afssi.fr/wp-content/uploads/2022/02/bio-trinity-2022.jpg
END:VEVENT
BEGIN:VEVENT
DTSTART;VALUE=DATE:20220428
DTEND;VALUE=DATE:20220430
DTSTAMP:20260425T155338
CREATED:20220201T111900Z
LAST-MODIFIED:20220201T111900Z
UID:151325-1651104000-1651276799@www.afssi.fr
SUMMARY:23rd International Conference on Clinical Nursing and Practice
DESCRIPTION:Cette conférence se concentre sur le thème « Innovations et défis en soins infirmiers cliniques et en pratique ». \nLa conférence propose aux participants des sessions sur les tendances cliniques\, l’éducation\, la recherche et  la gestion des soins de santé. \nDifférents sujets évoqués :\n\n\n\nSoins infirmiers cliniques /avancés/d’urgence\nFormation infirmière\nRecherche préclinique\nPratique infirmière\nSoins infirmiers juridiques\nGestion des services cliniques/des soins infirmiers\nSoins infirmiers chirurgicaux/cardiaques/aux soins intensifs\nSages-femmes et soins infirmiers aux enfants\nSpécialiste en soins infirmiers cliniques\nPratique infirmière avancée\n\n\n\n  \n Inscription \n  \n 
URL:https://www.afssi.fr/event/soumission-devenement-23rd-international-conference-on-clinical-nursing-and-practice/
LOCATION:Singapour
CATEGORIES:Evénement filière
ATTACH;FMTTYPE=image/jpeg:https://www.afssi.fr/wp-content/uploads/2022/01/27th-Annual-Congress-of-the-ESGCT.jpg
END:VEVENT
END:VCALENDAR