BEGIN:VCALENDAR
VERSION:2.0
PRODID:-//AFSSI Sciences de la Vie - ECPv5.14.1//NONSGML v1.0//EN
CALSCALE:GREGORIAN
METHOD:PUBLISH
X-WR-CALNAME:AFSSI Sciences de la Vie
X-ORIGINAL-URL:https://www.afssi.fr
X-WR-CALDESC:Events for AFSSI Sciences de la Vie
REFRESH-INTERVAL;VALUE=DURATION:PT1H
X-Robots-Tag:noindex
X-PUBLISHED-TTL:PT1H
BEGIN:VTIMEZONE
TZID:Europe/Paris
BEGIN:DAYLIGHT
TZOFFSETFROM:+0100
TZOFFSETTO:+0200
TZNAME:CEST
DTSTART:20220327T010000
END:DAYLIGHT
BEGIN:STANDARD
TZOFFSETFROM:+0200
TZOFFSETTO:+0100
TZNAME:CET
DTSTART:20221030T010000
END:STANDARD
END:VTIMEZONE
BEGIN:VEVENT
DTSTART;VALUE=DATE:20220423
DTEND;VALUE=DATE:20220427
DTSTAMP:20260425T155500
CREATED:20220216T143714Z
LAST-MODIFIED:20220216T143714Z
UID:152220-1650672000-1651017599@www.afssi.fr
SUMMARY:ECCMID 2022
DESCRIPTION:L’ECCMID est reconnu par les universitaires\, le milieu clinique et l’industrie comme le plus grand congrès européen pour la présentation et la discussion de la recherche dans les domaines de la microbiologie clinique et des infections. \nProgramme scientifique\nLe programme scientifique de l’ECCMID est une synthèse des priorités actuelles dans les domaines de la microbiologie clinique et des infections. Le diagnostic\, le traitement\, l’épidémiologie et la prévention des maladies infectieuses\, ainsi que la microbiologie de base connexe\, sont traités par des scientifiques de premier plan. Des conférences\, des colloques\, des rencontres avec des experts\, des ateliers pédagogiques\, ainsi que des affiches et des sessions orales\, garantissent une exposition aux développements scientifiques récents. De nombreux sujets sont abordés dans des sessions interactives pour maximiser l’aspect pédagogique. \nL’ECCMID est également devenu une occasion privilégiée pour les groupes de projet de se rencontrer et d’interagir. L’évènement offre une occasion unique de présenter ses travaux à une communauté scientifique large. \n\n Inscription  \n  \n 
URL:https://www.afssi.fr/event/eccmid2022/
CATEGORIES:Evénement filière
ATTACH;FMTTYPE=image/jpeg:https://www.afssi.fr/wp-content/uploads/2022/02/EECCMID-2022.jpg
END:VEVENT
END:VCALENDAR