BEGIN:VCALENDAR
VERSION:2.0
PRODID:-//AFSSI Sciences de la Vie - ECPv5.14.1//NONSGML v1.0//EN
CALSCALE:GREGORIAN
METHOD:PUBLISH
X-WR-CALNAME:AFSSI Sciences de la Vie
X-ORIGINAL-URL:https://www.afssi.fr
X-WR-CALDESC:Events for AFSSI Sciences de la Vie
REFRESH-INTERVAL;VALUE=DURATION:PT1H
X-Robots-Tag:noindex
X-PUBLISHED-TTL:PT1H
BEGIN:VTIMEZONE
TZID:Europe/Paris
BEGIN:DAYLIGHT
TZOFFSETFROM:+0100
TZOFFSETTO:+0200
TZNAME:CEST
DTSTART:20220327T010000
END:DAYLIGHT
BEGIN:STANDARD
TZOFFSETFROM:+0200
TZOFFSETTO:+0100
TZNAME:CET
DTSTART:20221030T010000
END:STANDARD
END:VTIMEZONE
BEGIN:VEVENT
DTSTART;VALUE=DATE:20220418
DTEND;VALUE=DATE:20220420
DTSTAMP:20260425T155456
CREATED:20220125T104718Z
LAST-MODIFIED:20220125T105159Z
UID:151243-1650240000-1650412799@www.afssi.fr
SUMMARY:17th World Convention on  Waste Recycling and Reuse
DESCRIPTION:RECYCLING SUMMIT 2022 comprend des présentations rapides\, des entretiens oraux et une présentation par affiche\, sous forme de webinaire. \nCet évènement est basé sur le thème « Innovations et réformes dans le recyclage et la gestion des déchets ». Recycling Summit vise à rassembler des universitaires prestigieux\, des conseillers\, des experts du recyclage\, des scientifiques de l’environnement\, des biologistes marins\, etc. pour acquérir et partager leurs expériences sur les aspects du recyclage et des déchets. \nDifférents sujets évoqués :\n\n\n\nBiomasse et bioénergie\nRecyclage des déchets industriels et électroniques / alimentaire / chimiques / plastiques\nRecyclage du papier / du caoutchouc\nGestion des déchets ménagers / dangereux\nTechnologie verte\, etc.\n\n\n\n  \n Inscription\n  \n 
URL:https://www.afssi.fr/event/17th-world-convention-on-waste-recycling-and-reuse/
LOCATION:Tokyo\, Japon
CATEGORIES:Evénement filière
ATTACH;FMTTYPE=image/jpeg:https://www.afssi.fr/wp-content/uploads/2022/01/12e-Journées-scientifiques-du-CNO.jpg
END:VEVENT
END:VCALENDAR