BEGIN:VCALENDAR
VERSION:2.0
PRODID:-//AFSSI Sciences de la Vie - ECPv5.14.1//NONSGML v1.0//EN
CALSCALE:GREGORIAN
METHOD:PUBLISH
X-WR-CALNAME:AFSSI Sciences de la Vie
X-ORIGINAL-URL:https://www.afssi.fr
X-WR-CALDESC:Events for AFSSI Sciences de la Vie
REFRESH-INTERVAL;VALUE=DURATION:PT1H
X-Robots-Tag:noindex
X-PUBLISHED-TTL:PT1H
BEGIN:VTIMEZONE
TZID:Europe/Paris
BEGIN:DAYLIGHT
TZOFFSETFROM:+0100
TZOFFSETTO:+0200
TZNAME:CEST
DTSTART:20220327T010000
END:DAYLIGHT
BEGIN:STANDARD
TZOFFSETFROM:+0200
TZOFFSETTO:+0100
TZNAME:CET
DTSTART:20221030T010000
END:STANDARD
END:VTIMEZONE
BEGIN:VEVENT
DTSTART;VALUE=DATE:20220328
DTEND;VALUE=DATE:20220331
DTSTAMP:20260425T141621
CREATED:20220124T103512Z
LAST-MODIFIED:20220124T104436Z
UID:150221-1648425600-1648684799@www.afssi.fr
SUMMARY:BIO-EUROPE SPRING 2022
DESCRIPTION:BIO-Europe Spring 2022 will bring together the life science community for global dealmaking in-person and digitally. \nAt this event \, you will find: \n\nOne-to-one meetings\nCompany Pitches\nWorkshops\n\n2020 HIGHLIGHTS\n\nFind out the program\nProgram\nRegistration\nIf you are interested about this event\, please register: \nRegister
URL:https://www.afssi.fr/event/bio-europe-spring-2022-2/
LOCATION:Messe Basel\, Messepl. 10\, Bale\, 4055\, Suisse
CATEGORIES:Evénement filière
ATTACH;FMTTYPE=image/jpeg:https://www.afssi.fr/wp-content/uploads/2022/01/bio-europe-spring-2022.jpg
END:VEVENT
BEGIN:VEVENT
DTSTART;VALUE=DATE:20220328
DTEND;VALUE=DATE:20220331
DTSTAMP:20260425T141621
CREATED:20220216T152753Z
LAST-MODIFIED:20220216T152753Z
UID:153263-1648425600-1648684799@www.afssi.fr
SUMMARY:Global Conference on Catalysis & Applied Chemical Engineering 2022
DESCRIPTION:La conférence mondiale sur la catalyse et le génie chimique appliqué (GCC 2022) aura lieu du 28 au 30 mars 2022\, sous forme de webinaire. En effet\, l’accent est mis sur la progression essentielle des développements et des avancées à travers la dernière catalyse et le génie chimique appliqué.\n\n\n\n\n\n\nCette réunion comprend plusieurs sessions interactives\, spécialement conçues pour une activité éducative hautement acclamée\, qui a été considérée comme l’une des réunions prédominantes sur ce sujet. L’objectif de la conférence Catalysis-2022 est de renforcer les avancées et innovations contemporaines dans la recherche sur la chimie et la catalyse. Les présentations seront choisies en fonction de leur articulation\, de leur conception et d’autres caractéristiques\, qui couvrent des aspects plus larges de la recherche en sciences chimiques ainsi que de ses politiques liées aux thèmes.\n\nLe comité vise à créer un environnement de réseau amical et chaleureux entre les participants\, afin d’établir des liens entre eux\, partager leurs idées et jeter les bases d’une vision et d’un développement futur.\nPlus d’informations
URL:https://www.afssi.fr/event/global-conference-on-catalysis-applied-chemical-engineering2022/
LOCATION:Format digital
CATEGORIES:Evénement filière
ATTACH;FMTTYPE=image/jpeg:https://www.afssi.fr/wp-content/uploads/2022/02/Global-Conference-on-Catalysis-Applied-Chemical-Engineering2022.jpg
ORGANIZER;CN="Hazel%20Group":MAILTO:plantbiology@hazelgroup.net
END:VEVENT
END:VCALENDAR