BEGIN:VCALENDAR
VERSION:2.0
PRODID:-//AFSSI Sciences de la Vie - ECPv5.14.1//NONSGML v1.0//EN
CALSCALE:GREGORIAN
METHOD:PUBLISH
X-WR-CALNAME:AFSSI Sciences de la Vie
X-ORIGINAL-URL:https://www.afssi.fr
X-WR-CALDESC:Events for AFSSI Sciences de la Vie
REFRESH-INTERVAL;VALUE=DURATION:PT1H
X-Robots-Tag:noindex
X-PUBLISHED-TTL:PT1H
BEGIN:VTIMEZONE
TZID:Europe/Paris
BEGIN:DAYLIGHT
TZOFFSETFROM:+0100
TZOFFSETTO:+0200
TZNAME:CEST
DTSTART:20220327T010000
END:DAYLIGHT
BEGIN:STANDARD
TZOFFSETFROM:+0200
TZOFFSETTO:+0100
TZNAME:CET
DTSTART:20221030T010000
END:STANDARD
END:VTIMEZONE
BEGIN:VEVENT
DTSTART;VALUE=DATE:20220311
DTEND;VALUE=DATE:20220313
DTSTAMP:20260425T141913
CREATED:20220201T091821Z
LAST-MODIFIED:20220201T091821Z
UID:152035-1646956800-1647129599@www.afssi.fr
SUMMARY:33rd Experts Meet On Cancer Therapy & Immuno Oncology
DESCRIPTION:ConferenceSeries llc LTD  invite tous les participants du monde entier à assister à la « 33ᵉ rencontre d’experts sur la thérapie du cancer et l’immuno-oncologie » qui rassemble toutes les personnes pour partager leurs connaissances et avoir une discussion sur la question actuelle sur le cancer et le développement des thérapies contre le cancer. \nCancer Therapy Meeting 2022 est une expertise dans le domaine de l’oncologie où oncologues\, scientifiques\, chercheurs\, étudiants en médecine\, pharmaciens\, chercheurs en R & D\, professeurs de médecine\, gynécologues\, biologistes moléculaires\, étudiants et professeurs en bio-informatique\, radiologues\, instituts de recherche sur le cancer pour échanger des idées \, communiquez et discutez des travaux de recherche et des nouvelles avancées dans la thérapie et le traitement du cancer. \nDifférents sujets évoqués :\n\n\n\nLe cancer\nLes étapes de cancers\nLes causes de cancer\nLes signes et symptômes de différents cancers\nLes méthodes naturelles pour le traitement du cancer\nLa prise en charge du cancer\nLes soins infirmiers en oncologie\, etc.\n\n\n\n  \n Inscription\n  \n 
URL:https://www.afssi.fr/event/33rd-experts-meet-on-cancer-therapy-immuno-oncology/
LOCATION:Singapour
CATEGORIES:Evénement filière
ATTACH;FMTTYPE=image/jpeg:https://www.afssi.fr/wp-content/uploads/2022/02/33.jpg
END:VEVENT
END:VCALENDAR