BEGIN:VCALENDAR
VERSION:2.0
PRODID:-//AFSSI Sciences de la Vie - ECPv5.14.1//NONSGML v1.0//EN
CALSCALE:GREGORIAN
METHOD:PUBLISH
X-WR-CALNAME:AFSSI Sciences de la Vie
X-ORIGINAL-URL:https://www.afssi.fr
X-WR-CALDESC:Events for AFSSI Sciences de la Vie
REFRESH-INTERVAL;VALUE=DURATION:PT1H
X-Robots-Tag:noindex
X-PUBLISHED-TTL:PT1H
BEGIN:VTIMEZONE
TZID:Europe/Paris
BEGIN:DAYLIGHT
TZOFFSETFROM:+0100
TZOFFSETTO:+0200
TZNAME:CEST
DTSTART:20220327T010000
END:DAYLIGHT
BEGIN:STANDARD
TZOFFSETFROM:+0200
TZOFFSETTO:+0100
TZNAME:CET
DTSTART:20221030T010000
END:STANDARD
END:VTIMEZONE
BEGIN:VEVENT
DTSTART;TZID=Europe/Paris:20220310T150000
DTEND;TZID=Europe/Paris:20220310T173000
DTSTAMP:20260425T141718
CREATED:20220215T093045Z
LAST-MODIFIED:20220301T102519Z
UID:153154-1646924400-1646933400@www.afssi.fr
SUMMARY:Webinaire Adebiotech - Applications du séquençage à très haut débit n°2
DESCRIPTION:Au programme de ce webinaire :\n\nPaul DORAN\, Twist Bioscience – The versatility of low pass sequencing in agrigenomic applications\nSébastien RENOUF\, PathoQuest – La sécurité virale et caractérisation génique des biomédicaments\nBouchera DOUAH et Emeric ROUX\, Thermo Fisher Scientific – Applications du NGS\, du microbiome au metabarcoding\nMarina MOLETTA-DENAT\, INRAE Transfert – Répondre aux enjeux environnements et santé : des recherches ambitieuses portées par les évolutions technologiques des NGS\nAlex DAJKOVIC\, Design Pharmaceuticals – High-throughput discovery of novel ligands of G-protein coupled receptors using the PRESTO-SALSA platform\nTéo FOURNIER\, GenoScreen – Closing the gap(s) : Present and future applications of long read sequencing technologies\n\nQuestions/Réponses\nInscription\n 
URL:https://www.afssi.fr/event/webinaire-adebiotech-applications-du-sequencage-a-tres-haut-debit-n2-2/
LOCATION:Format digital
CATEGORIES:Evénement partenaire
ATTACH;FMTTYPE=image/png:https://www.afssi.fr/wp-content/uploads/2022/02/banner-event-webinar-adebiotech-20220310.png
END:VEVENT
END:VCALENDAR