BEGIN:VCALENDAR
VERSION:2.0
PRODID:-//AFSSI Sciences de la Vie - ECPv5.14.1//NONSGML v1.0//EN
CALSCALE:GREGORIAN
METHOD:PUBLISH
X-WR-CALNAME:AFSSI Sciences de la Vie
X-ORIGINAL-URL:https://www.afssi.fr
X-WR-CALDESC:Events for AFSSI Sciences de la Vie
REFRESH-INTERVAL;VALUE=DURATION:PT1H
X-Robots-Tag:noindex
X-PUBLISHED-TTL:PT1H
BEGIN:VTIMEZONE
TZID:Europe/Paris
BEGIN:DAYLIGHT
TZOFFSETFROM:+0100
TZOFFSETTO:+0200
TZNAME:CEST
DTSTART:20220327T010000
END:DAYLIGHT
BEGIN:STANDARD
TZOFFSETFROM:+0200
TZOFFSETTO:+0100
TZNAME:CET
DTSTART:20221030T010000
END:STANDARD
END:VTIMEZONE
BEGIN:VEVENT
DTSTART;TZID=Europe/Paris:20220222T160000
DTEND;TZID=Europe/Paris:20220222T170000
DTSTAMP:20260425T125255
CREATED:20220201T112646Z
LAST-MODIFIED:20220221T132252Z
UID:151589-1645545600-1645549200@www.afssi.fr
SUMMARY:Webinaire - Les membres AFSSI ont la parole : ICARE et PPRS
DESCRIPTION:InscriptionWebinaire – Présentation en 20 minutes de ICARE et PPRS \nDans le cadre de la série de Webinaires « Les membres AFSSI ont la parole »\,  nous mettons à l’honneur nos membres et leurs expertises. Découvrez sur cette session ICARE et PPRS.\nInscription\n \n\n\n\n\n\n\nAnne DELANNOY\nResponsable marketing et communication\n\n\n\n\n\n\n\n\n\n  \nNadine NOEL\nCEO \n \n\n\n\n\n\n\n\n\n                               \n\nSandra WERNER\nResponsable du non-clinique et du CMC \n \n\n\n\n\n\n\n\n\n\n  \nBaptiste PLANAT\nResponsable de MDIS \n \n\n\n\n\n\n\n  \nAu programme de ce webinaire\n\nPrésentation de ICARE – 20 minutes\n\nICARE\, expert dans la maîtrise de la sécurité des produits de santé \n\n\nQuestions et réponses\nPrésentation de PPRS – 30 minutes\n\nPPRS est une société de développement de solutions et dispositifs médicaux\n\n\nQuestions et réponses\n\n  \n\nInscription\nVous êtes membre AFSSI et souhaitez présenter votre structure ? Cliquez ici \n×Inscription gratuite \n\n  \n\n\n\n\n\n\n\n\n\n\n\n\n\n\n\n\n Votre société*\n     \n Votre nom *\n      \n Votre prénom *\n      \n Votre fonction *\n      \n Votre Email *\n      \n Votre téléphone *\n      \n\n \n \nFermer
URL:https://www.afssi.fr/event/webinaire-les-membres-afssi-ont-la-parole-icare-et-pprs/
LOCATION:Format digital
CATEGORIES:Evénement AFSSI,Webinaire membres
ATTACH;FMTTYPE=image/jpeg:https://www.afssi.fr/wp-content/uploads/2022/01/banner-event-webinar-membre-AFSSI-20220222.jpg
ORGANIZER;CN="AFSSI":MAILTO:event@afssi.fr
END:VEVENT
END:VCALENDAR