BEGIN:VCALENDAR
VERSION:2.0
PRODID:-//AFSSI Sciences de la Vie - ECPv5.14.1//NONSGML v1.0//EN
CALSCALE:GREGORIAN
METHOD:PUBLISH
X-WR-CALNAME:AFSSI Sciences de la Vie
X-ORIGINAL-URL:https://www.afssi.fr
X-WR-CALDESC:Events for AFSSI Sciences de la Vie
REFRESH-INTERVAL;VALUE=DURATION:PT1H
X-Robots-Tag:noindex
X-PUBLISHED-TTL:PT1H
BEGIN:VTIMEZONE
TZID:Europe/Paris
BEGIN:DAYLIGHT
TZOFFSETFROM:+0100
TZOFFSETTO:+0200
TZNAME:CEST
DTSTART:20220327T010000
END:DAYLIGHT
BEGIN:STANDARD
TZOFFSETFROM:+0200
TZOFFSETTO:+0100
TZNAME:CET
DTSTART:20221030T010000
END:STANDARD
END:VTIMEZONE
BEGIN:VEVENT
DTSTART;VALUE=DATE:20220215
DTEND;VALUE=DATE:20220217
DTSTAMP:20260425T141727
CREATED:20220112T151247Z
LAST-MODIFIED:20220112T151247Z
UID:150132-1644883200-1645055999@www.afssi.fr
SUMMARY:Outsourcing in clinical trials west coast 2022
DESCRIPTION:Conférence virtuelle « OCT » mise en place par Arena International\, qui se déroulera les 15 et 16 février 2022. \nCet évènement signe le retour de la principale conférence sur l’externalisation et les opérations cliniques sur la côte ouest. \nVous retrouverez des tables rondes consacrées aux tendances de l’engagement des patients\, aux dernières stratégies d’externalisation et à la manière de créer un paysage d’essais cliniques\, dans lequel les petites entreprises auront un meilleur accès à la technologie et à l’innovation. \nÀ propos de la conférence\nLe programme comporte quatre volets dédiés : \n\nOpérations cliniques et sous-traitance\nTechnologie et innovation\nEngagement des patients\nEssais de dispositifs médicaux\n\nLe premier jour débutera avec un groupe d’experts débattant de la durée pendant laquelle nous ressentirons les ondulations de la pandémie ; nous aurons également un discours de la FDA sur leur réponse et les leçons apprises après COVID-19. Ensuite\, les participants au volet Engagement des patients auront l’occasion de débattre de la meilleure façon d’inclure la voix des patients dans les essais cliniques et de la meilleure approche de recrutement. \nLa deuxième journée traitera de la manière de mener efficacement des essais de dispositifs médicaux\, aux niveaux local et mondial\, avec des notes et des sessions clés sur les réglementations pertinentes\, la technologie numérique et l’innovation. \n\n Inscription  \n 
URL:https://www.afssi.fr/event/evenement-outsourcing-in-clinical-trials-west-coast-2022/
LOCATION:Format digital
CATEGORIES:Evénement filière
ATTACH;FMTTYPE=image/jpeg:https://www.afssi.fr/wp-content/uploads/2022/01/Outsourcing-in-clinical-trials-west-coast-2022.jpg
END:VEVENT
END:VCALENDAR