BEGIN:VCALENDAR
VERSION:2.0
PRODID:-//AFSSI Sciences de la Vie - ECPv5.14.1//NONSGML v1.0//EN
CALSCALE:GREGORIAN
METHOD:PUBLISH
X-WR-CALNAME:AFSSI Sciences de la Vie
X-ORIGINAL-URL:https://www.afssi.fr
X-WR-CALDESC:Events for AFSSI Sciences de la Vie
REFRESH-INTERVAL;VALUE=DURATION:PT1H
X-Robots-Tag:noindex
X-PUBLISHED-TTL:PT1H
BEGIN:VTIMEZONE
TZID:Europe/Paris
BEGIN:DAYLIGHT
TZOFFSETFROM:+0100
TZOFFSETTO:+0200
TZNAME:CEST
DTSTART:20210328T010000
END:DAYLIGHT
BEGIN:STANDARD
TZOFFSETFROM:+0200
TZOFFSETTO:+0100
TZNAME:CET
DTSTART:20211031T010000
END:STANDARD
END:VTIMEZONE
BEGIN:VEVENT
DTSTART;VALUE=DATE:20210826
DTEND;VALUE=DATE:20210829
DTSTAMP:20260425T033321
CREATED:20210420T122347Z
LAST-MODIFIED:20210420T124837Z
UID:117782-1629936000-1630195199@www.afssi.fr
SUMMARY:International Conference on Plant and Molecular Biology
DESCRIPTION:La conférence internationale sur la biologie végétale et moléculaire (PMB 2021) aura lieu du 26 au 28 août 2021\, sous forme de webinaire. \nCette réunion comprend plusieurs sessions interactives\, spécialement conçues pour une activité éducative hautement acclamée\, qui a été considérée comme l’une des réunions prédominantes sur ce sujet. L’objectif de la Conférence est de renforcer l’approche interdisciplinaire pour l’innovation et l’invention dans la recherche en science des plantes.\n\nLes présentations seront choisies en fonction de leur articulation\, de leur conception et d’autres caractéristiques\, qui couvrent des aspects plus larges de la recherche en phytologie\, ainsi que de ses politiques liées aux thèmes. Le comité vise à créer un environnement de réseau amical et chaleureux entre les participants\, permettant de partager leurs idées et jeter les bases d’une vision et d’un développement futur. \n\n\n\n\n\nPlus d’informations
URL:https://www.afssi.fr/event/international-conference-on-plant-and-molecular-biology/
LOCATION:Format digital
CATEGORIES:Evénement filière
ATTACH;FMTTYPE=image/jpeg:https://www.afssi.fr/wp-content/uploads/2021/04/banner-event-PlantMolecular-biology.jpg
ORGANIZER;CN="Hazel%20Group":MAILTO:plantbiology@hazelgroup.net
END:VEVENT
END:VCALENDAR